{"text_format":"1","workbook":"xlsx","n_sheets":8,"sheets":["覚え書き","生徒データ","学籍の記録","総学ほか","学習の記録","修得単位数の記録（卒業、転学時）","所見データ","教員データ"],"not_rendered":{"charts":0,"images":0,"macros":1,"external_links":1,"defined_names":46,"comments":1,"pivot_tables":0},"unopened":[],"bounds":{"document_bytes":16777216,"sheet_cells":100000,"rows_first":2000,"rows_last":500,"rows_between":2000,"halvings":0,"cell_chars":16384,"cell_head_chars":4096},"cells_cut":0,"cells_raw":0,"read":"whole","date_system":"1900"}

{"sheet":"覚え書き","index":0,"n_rows":35,"n_cols":7,"rows_kept":35,"cut":false,"hidden":false,"merged":[]}
[]
[null,"学籍の記録の整理番号を書き換えると全て変わるようにする"]
[null,"データの追加があっても良いようにする"]
[null,null,"Vlookupは工夫して使う。"]
[null,null,"=VLOOKUP(O7,生徒データリスト,MATCH(\"生徒氏名\",生徒データ!5:5,0),FALSE)"]
[null,null,null,"生徒ID","データ範囲","MATCH関数でデータの番号を取得"]
[null,null,null,null,null,null,"データを取得するラベル"]
[null,null,null,null,null,null,"データ範囲。ここは範囲指定"]
[null,null,null,null,null,null,"０で完全一致"]
[]
[null,null,null,"↓バッドノウハウ。これを下につけるといろいろうまくいく"]
[null,null,null,"&\"\"","これはVlookupで０が出るようになる"]
[null,null,null,"*1","これはVlokupでSUMで計算できるようになる"]
[]
[]
[]
[]
[null,null,"２年はここをコピー"]
[]
[null,null,"INDEX(生徒データ!A8:C247,MATCH(学籍の記録!P8,_1年,0),2)"]
[]
[]
[]
[]
[]
[]
[]
[]
[]
[]
[]
[]
[null,null,"単位数が０→落とした。欠時オーバーかどうかわからない"]
[null,null,"評定が１→欠時数は足りているが、落とした"]
[null,null,"評定が０→欠時数オーバー or 途中でいなくなった人"]

{"sheet":"生徒データ","index":1,"n_rows":250,"n_cols":783,"rows_kept":69,"cut":true,"hidden":false,"merged":[[2,729,2,754],[3,730,3,735],[3,745,3,754],[2,757,2,782],[3,758,3,763],[3,773,3,782],[3,736,3,744],[3,764,3,772],[2,672,2,698],[3,673,3,678],[3,680,3,688],[3,689,3,698],[2,701,2,726],[3,702,3,707],[3,717,3,726],[3,708,3,716],[1,608,1,669],[2,608,2,641],[2,642,2,667],[3,608,3,611],[3,612,3,615],[3,616,3,617],[3,618,3,622],[3,623,3,627],[3,628,3,629],[3,630,3,632],[3,633,3,635],[3,636,3,637],[3,638,3,639],[3,642,3,650],[3,656,3,660],[3,661,3,663],[3,668,3,669],[3,473,3,474],[1,413,1,474],[2,413,2,446],[2,447,2,472],[3,413,3,416],[3,417,3,420],[3,421,3,422],[3,423,3,427],[3,428,3,432],[3,433,3,434],[3,435,3,437],[3,438,3,440],[3,441,3,442],[3,443,3,444],[3,447,3,455],[3,461,3,465],[3,466,3,468],[1,348,1,409],[2,348,2,381],[2,382,2,407],[3,348,3,351],[3,352,3,355],[3,356,3,357],[3,358,3,362],[3,363,3,367],[3,368,3,369],[3,370,3,372],[3,373,3,375],[3,376,3,377],[3,378,3,379],[3,382,3,390],[3,396,3,400],[3,401,3,403],[3,408,3,409],[1,283,1,344],[2,283,2,316],[2,317,2,342],[3,283,3,286],[3,287,3,290],[3,291,3,292],[3,293,3,297],[3,298,3,302],[3,303,3,304],[3,305,3,307],[3,308,3,310],[3,311,3,312],[3,313,3,314],[3,317,3,325],[3,331,3,335],[3,336,3,338],[3,343,3,344],[3,206,3,208],[3,213,3,214],[1,218,1,279],[2,218,2,251],[2,252,2,277],[3,218,3,221],[3,222,3,225],[3,226,3,227],[3,228,3,232],[3,233,3,237],[3,238,3,239],[3,240,3,242],[3,243,3,245],[3,246,3,247],[3,248,3,249],[3,252,3,260],[3,266,3,270],[3,271,3,273],[3,278,3,279],[1,88,1,149],[1,153,1,214],[2,153,2,186],[2,187,2,212],[3,153,3,156],[3,157,3,160],[3,161,3,162],[3,163,3,167],[3,168,3,172],[3,173,3,174],[3,175,3,177],[3,178,3,180],[3,181,3,182],[3,183,3,184],[3,187,3,195],[3,201,3,205],[3,98,3,102],[3,96,3,97],[3,92,3,95],[3,88,3,91],[2,122,2,147],[2,88,2,121],[3,116,3,117],[3,113,3,115],[3,110,3,112],[3,108,3,109],[3,103,3,107],[3,136,3,140],[3,141,3,143],[3,148,3,149],[3,122,3,130],[3,118,3,119],[3,83,3,84],[3,0,3,2],[1,3,1,20],[3,14,3,15],[3,5,3,7],[2,3,2,10],[2,11,2,13],[2,14,2,16],[2,18,2,20],[1,23,1,84],[3,71,3,75],[3,76,3,78],[2,57,2,82],[3,45,3,47],[3,48,3,50],[2,23,2,56],[3,57,3,65],[3,53,3,54],[3,51,3,52],[3,23,3,26],[3,27,3,30],[3,31,3,32],[3,33,3,37],[3,38,3,42],[3,43,3,44],[3,603,3,604],[1,543,1,604],[2,478,2,511],[2,512,2,537],[2,543,2,576],[2,577,2,602],[3,478,3,481],[3,482,3,485],[3,486,3,487],[3,488,3,492],[3,493,3,497],[3,498,3,499],[3,500,3,502],[3,503,3,505],[3,506,3,507],[3,508,3,509],[3,512,3,520],[3,526,3,530],[3,531,3,533],[3,538,3,539],[3,543,3,546],[3,547,3,550],[3,551,3,552],[3,553,3,557],[1,478,1,539],[3,563,3,564],[3,565,3,567],[3,568,3,570],[3,571,3,572],[3,573,3,574],[3,577,3,585],[3,591,3,595],[3,596,3,598],[3,558,3,562]],"bounds":{"rows_first":31,"rows_last":7,"rows_between":31,"halvings":6}}
[null,null,null,null,null,null,null,null,null,null,null,null,null,null,null,null,null,null,null,null,null,null,null,null,null,null,null,null,null,null,null,null,null,null,null,null,null,null,null,null,null,null,null,null,null,null,null,null,null,null,null,null,null,null,null,null,null,null,null,null,null,null,null,null,null,null,null,null,null,null,null,null,null,null,null,null,null,null,null,null,null,null,null,null,null,null,null,null,null,null,null,null,null,null,null,null,null,null,null,null,null,null,null,null,null,null,null,null,null,null,null,null,null,null,null,null,null,null,null,null,null,null,null,null,null,null,null,null,null,null,null,null,null,null,null,null,null,null,null,null,null,null,null,null,null,null,null,null,null,null,null,null,null,null,null,null,null,null,null,null,null,null,null,null,null,null,null,null,null,null,null,null,null,null,null,null,null,null,null,null,null,null,null,null,null,null,null,null,null,null,null,null,null,null,null,null,null,null,null,null,null,null,null,null,null,null,null,null,null,null,null,null,null,null,null,null,null,null,null,null,null,null,null,null,null,null,null,null,null,null,null,null,null,null,null,null,null,null,null,null,null,null,null,null,null,null,null,null,null,null,null,null,null,null,null,null,null,null,null,null,null,null,null,null,null,null,null,null,null,null,null,null,null,null,null,null,null,null,null,null,null,null,null,null,null,null,null,null,null,null,null,null,null,null,null,null,null,null,null,null,null,null,null,null,null,null,null,null,null,null,null,null,null,null,null,null,null,null,null,null,null,null,null,null,null,null,null,null,null,null,null,null,null,null,null,null,null,null,null,null,null,null,null,null,null,null,null,null,null,null,null,null,null,null,null,null,null,null,null,null,null,null,null,null,null,null,null,null,null,null,null,null,null,null,null,null,null,null,null,null,null,null,null,null,null,null,null,null,null,null,null,null,null,null,null,null,null,null,null,null,null,null,null,null,null,null,null,null,null,null,null,null,null,null,null,null,null,null,null,null,null,null,null,null,null,null,null,null,null,null,null,null,null,null,null,null,null,null,null,null,null,null,null,null,null,null,null,null,null,null,null,null,null,null,null,null,null,null,null,null,null,null,null,null,null,null,null,null,null,null,null,null,null,null,null,null,null,null,null,null,null,null,null,null,null,null,null,null,null,null,null,null,null,null,null,null,null,null,null,null,null,null,null,null,null,null,null,null,null,null,null,null,null,null,null,null,null,null,null,null,null,null,null,null,null,null,null,null,null,null,null,null,null,null,null,null,null,null,null,null,null,null,null,null,null,null,null,null,null,null,null,null,null,null,null,null,null,null,null,null,null,null,null,null,null,null,null,null,null,null,null,null,null,null,null,null,null,null,null,null,null,null,null,null,null,null,null,null,null,null,null,null,null,null,null,null,null,null,null,null,null,null,null,null,null,null,null,null,null,null,null,null,null,null,null,null,null,null,null,null,null,null,null,null,null,null,null,null,null,null,null,null,null,null,null,null,null,null,null,null,null,null,null,null,null,null,null,null,null,null,null,null,null,null,null,null,null,null,null,null,null,null,null,null,null,null,null,null,null,null,null,null,null,null,null,null,"長"]
[null,null,null,"学籍の記録",null,null,null,null,null,null,null,null,null,null,null,null,null,null,null,null,null,null,null,"修得単位数の記録(卒業時に入力)",null,null,null,null,null,null,null,null,null,null,null,null,null,null,null,null,null,null,null,null,null,null,null,null,null,null,null,null,null,null,null,null,null,null,null,null,null,null,null,null,null,null,null,null,null,null,null,null,null,null,null,null,null,null,null,null,null,null,null,null,null,null,null,null,"１年 単位数",null,null,null,null,null,null,null,null,null,null,null,null,null,null,null,null,null,null,null,null,null,null,null,null,null,null,null,null,null,null,null,null,null,null,null,null,null,null,null,null,null,null,null,null,null,null,null,null,null,null,null,null,null,null,null,null,null,null,null,null,null,null,null,null,"１年 評定",null,null,null,null,null,null,null,null,null,null,null,null,null,null,null,null,null,null,null,null,null,null,null,null,null,null,null,null,null,null,null,null,null,null,null,null,null,null,null,null,null,null,null,null,null,null,null,null,null,null,null,null,null,null,null,null,null,null,null,null,null,null,null,null,"２年 単位数",null,null,null,null,null,null,null,null,null,null,null,null,null,null,null,null,null,null,null,null,null,null,null,null,null,null,null,null,null,null,null,null,null,null,null,null,null,null,null,null,null,null,null,null,null,null,null,null,null,null,null,null,null,null,null,null,null,null,null,null,null,null,null,null,"２年 評定",null,null,null,null,null,null,null,null,null,null,null,null,null,null,null,null,null,null,null,null,null,null,null,null,null,null,null,null,null,null,null,null,null,null,null,null,null,null,null,null,null,null,null,null,null,null,null,null,null,null,null,null,null,null,null,null,null,null,null,null,null,null,null,null,"３年 単位数",null,null,null,null,null,null,null,null,null,null,null,null,null,null,null,null,null,null,null,null,null,null,null,null,null,null,null,null,null,null,null,null,null,null,null,null,null,null,null,null,null,null,null,null,null,null,null,null,null,null,null,null,null,null,null,null,null,null,null,null,null,null,null,null,"３年 評定",null,null,null,null,null,null,null,null,null,null,null,null,null,null,null,null,null,null,null,null,null,null,null,null,null,null,null,null,null,null,null,null,null,null,null,null,null,null,null,null,null,null,null,null,null,null,null,null,null,null,null,null,null,null,null,null,null,null,null,null,null,null,null,null,"４年 単位数",null,null,null,null,null,null,null,null,null,null,null,null,null,null,null,null,null,null,null,null,null,null,null,null,null,null,null,null,null,null,null,null,null,null,null,null,null,null,null,null,null,null,null,null,null,null,null,null,null,null,null,null,null,null,null,null,null,null,null,null,null,null,null,null,"４年 評定",null,null,null,null,null,null,null,null,null,null,null,null,null,null,null,null,null,null,null,null,null,null,null,null,null,null,null,null,null,null,null,null,null,null,null,null,null,null,null,null,null,null,null,null,null,null,null,null,null,null,null,null,null,null,null,null,null,null,null,null,null,null,null,null,"学習の記録備考"]
[null,null,null,"生徒",null,null,null,null,null,null,null,"保護者",null,null,"入学前の記録",null,null,"コース","入学年月日",null,null,null,null,"普通教育に関する各教科・科目",null,null,null,null,null,null,null,null,null,null,null,null,null,null,null,null,null,null,null,null,null,null,null,null,null,null,null,null,null,null,null,null,null,"専門教育に関する各教科・科目",null,null,null,null,null,null,null,null,null,null,null,null,null,null,null,null,null,null,null,null,null,null,null,null,null,null,null,null,null,null,"普通教育に関する各教科・科目",null,null,null,null,null,null,null,null,null,null,null,null,null,null,null,null,null,null,null,null,null,null,null,null,null,null,null,null,null,null,null,null,null,"専門教育に関する各教科・科目",null,null,null,null,null,null,null,null,null,null,null,null,null,null,null,null,null,null,null,null,null,null,null,null,null,null,null,null,null,null,"普通教育に関する各教科・科目",null,null,null,null,null,null,null,null,null,null,null,null,null,null,null,null,null,null,null,null,null,null,null,null,null,null,null,null,null,null,null,null,null,"専門教育に関する各教科・科目",null,null,null,null,null,null,null,null,null,null,null,null,null,null,null,null,null,null,null,null,null,null,null,null,null,null,null,null,null,null,"普通教育に関する各教科・科目",null,null,null,null,null,null,null,null,null,null,null,null,null,null,null,null,null,null,null,null,null,null,null,null,null,null,null,null,null,null,null,null,null,"専門教育に関する各教科・科目",null,null,null,null,null,null,null,null,null,null,null,null,null,null,null,null,null,null,null,null,null,null,null,null,null,null,null,null,null,null,"普通教育に関する各教科・科目",null,null,null,null,null,null,null,null,null,null,null,null,null,null,null,null,null,null,null,null,null,null,null,null,null,null,null,null,null,null,null,null,null,"専門教育に関する各教科・科目",null,null,null,null,null,null,null,null,null,null,null,null,null,null,null,null,null,null,null,null,null,null,null,null,null,null,null,null,null,null,"普通教育に関する各教科・科目",null,null,null,null,null,null,null,null,null,null,null,null,null,null,null,null,null,null,null,null,null,null,null,null,null,null,null,null,null,null,null,null,null,"専門教育に関する各教科・科目",null,null,null,null,null,null,null,null,null,null,null,null,null,null,null,null,null,null,null,null,null,null,null,null,null,null,null,null,null,null,"普通教育に関する各教科・科目",null,null,null,null,null,null,null,null,null,null,null,null,null,null,null,null,null,null,null,null,null,null,null,null,null,null,null,null,null,null,null,null,null,"専門教育に関する各教科・科目",null,null,null,null,null,null,null,null,null,null,null,null,null,null,null,null,null,null,null,null,null,null,null,null,null,null,null,null,null,null,"普通教育に関する各教科・科目",null,null,null,null,null,null,null,null,null,null,null,null,null,null,null,null,null,null,null,null,null,null,null,null,null,null,null,null,null,null,null,null,null,"専門教育に関する各教科・科目",null,null,null,null,null,null,null,null,null,null,null,null,null,null,null,null,null,null,null,null,null,null,null,null,null,null,null,null,null,null,"普通教育に関する各教科・科目",null,null,null,null,null,null,null,null,null,null,null,null,null,null,null,null,null,null,null,null,null,null,null,null,null,null,null,null,null,null,null,null,null,"専門教育に関する各教科・科目",null,null,null,null,null,null,null,null,null,null,null,null,null,null,null,null,null,null,null,null,null,null,null,null,null,null,null,null,null,null,"普通教育に関する各教科・科目",null,null,null,null,null,null,null,null,null,null,null,null,null,null,null,null,null,null,null,null,null,null,null,null,null,null,null,null,null,null,null,null,null,"専門教育に関する各教科・科目",null,null,null,null,null,null,null,null,null,null,null,null,null,null,null,null,null,null,null,null,null,null,null,null,null,null,null,null,null,"１年",null,null,null,null,null,null,null,null,null,null,null,null,null,null,null,null,null,null,null,null,null,null,null,null,null,null,null,null,"２年",null,null,null,null,null,null,null,null,null,null,null,null,null,null,null,null,null,null,null,null,null,null,null,null,null,null,null,"３年",null,null,null,null,null,null,null,null,null,null,null,null,null,null,null,null,null,null,null,null,null,null,null,null,null,null,null,"４年"]
["学籍番号",null,null,null,null,"生年月日",null,null,null,null,null,null,null,null,"卒業年月日",null,"出身中学校",null,null,null,null,null,null,"国語",null,null,null,"地理歴史",null,null,null,"公民",null,"数学",null,null,null,null,"理科",null,null,null,null,"保健体育",null,"芸術",null,null,"外国語",null,null,"家庭",null,"情報",null,"学校設定教科",null,"商業",null,null,null,null,null,null,null,null,"公民","体育","音楽","美術","書道","家庭",null,null,null,null,"英語",null,null,null,null,null,"学校設定科目","その他",null,null,null,null,"国語",null,null,null,"地理歴史",null,null,null,"公民",null,"数学",null,null,null,null,"理科",null,null,null,null,"保健体育",null,"芸術",null,null,"外国語",null,null,"家庭",null,"情報",null,"学校設定教科",null,"商業",null,null,null,null,null,null,null,null,"公民","体育","音楽","美術","書道","家庭",null,null,null,null,"英語",null,null,null,null,null,"学校設定科目","その他",null,null,null,null,"国語",null,null,null,"地理歴史",null,null,null,"公民",null,"数学",null,null,null,null,"理科",null,null,null,null,"保健体育",null,"芸術",null,null,"外国語",null,null,"家庭",null,"情報",null,"学校設定教科",null,"商業",null,null,null,null,null,null,null,null,"公民","体育","音楽","美術","書道","家庭",null,null,null,null,"英語",null,null,null,null,null,"学校設定科目","その他",null,null,null,null,"国語",null,null,null,"地理歴史",null,null,null,"公民",null,"数学",null,null,null,null,"理科",null,null,null,null,"保健体育",null,"芸術",null,null,"外国語",null,null,"家庭",null,"情報",null,"学校設定教科",null,"商業",null,null,null,null,null,null,null,null,"公民","体育","音楽","美術","書道","家庭",null,null,null,null,"英語",null,null,null,null,null,"学校設定科目","その他",null,null,null,null,"国語",null,null,null,"地理歴史",null,null,null,"公民",null,"数学",null,null,null,null,"理科",null,null,null,null,"保健体育",null,"芸術",null,null,"外国語",null,null,"家庭",null,"情報",null,"学校設定教科",null,"商業",null,null,null,null,null,null,null,null,"公民","体育","音楽","美術","書道","家庭",null,null,null,null,"英語",null,null,null,null,null,"学校設定科目","その他",null,null,null,null,"国語",null,null,null,"地理歴史",null,null,null,"公民",null,"数学",null,null,null,null,"理科",null,null,null,null,"保健体育",null,"芸術",null,null,"外国語",null,null,"家庭",null,"情報",null,"学校設定教科",null,"商業",null,null,null,null,null,null,null,null,"公民","体育","音楽","美術","書道","家庭",null,null,null,null,"英語",null,null,null,null,null,"学校設定科目","その他",null,null,null,null,"国語",null,null,null,"地理歴史",null,null,null,"公民",null,"数学",null,null,null,null,"理科",null,null,null,null,"保健体育",null,"芸術",null,null,"外国語",null,null,"家庭",null,"情報",null,"学校設定教科",null,"商業",null,null,null,null,null,null,null,null,"公民","体育","音楽","美術","書道","家庭",null,null,null,null,"英語",null,null,null,null,null,"学校設定科目","その他",null,null,null,null,"国語",null,null,null,"地理歴史",null,null,null,"公民",null,"数学",null,null,null,null,"理科",null,null,null,null,"保健体育",null,"芸術",null,null,"外国語",null,null,"家庭",null,"情報",null,"学校設定教科",null,"商業",null,null,null,null,null,null,null,null,"公民","体育","音楽","美術","書道","家庭",null,null,null,null,"英語",null,null,null,null,null,"学校設定科目","その他",null,null,null,null,"国語",null,null,null,"地理歴史",null,null,null,"公民",null,"数学",null,null,null,null,"理科",null,null,null,null,"保健体育",null,"芸術",null,null,"外国語",null,null,"家庭",null,"情報",null,"学校設定教科",null,"商業",null,null,null,null,null,null,null,null,"公民","体育","音楽","美術","書道","家庭",null,null,null,null,"英語",null,null,null,null,null,"学校設定科目","その他",null,null,null,null,"国語",null,null,null,"地理歴史",null,null,null,"公民",null,"数学",null,null,null,null,"理科",null,null,null,null,"保健体育",null,"芸術",null,null,"外国語",null,null,"家庭",null,"情報",null,"学校設定教科",null,"商業",null,null,null,null,null,null,null,null,"公民","体育","音楽","美術","書道","家庭",null,null,null,null,"英語",null,null,null,null,null,"学校設定科目","その他",null,null,null,"総学","特別活動",null,null,null,null,null,null,"総合所見等",null,null,null,null,null,null,null,null,"出欠の記録",null,null,null,null,null,null,null,null,null,null,null,"総学","特別活動",null,null,null,null,null,"総合所見等",null,null,null,null,null,null,null,null,"出欠の記録",null,null,null,null,null,null,null,null,null,null,null,"総学","特別活動",null,null,null,null,null,"総合所見等",null,null,null,null,null,null,null,null,"出欠の記録",null,null,null,null,null,null,null,null,null,null,null,"総学","特別活動",null,null,null,null,null,"総合所見等",null,null,null,null,null,null,null,null,"出欠の記録"]
[null,null,null,null,null,null,null,null,null,null,null,null,null,null,null,null,null,null,null,null,null,null,"情報",{"$f":"IF(SUM(CK5,HK5,MK5,RK5)<>0,SUM(CK5,HK5,MK5,RK5),\"\")","v":""},3,"","","","","","",3,"",{"$f":"IF(SUM(CU5,HU5,MU5,RU5)<>0,SUM(CU5,HU5,MU5,RU5),\"\")","v":3},"","","","","","","","","",{"$f":"IF(SUM(DE5,IE5,NE5,SE5)<>0,SUM(DE5,IE5,NE5,SE5),\"\")","v":3},1,2,"","","",3,"","",2,{"$f":"IF(SUM(DO5,IO5,NO5,SO5)<>0,SUM(DO5,IO5,NO5,SO5),\"\")","v":""},"","","","","","",4,"","",{"$f":"IF(SUM(DY5,IY5,NY5,SY5)<>0,SUM(DY5,IY5,NY5,SY5),\"\")","v":4},"","","","","","","","","",{"$f":"IF(SUM(EI5,JI5,OI5,TI5)<>0,SUM(EI5,JI5,OI5,TI5),\"\")","v":""},"","","","","",null,null,null,null,null,null,null,null,null,null,3,null,null,null,null,null,null,3,null,3,null,null,null,null,null,null,null,null,null,3,1,2,null,null,null,3,null,null,2,null,null,null,null,null,null,null,4,null,null,4]
[null,null,null,null,null,null,null,null,null,null,null,null,null,null,null,null,null,null,null,null,null,null,"普通","",3,"","","","","","",3,"",3,"","","","",2,"","","","",3,1,2,"","",2,3,"","",2,2,"","","","","",2,"","","","","","","","","","","","","","","","","","","",null,null,null,null,null,null,null,null,null,null,3,null,null,null,null,null,null,3,null,3,null,null,null,null,2,null,null,null,null,3,1,2,null,null,2,3,null,null,2,2,null,null,null,null,null,2]
["1年","2年","3年","生徒氏名","生徒ふりがな","生徒誕生年","生徒誕生月","生徒誕生日","性別","生徒現住所市","生徒現住所番地","保護者氏名","保護者ふりがな","保護者現住所","卒業年","卒業月","出身中市名","～コース","入学年","入学月","入学日","学籍番号","芸術","国語表現Ⅰ","国語総合","現代文","古典","地理Ａ","世界史Ｂ","日本史Ａ","日本史Ｂ","現代社会","政治・経済","数学Ⅰ","数学Ⅱ","数学Ⅲ","数学Ａ","数学Ｂ","科学と人間生活","化学基礎","化学","生物基礎","生物","体育","保健","芸術Ⅰ","芸術Ⅱ","芸術Ⅲ","オーラル・コミュニケーションⅠ","英語Ⅰ","英語Ⅱ","家庭基礎","家庭総合","情報Ａ","情報Ｃ",null,null,"ビジネス基礎","課題研究","商業技術","簿記","会計","原価計算","情報処理","ビジネス情報","文書デザイン","国際関係","スポーツⅡ","器楽","絵画","実用の書","発達と保育","リビングデザイン","被服製作","服飾手芸","フードデザイン","異文化理解","生活英語","時事英語",null,null,null,null,"総学","留学",null,{"$f":"V7","v":"学籍番号"},{"$f":"W7","v":"芸術"},"国語表現Ⅰ","国語総合","現代文","古典","地理Ａ","世界史Ｂ","日本史Ａ","日本史Ｂ","現代社会","政治・経済","数学Ⅰ","数学Ⅱ","数学Ⅲ","数学Ａ","数学Ｂ","科学と人間生活","化学基礎","化学","生物基礎","生物","体育","保健","芸術Ⅰ","芸術Ⅱ","芸術Ⅲ","オーラル・コミュニケーションⅠ","英語Ⅰ","英語Ⅱ","家庭基礎","家庭総合","情報Ａ","情報Ｃ",0,0,"ビジネス基礎","課題研究","商業技術","簿記","会計","原価計算","情報処理","ビジネス情報","文書デザイン","国際関係","スポーツⅡ","器楽","絵画","実用の書","発達と保育","リビングデザイン","被服製作","服飾手芸","フードデザイン","異文化理解","生活英語","時事英語",0,0,0,0,"総学","留学",null,null,"芸術",{"$f":"CK7","v":"国語表現Ⅰ"},"国語総合","現代文","古典","地理Ａ","世界史Ｂ","日本史Ａ","日本史Ｂ","現代社会","政治・経済","数学Ⅰ","数学Ⅱ","数学Ⅲ","数学Ａ","数学Ｂ","科学と人間生活","化学基礎","化学","生物基礎","生物","体育","保健","芸術Ⅰ","芸術Ⅱ","芸術Ⅲ","オーラル・コミュニケーションⅠ","英語Ⅰ","英語Ⅱ","家庭基礎","家庭総合","情報Ａ","情報Ｃ",{"$f":"DQ7","v":0},0,"ビジネス基礎","課題研究","商業技術","簿記","会計","原価計算","情報処理","ビジネス情報","文書デザイン","国際関係","スポーツⅡ","器楽","絵画","実用の書","発達と保育","リビングデザイン","被服製作","服飾手芸","フードデザイン","異文化理解","生活英語","時事英語",0,0,0,0,"総学","留学",null,null,"芸術",{"$f":"EX7","v":"国語表現Ⅰ"},"国語総合","現代文","古典","地理Ａ","世界史Ｂ","日本史Ａ","日本史Ｂ","現代社会","政治・経済","数学Ⅰ","数学Ⅱ","数学Ⅲ","数学Ａ","数学Ｂ","科学と人間生活","化学基礎","化学","生物基礎","生物","体育","保健","芸術Ⅰ","芸術Ⅱ","芸術Ⅲ","オーラル・コミュニケーションⅠ","英語Ⅰ","英語Ⅱ","家庭基礎","家庭総合","情報Ａ","情報Ｃ",{"$f":"GD7","v":0},0,"ビジネス基礎","課題研究","商業技術","簿記","会計","原価計算","情報処理","ビジネス情報","文書デザイン","国際関係","スポーツⅡ","器楽","絵画","実用の書","発達と保育","リビングデザイン","被服製作","服飾手芸","フードデザイン","異文化理解","生活英語","時事英語",0,0,0,0,"総学","留学",null,null,"芸術",{"$f":"HK7","v":"国語表現Ⅰ"},"国語総合","現代文","古典","地理Ａ","世界史Ｂ","日本史Ａ","日本史Ｂ","現代社会","政治・経済","数学Ⅰ","数学Ⅱ","数学Ⅲ","数学Ａ","数学Ｂ","科学と人間生活","化学基礎","化学","生物基礎","生物","体育","保健","芸術Ⅰ","芸術Ⅱ","芸術Ⅲ","オーラル・コミュニケーションⅠ","英語Ⅰ","英語Ⅱ","家庭基礎","家庭総合","情報Ａ","情報Ｃ",{"$f":"IQ7","v":0},0,"ビジネス基礎","課題研究","商業技術","簿記","会計","原価計算","情報処理","ビジネス情報","文書デザイン","国際関係","スポーツⅡ","器楽","絵画","実用の書","発達と保育","リビングデザイン","被服製作","服飾手芸","フードデザイン","異文化理解","生活英語","時事英語",0,0,0,0,"総学","留学",null,null,"芸術",{"$f":"JX7","v":"国語表現Ⅰ"},"国語総合","現代文","古典","地理Ａ","世界史Ｂ","日本史Ａ","日本史Ｂ","現代社会","政治・経済","数学Ⅰ","数学Ⅱ","数学Ⅲ","数学Ａ","数学Ｂ","科学と人間生活","化学基礎","化学","生物基礎","生物","体育","保健","芸術Ⅰ","芸術Ⅱ","芸術Ⅲ","オーラル・コミュニケーションⅠ","英語Ⅰ","英語Ⅱ","家庭基礎","家庭総合","情報Ａ","情報Ｃ",{"$f":"LD7","v":0},0,"ビジネス基礎","課題研究","商業技術","簿記","会計","原価計算","情報処理","ビジネス情報","文書デザイン","国際関係","スポーツⅡ","器楽","絵画","実用の書","発達と保育","リビングデザイン","被服製作","服飾手芸","フードデザイン","異文化理解","生活英語","時事英語",0,0,0,0,"総学","留学",null,null,"芸術",{"$f":"MK7","v":"国語表現Ⅰ"},"国語総合","現代文","古典","地理Ａ","世界史Ｂ","日本史Ａ","日本史Ｂ","現代社会","政治・経済","数学Ⅰ","数学Ⅱ","数学Ⅲ","数学Ａ","数学Ｂ","科学と人間生活","化学基礎","化学","生物基礎","生物","体育","保健","芸術Ⅰ","芸術Ⅱ","芸術Ⅲ","オーラル・コミュニケーションⅠ","英語Ⅰ","英語Ⅱ","家庭基礎","家庭総合","情報Ａ","情報Ｃ",{"$f":"NQ7","v":0},0,"ビジネス基礎","課題研究","商業技術","簿記","会計","原価計算","情報処理","ビジネス情報","文書デザイン","国際関係","スポーツⅡ","器楽","絵画","実用の書","発達と保育","リビングデザイン","被服製作","服飾手芸","フードデザイン","異文化理解","生活英語","時事英語",0,0,0,0,"総学","留学",null,null,"芸術",{"$f":"OX7","v":"国語表現Ⅰ"},"国語総合","現代文","古典","地理Ａ","世界史Ｂ","日本史Ａ","日本史Ｂ","現代社会","政治・経済","数学Ⅰ","数学Ⅱ","数学Ⅲ","数学Ａ","数学Ｂ","科学と人間生活","化学基礎","化学","生物基礎","生物","体育","保健","芸術Ⅰ","芸術Ⅱ","芸術Ⅲ","オーラル・コミュニケーションⅠ","英語Ⅰ","英語Ⅱ","家庭基礎","家庭総合","情報Ａ","情報Ｃ",{"$f":"QD7","v":0},0,"ビジネス基礎","課題研究","商業技術","簿記","会計","原価計算","情報処理","ビジネス情報","文書デザイン","国際関係","スポーツⅡ","器楽","絵画","実用の書","発達と保育","リビングデザイン","被服製作","服飾手芸","フードデザイン","異文化理解","生活英語","時事英語",0,0,0,0,"総学","留学",null,null,"芸術",{"$f":"RK7","v":"国語表現Ⅰ"},"国語総合","現代文","古典","地理Ａ","世界史Ｂ","日本史Ａ","日本史Ｂ","現代社会","政治・経済","数学Ⅰ","数学Ⅱ","数学Ⅲ","数学Ａ","数学Ｂ","科学と人間生活","化学基礎","化学","生物基礎","生物","体育","保健","芸術Ⅰ","芸術Ⅱ","芸術Ⅲ","オーラル・コミュニケーションⅠ","英語Ⅰ","英語Ⅱ","家庭基礎","家庭総合","情報Ａ","情報Ｃ",{"$f":"SQ7","v":0},0,"ビジネス基礎","課題研究","商業技術","簿記","会計","原価計算","情報処理","ビジネス情報","文書デザイン","国際関係","スポーツⅡ","器楽","絵画","実用の書","発達と保育","リビングデザイン","被服製作","服飾手芸","フードデザイン","異文化理解","生活英語","時事英語",0,0,0,0,"総学","留学",null,null,"芸術",{"$f":"TX7","v":"国語表現Ⅰ"},"国語総合","現代文","古典","地理Ａ","世界史Ｂ","日本史Ａ","日本史Ｂ","現代社会","政治・経済","数学Ⅰ","数学Ⅱ","数学Ⅲ","数学Ａ","数学Ｂ","科学と人間生活","化学基礎","化学","生物基礎","生物","体育","保健","芸術Ⅰ","芸術Ⅱ","芸術Ⅲ","オーラル・コミュニケーションⅠ","英語Ⅰ","英語Ⅱ","家庭基礎","家庭総合","情報Ａ","情報Ｃ",{"$f":"VD7","v":0},0,"ビジネス基礎","課題研究","商業技術","簿記","会計","原価計算","情報処理","ビジネス情報","文書デザイン","国際関係","スポーツⅡ","器楽","絵画","実用の書","発達と保育","リビングデザイン","被服製作","服飾手芸","フードデザイン","異文化理解","生活英語","時事英語",0,0,0,0,"総学","留学",null,null,"評価","部活","部活２","委員会","委員長","係","内容","番号","所見","進路希望","取得資格１","取得資格２","取得資格３","取得資格４","取得資格５","取得資格６","取得資格７","遅刻","早退","授業日数","出停","出席しなければ","欠席","出席","留学","出停理由","欠席理由",null,null,"評価","部活","部活２","委員会","委員長","係","内容","所見","進路希望","取得資格１","取得資格２","取得資格３","取得資格４","取得資格５","取得資格６","取得資格７","遅刻","早退","授業日数","出停","出席しなければ","欠席","出席","留学","出停理由","欠席理由",null,null,"評価","部活","部活２","委員会","委員長","係","内容","所見","進路希望","取得資格１","取得資格２","取得資格３","取得資格４","取得資格５","取得資格６","取得資格７","遅刻","早退","授業日数","出停","出席しなければ","欠席","出席","留学","出停理由","欠席理由",null,null,"評価","部活","部活２","委員会","委員長","係","内容","所見","進路希望","取得資格１","取得資格２","取得資格３","取得資格４","取得資格５","取得資格６","取得資格７","遅刻","早退","授業日数","出停","出席しなければ","欠席","出席","留学","出停理由","欠席理由"]
[1101,null,null,"生徒氏名","せいとふりがな",12,1,1,"男","住所 ～市","住所 ～番地","保護者氏名","ほごしゃふりがな","生徒欄と同様",24,3,"～市立第一","( ～ コース)",24,4,1,{"$f":"A8","v":1101},"音楽",{"$f":"IF(AND(SUM(CK8,HK8,MK8,RK8)=0,SUM(EX8,JX8,OX8,TX8)=0),\"\",IF(SUM(EX8,JX8,OX8,TX8)=1,\"(\"&X$5&\")\",SUM(CK8,HK8,MK8,RK8)))","v":""},{"$f":"IF(AND(SUM(CL8,HL8,ML8,RL8)=0,SUM(EY8,JY8,OY8,TY8)=0),\"\",IF(SUM(EY8,JY8,OY8,TY8)=1,\"(\"&Y$5&\")\",SUM(CL8,HL8,ML8,RL8)))","v":3},{"$f":"IF(AND(SUM(CM8,HM8,MM8,RM8)=0,SUM(EZ8,JZ8,OZ8,TZ8)=0),\"\",IF(SUM(EZ8,JZ8,OZ8,TZ8)=1,\"(\"&Z$5&\")\",SUM(CM8,HM8,MM8,RM8)))","v":""},{"$f":"IF(AND(SUM(CN8,HN8,MN8,RN8)=0,SUM(FA8,KA8,PA8,UA8)=0),\"\",IF(SUM(FA8,KA8,PA8,UA8)=1,\"(\"&AA$5&\")\",SUM(CN8,HN8,MN8,RN8)))","v":""},{"$f":"IF(AND(SUM(CO8,HO8,MO8,RO8)=0,SUM(FB8,KB8,PB8,UB8)=0),\"\",IF(SUM(FB8,KB8,PB8,UB8)=1,\"(\"&AB$5&\")\",SUM(CO8,HO8,MO8,RO8)))","v":""},{"$f":"IF(AND(SUM(CP8,HP8,MP8,RP8)=0,SUM(FC8,KC8,PC8,UC8)=0),\"\",IF(SUM(FC8,KC8,PC8,UC8)=1,\"(\"&AC$5&\")\",SUM(CP8,HP8,MP8,RP8)))","v":""},{"$f":"IF(AND(SUM(CQ8,HQ8,MQ8,RQ8)=0,SUM(FD8,KD8,PD8,UD8)=0),\"\",IF(SUM(FD8,KD8,PD8,UD8)=1,\"(\"&AD$5&\")\",SUM(CQ8,HQ8,MQ8,RQ8)))","v":""},{"$f":"IF(AND(SUM(CR8,HR8,MR8,RR8)=0,SUM(FE8,KE8,PE8,UE8)=0),\"\",IF(SUM(FE8,KE8,PE8,UE8)=1,\"(\"&AE$5&\")\",SUM(CR8,HR8,MR8,RR8)))","v":""},{"$f":"IF(AND(SUM(CS8,HS8,MS8,RS8)=0,SUM(FF8,KF8,PF8,UF8)=0),\"\",IF(SUM(FF8,KF8,PF8,UF8)=1,\"(\"&AF$5&\")\",SUM(CS8,HS8,MS8,RS8)))","v":3},{"$f":"IF(AND(SUM(CT8,HT8,MT8,RT8)=0,SUM(FG8,KG8,PG8,UG8)=0),\"\",IF(SUM(FG8,KG8,PG8,UG8)=1,\"(\"&AG$5&\")\",SUM(CT8,HT8,MT8,RT8)))","v":""},{"$f":"IF(AND(SUM(CU8,HU8,MU8,RU8)=0,SUM(FH8,KH8,PH8,UH8)=0),\"\",IF(SUM(FH8,KH8,PH8,UH8)=1,\"(\"&AH$5&\")\",SUM(CU8,HU8,MU8,RU8)))","v":3},{"$f":"IF(AND(SUM(CV8,HV8,MV8,RV8)=0,SUM(FI8,KI8,PI8,UI8)=0),\"\",IF(SUM(FI8,KI8,PI8,UI8)=1,\"(\"&AI$5&\")\",SUM(CV8,HV8,MV8,RV8)))","v":""},{"$f":"IF(AND(SUM(CW8,HW8,MW8,RW8)=0,SUM(FJ8,KJ8,PJ8,UJ8)=0),\"\",IF(SUM(FJ8,KJ8,PJ8,UJ8)=1,\"(\"&AJ$5&\")\",SUM(CW8,HW8,MW8,RW8)))","v":""},{"$f":"IF(AND(SUM(CX8,HX8,MX8,RX8)=0,SUM(FK8,KK8,PK8,UK8)=0),\"\",IF(SUM(FK8,KK8,PK8,UK8)=1,\"(\"&AK$5&\")\",SUM(CX8,HX8,MX8,RX8)))","v":""},{"$f":"IF(AND(SUM(CY8,HY8,MY8,RY8)=0,SUM(FL8,KL8,PL8,UL8)=0),\"\",IF(SUM(FL8,KL8,PL8,UL8)=1,\"(\"&AL$5&\")\",SUM(CY8,HY8,MY8,RY8)))","v":""},{"$f":"IF(AND(SUM(CZ8,HZ8,MZ8,RZ8)=0,SUM(FM8,KM8,PM8,UM8)=0),\"\",IF(SUM(FM8,KM8,PM8,UM8)=1,\"(\"&AM$5&\")\",SUM(CZ8,HZ8,MZ8,RZ8)))","v":""},{"$f":"IF(AND(SUM(DA8,IA8,NA8,SA8)=0,SUM(FN8,KN8,PN8,UN8)=0),\"\",IF(SUM(FN8,KN8,PN8,UN8)=1,\"(\"&AN$5&\")\",SUM(DA8,IA8,NA8,SA8)))","v":""},{"$f":"IF(AND(SUM(DB8,IB8,NB8,SB8)=0,SUM(FO8,KO8,PO8,UO8)=0),\"\",IF(SUM(FO8,KO8,PO8,UO8)=1,\"(\"&AO$5&\")\",SUM(DB8,IB8,NB8,SB8)))","v":""},{"$f":"IF(AND(SUM(DC8,IC8,NC8,SC8)=0,SUM(FP8,KP8,PP8,UP8)=0),\"\",IF(SUM(FP8,KP8,PP8,UP8)=1,\"(\"&AP$5&\")\",SUM(DC8,IC8,NC8,SC8)))","v":""},{"$f":"IF(AND(SUM(DD8,ID8,ND8,SD8)=0,SUM(FQ8,KQ8,PQ8,UQ8)=0),\"\",IF(SUM(FQ8,KQ8,PQ8,UQ8)=1,\"(\"&AQ$5&\")\",SUM(DD8,ID8,ND8,SD8)))","v":""},{"$f":"IF(AND(SUM(DE8,IE8,NE8,SE8)=0,SUM(FR8,KR8,PR8,UR8)=0),\"\",IF(SUM(FR8,KR8,PR8,UR8)=1,\"(\"&AR$5&\")\",SUM(DE8,IE8,NE8,SE8)))","v":3},{"$f":"IF(AND(SUM(DF8,IF8,NF8,SF8)=0,SUM(FS8,KS8,PS8,US8)=0),\"\",IF(SUM(FS8,KS8,PS8,US8)=1,\"(\"&AS$5&\")\",SUM(DF8,IF8,NF8,SF8)))","v":1},{"$f":"IF(AND(SUM(DG8,IG8,NG8,SG8)=0,SUM(FT8,KT8,PT8,UT8)=0),\"\",IF(SUM(FT8,KT8,PT8,UT8)=1,\"(\"&AT$5&\")\",SUM(DG8,IG8,NG8,SG8)))","v":2},{"$f":"IF(AND(SUM(DH8,IH8,NH8,SH8)=0,SUM(FU8,KU8,PU8,UU8)=0),\"\",IF(SUM(FU8,KU8,PU8,UU8)=1,\"(\"&AU$5&\")\",SUM(DH8,IH8,NH8,SH8)))","v":""},{"$f":"IF(AND(SUM(DI8,II8,NI8,SI8)=0,SUM(FV8,KV8,PV8,UV8)=0),\"\",IF(SUM(FV8,KV8,PV8,UV8)=1,\"(\"&AV$5&\")\",SUM(DI8,II8,NI8,SI8)))","v":""},{"$f":"IF(AND(SUM(DJ8,IJ8,NJ8,SJ8)=0,SUM(FW8,KW8,PW8,UW8)=0),\"\",IF(SUM(FW8,KW8,PW8,UW8)=1,\"(\"&AW$5&\")\",SUM(DJ8,IJ8,NJ8,SJ8)))","v":""},{"$f":"IF(AND(SUM(DK8,IK8,NK8,SK8)=0,SUM(FX8,KX8,PX8,UX8)=0),\"\",IF(SUM(FX8,KX8,PX8,UX8)=1,\"(\"&AX$5&\")\",SUM(DK8,IK8,NK8,SK8)))","v":"(3)"},{"$f":"IF(AND(SUM(DL8,IL8,NL8,SL8)=0,SUM(FY8,KY8,PY8,UY8)=0),\"\",IF(SUM(FY8,KY8,PY8,UY8)=1,\"(\"&AY$5&\")\",SUM(DL8,IL8,NL8,SL8)))","v":""},{"$f":"IF(AND(SUM(DM8,IM8,NM8,SM8)=0,SUM(FZ8,KZ8,PZ8,UZ8)=0),\"\",IF(SUM(FZ8,KZ8,PZ8,UZ8)=1,\"(\"&AZ$5&\")\",SUM(DM8,IM8,NM8,SM8)))","v":""},{"$f":"IF(AND(SUM(DN8,IN8,NN8,SN8)=0,SUM(GA8,LA8,QA8,VA8)=0),\"\",IF(SUM(GA8,LA8,QA8,VA8)=1,\"(\"&BA$5&\")\",SUM(DN8,IN8,NN8,SN8)))","v":"(2)"},{"$f":"IF(AND(SUM(DO8,IO8,NO8,SO8)=0,SUM(GB8,LB8,QB8,VB8)=0),\"\",IF(SUM(GB8,LB8,QB8,VB8)=1,\"(\"&BB$5&\")\",SUM(DO8,IO8,NO8,SO8)))","v":""},{"$f":"IF(AND(SUM(DP8,IP8,NP8,SP8)=0,SUM(GC8,LC8,QC8,VC8)=0),\"\",IF(SUM(GC8,LC8,QC8,VC8)=1,\"(\"&BC$5&\")\",SUM(DP8,IP8,NP8,SP8)))","v":""},{"$f":"IF(AND(SUM(DQ8,IQ8,NQ8,SQ8)=0,SUM(GD8,LD8,QD8,VD8)=0),\"\",IF(SUM(GD8,LD8,QD8,VD8)=1,\"(\"&BD$5&\")\",SUM(DQ8,IQ8,NQ8,SQ8)))","v":""},{"$f":"IF(AND(SUM(DR8,IR8,NR8,SR8)=0,SUM(GE8,LE8,QE8,VE8)=0),\"\",IF(SUM(GE8,LE8,QE8,VE8)=1,\"(\"&BE$5&\")\",SUM(DR8,IR8,NR8,SR8)))","v":""},{"$f":"IF(AND(SUM(DS8,IS8,NS8,SS8)=0,SUM(GF8,LF8,QF8,VF8)=0),\"\",IF(SUM(GF8,LF8,QF8,VF8)=1,\"(\"&BF$5&\")\",SUM(DS8,IS8,NS8,SS8)))","v":""},{"$f":"IF(AND(SUM(DT8,IT8,NT8,ST8)=0,SUM(GG8,LG8,QG8,VG8)=0),\"\",IF(SUM(GG8,LG8,QG8,VG8)=1,\"(\"&BG$5&\")\",SUM(DT8,IT8,NT8,ST8)))","v":""},{"$f":"IF(AND(SUM(DU8,IU8,NU8,SU8)=0,SUM(GH8,LH8,QH8,VH8)=0),\"\",IF(SUM(GH8,LH8,QH8,VH8)=1,\"(\"&BH$5&\")\",SUM(DU8,IU8,NU8,SU8)))","v":""},{"$f":"IF(AND(SUM(DV8,IV8,NV8,SV8)=0,SUM(GI8,LI8,QI8,VI8)=0),\"\",IF(SUM(GI8,LI8,QI8,VI8)=1,\"(\"&BI$5&\")\",SUM(DV8,IV8,NV8,SV8)))","v":4},{"$f":"IF(AND(SUM(DW8,IW8,NW8,SW8)=0,SUM(GJ8,LJ8,QJ8,VJ8)=0),\"\",IF(SUM(GJ8,LJ8,QJ8,VJ8)=1,\"(\"&BJ$5&\")\",SUM(DW8,IW8,NW8,SW8)))","v":""},{"$f":"IF(AND(SUM(DX8,IX8,NX8,SX8)=0,SUM(GK8,LK8,QK8,VK8)=0),\"\",IF(SUM(GK8,LK8,QK8,VK8)=1,\"(\"&BK$5&\")\",SUM(DX8,IX8,NX8,SX8)))","v":""},{"$f":"IF(AND(SUM(DY8,IY8,NY8,SY8)=0,SUM(GL8,LL8,QL8,VL8)=0),\"\",IF(SUM(GL8,LL8,QL8,VL8)=1,\"(\"&BL$5&\")\",SUM(DY8,IY8,NY8,SY8)))","v":4},{"$f":"IF(AND(SUM(DZ8,IZ8,NZ8,SZ8)=0,SUM(GM8,LM8,QM8,VM8)=0),\"\",IF(SUM(GM8,LM8,QM8,VM8)=1,\"(\"&BM$5&\")\",SUM(DZ8,IZ8,NZ8,SZ8)))","v":""},{"$f":"IF(AND(SUM(EA8,JA8,OA8,TA8)=0,SUM(GN8,LN8,QN8,VN8)=0),\"\",IF(SUM(GN8,LN8,QN8,VN8)=1,\"(\"&BN$5&\")\",SUM(EA8,JA8,OA8,TA8)))","v":""},{"$f":"IF(AND(SUM(EB8,JB8,OB8,TB8)=0,SUM(GO8,LO8,QO8,VO8)=0),\"\",IF(SUM(GO8,LO8,QO8,VO8)=1,\"(\"&BO$5&\")\",SUM(EB8,JB8,OB8,TB8)))","v":""},{"$f":"IF(AND(SUM(EC8,JC8,OC8,TC8)=0,SUM(GP8,LP8,QP8,VP8)=0),\"\",IF(SUM(GP8,LP8,QP8,VP8)=1,\"(\"&BP$5&\")\",SUM(EC8,JC8,OC8,TC8)))","v":""},{"$f":"IF(AND(SUM(ED8,JD8,OD8,TD8)=0,SUM(GQ8,LQ8,QQ8,VQ8)=0),\"\",IF(SUM(GQ8,LQ8,QQ8,VQ8)=1,\"(\"&BQ$5&\")\",SUM(ED8,JD8,OD8,TD8)))","v":""},{"$f":"IF(AND(SUM(EE8,JE8,OE8,TE8)=0,SUM(GR8,LR8,QR8,VR8)=0),\"\",IF(SUM(GR8,LR8,QR8,VR8)=1,\"(\"&BR$5&\")\",SUM(EE8,JE8,OE8,TE8)))","v":""},{"$f":"IF(AND(SUM(EF8,JF8,OF8,TF8)=0,SUM(GS8,LS8,QS8,VS8)=0),\"\",IF(SUM(GS8,LS8,QS8,VS8)=1,\"(\"&BS$5&\")\",SUM(EF8,JF8,OF8,TF8)))","v":""},{"$f":"IF(AND(SUM(EG8,JG8,OG8,TG8)=0,SUM(GT8,LT8,QT8,VT8)=0),\"\",IF(SUM(GT8,LT8,QT8,VT8)=1,\"(\"&BT$5&\")\",SUM(EG8,JG8,OG8,TG8)))","v":""},{"$f":"IF(AND(SUM(EH8,JH8,OH8,TH8)=0,SUM(GU8,LU8,QU8,VU8)=0),\"\",IF(SUM(GU8,LU8,QU8,VU8)=1,\"(\"&BU$5&\")\",SUM(EH8,JH8,OH8,TH8)))","v":""},{"$f":"IF(AND(SUM(EI8,JI8,OI8,TI8)=0,SUM(GV8,LV8,QV8,VV8)=0),\"\",IF(SUM(GV8,LV8,QV8,VV8)=1,\"(\"&BV$5&\")\",SUM(EI8,JI8,OI8,TI8)))","v":""},{"$f":"IF(AND(SUM(EJ8,JJ8,OJ8,TJ8)=0,SUM(GW8,LW8,QW8,VW8)=0),\"\",IF(SUM(GW8,LW8,QW8,VW8)=1,\"(\"&BW$5&\")\",SUM(EJ8,JJ8,OJ8,TJ8)))","v":""},{"$f":"IF(AND(SUM(EK8,JK8,OK8,TK8)=0,SUM(GX8,LX8,QX8,VX8)=0),\"\",IF(SUM(GX8,LX8,QX8,VX8)=1,\"(\"&BX$5&\")\",SUM(EK8,JK8,OK8,TK8)))","v":""},{"$f":"IF(AND(SUM(EL8,JL8,OL8,TL8)=0,SUM(GY8,LY8,QY8,VY8)=0),\"\",IF(SUM(GY8,LY8,QY8,VY8)=1,\"(\"&BY$5&\")\",SUM(EL8,JL8,OL8,TL8)))","v":""},{"$f":"IF(AND(SUM(EM8,JM8,OM8,TM8)=0,SUM(GZ8,LZ8,QZ8,VZ8)=0),\"\",IF(SUM(GZ8,LZ8,QZ8,VZ8)=1,\"(\"&BZ$5&\")\",SUM(EM8,JM8,OM8,TM8)))","v":""},{"$f":"IF(AND(SUM(EN8,JN8,ON8,TN8)=0,SUM(HA8,MA8,RA8,WA8)=0),\"\",IF(SUM(HA8,MA8,RA8,WA8)=1,\"(\"&CA$5&\")\",SUM(EN8,JN8,ON8,TN8)))","v":""},{"$f":"IF(AND(SUM(EO8,JO8,OO8,TO8)=0,SUM(HB8,MB8,RB8,WB8)=0),\"\",IF(SUM(HB8,MB8,RB8,WB8)=1,\"(\"&CB$5&\")\",SUM(EO8,JO8,OO8,TO8)))","v":""},{"$f":"IF(AND(SUM(EP8,JP8,OP8,TP8)=0,SUM(HC8,MC8,RC8,WC8)=0),\"\",IF(SUM(HC8,MC8,RC8,WC8)=1,\"(\"&CC$5&\")\",SUM(EP8,JP8,OP8,TP8)))","v":""},{"$f":"IF(AND(SUM(EQ8,JQ8,OQ8,TQ8)=0,SUM(HD8,MD8,RD8,WD8)=0),\"\",IF(SUM(HD8,MD8,RD8,WD8)=1,\"(\"&CD$5&\")\",SUM(EQ8,JQ8,OQ8,TQ8)))","v":""},{"$f":"IF(AND(SUM(ER8,JR8,OR8,TR8)=0,SUM(HE8,ME8,RE8,WE8)=0),\"\",IF(SUM(HE8,ME8,RE8,WE8)=1,\"(\"&CE$5&\")\",SUM(ER8,JR8,OR8,TR8)))","v":""},{"$f":"IF(ES8+JS8+TS8<>0,ES8+JS8+TS8,\"\")","v":1},0,null,1101,{"$f":"W8","v":"音楽"},{"$f":"IF(EX8=\"\",\"\",IF(EX8<=1,0,IF(EX8>=2,CK$5,\"\")))","v":""},{"$f":"IF(EY8=\"\",\"\",IF(EY8<=1,0,IF(EY8>=2,CL$5,\"\")))","v":3},{"$f":"IF(EZ8=\"\",\"\",IF(EZ8<=1,0,IF(EZ8>=2,CM$5,\"\")))","v":""},{"$f":"IF(FA8=\"\",\"\",IF(FA8<=1,0,IF(FA8>=2,CN$5,\"\")))","v":""},{"$f":"IF(FB8=\"\",\"\",IF(FB8<=1,0,IF(FB8>=2,CO$5,\"\")))","v":""},{"$f":"IF(FC8=\"\",\"\",IF(FC8<=1,0,IF(FC8>=2,CP$5,\"\")))","v":""},{"$f":"IF(FD8=\"\",\"\",IF(FD8<=1,0,IF(FD8>=2,CQ$5,\"\")))","v":""},{"$f":"IF(FE8=\"\",\"\",IF(FE8<=1,0,IF(FE8>=2,CR$5,\"\")))","v":""},{"$f":"IF(FF8=\"\",\"\",IF(FF8<=1,0,IF(FF8>=2,CS$5,\"\")))","v":3},{"$f":"IF(FG8=\"\",\"\",IF(FG8<=1,0,IF(FG8>=2,CT$5,\"\")))","v":""},{"$f":"IF(FH8=\"\",\"\",IF(FH8<=1,0,IF(FH8>=2,CU$5,\"\")))","v":3},{"$f":"IF(FI8=\"\",\"\",IF(FI8<=1,0,IF(FI8>=2,CV$5,\"\")))","v":""},{"$f":"IF(FJ8=\"\",\"\",IF(FJ8<=1,0,IF(FJ8>=2,CW$5,\"\")))","v":""},{"$f":"IF(FK8=\"\",\"\",IF(FK8<=1,0,IF(FK8>=2,CX$5,\"\")))","v":""},{"$f":"IF(FL8=\"\",\"\",IF(FL8<=1,0,IF(FL8>=2,CY$5,\"\")))","v":""},{"$f":"IF(FM8=\"\",\"\",IF(FM8<=1,0,IF(FM8>=2,CZ$5,\"\")))","v":""},{"$f":"IF(FN8=\"\",\"\",IF(FN8<=1,0,IF(FN8>=2,DA$5,\"\")))","v":""},{"$f":"IF(FO8=\"\",\"\",IF(FO8<=1,0,IF(FO8>=2,DB$5,\"\")))","v":""},{"$f":"IF(FP8=\"\",\"\",IF(FP8<=1,0,IF(FP8>=2,DC$5,\"\")))","v":""},{"$f":"IF(FQ8=\"\",\"\",IF(FQ8<=1,0,IF(FQ8>=2,DD$5,\"\")))","v":""},{"$f":"IF(FR8=\"\",\"\",IF(FR8<=1,0,IF(FR8>=2,DE$5,\"\")))","v":3},{"$f":"IF(FS8=\"\",\"\",IF(FS8<=1,0,IF(FS8>=2,DF$5,\"\")))","v":1},{"$f":"IF(FT8=\"\",\"\",IF(FT8<=1,0,IF(FT8>=2,DG$5,\"\")))","v":2},{"$f":"IF(FU8=\"\",\"\",IF(FU8<=1,0,IF(FU8>=2,DH$5,\"\")))","v":""},{"$f":"IF(FV8=\"\",\"\",IF(FV8<=1,0,IF(FV8>=2,DI$5,\"\")))","v":""},{"$f":"IF(FW8=\"\",\"\",IF(FW8<=1,0,IF(FW8>=2,DJ$5,\"\")))","v":""},{"$f":"IF(FX8=\"\",\"\",IF(FX8<=1,0,IF(FX8>=2,DK$5,\"\")))","v":0},{"$f":"IF(FY8=\"\",\"\",IF(FY8<=1,0,IF(FY8>=2,DL$5,\"\")))","v":""},{"$f":"IF(FZ8=\"\",\"\",IF(FZ8<=1,0,IF(FZ8>=2,DM$5,\"\")))","v":""},{"$f":"IF(GA8=\"\",\"\",IF(GA8<=1,0,IF(GA8>=2,DN$5,\"\")))","v":0},{"$f":"IF(GB8=\"\",\"\",IF(GB8<=1,0,IF(GB8>=2,DO$5,\"\")))","v":""},{"$f":"IF(GC8=\"\",\"\",IF(GC8<=1,0,IF(GC8>=2,DP$5,\"\")))","v":""},{"$f":"IF(GD8=\"\",\"\",IF(GD8<=1,0,IF(GD8>=2,DQ$5,\"\")))","v":""},{"$f":"IF(GE8=\"\",\"\",IF(GE8<=1,0,IF(GE8>=2,DR$5,\"\")))","v":""},{"$f":"IF(GF8=\"\",\"\",IF(GF8<=1,0,IF(GF8>=2,DS$5,\"\")))","v":""},{"$f":"IF(GG8=\"\",\"\",IF(GG8<=1,0,IF(GG8>=2,DT$5,\"\")))","v":""},{"$f":"IF(GH8=\"\",\"\",IF(GH8<=1,0,IF(GH8>=2,DU$5,\"\")))","v":""},{"$f":"IF(GI8=\"\",\"\",IF(GI8<=1,0,IF(GI8>=2,DV$5,\"\")))","v":4},{"$f":"IF(GJ8=\"\",\"\",IF(GJ8<=1,0,IF(GJ8>=2,DW$5,\"\")))","v":""},{"$f":"IF(GK8=\"\",\"\",IF(GK8<=1,0,IF(GK8>=2,DX$5,\"\")))","v":""},{"$f":"IF(GL8=\"\",\"\",IF(GL8<=1,0,IF(GL8>=2,DY$5,\"\")))","v":4},{"$f":"IF(GM8=\"\",\"\",IF(GM8<=1,0,IF(GM8>=2,DZ$5,\"\")))","v":""},{"$f":"IF(GN8=\"\",\"\",IF(GN8<=1,0,IF(GN8>=2,EA$5,\"\")))","v":""},{"$f":"IF(GO8=\"\",\"\",IF(GO8<=1,0,IF(GO8>=2,EB$5,\"\")))","v":""},{"$f":"IF(GP8=\"\",\"\",IF(GP8<=1,0,IF(GP8>=2,EC$5,\"\")))","v":""},{"$f":"IF(GQ8=\"\",\"\",IF(GQ8<=1,0,IF(GQ8>=2,ED$5,\"\")))","v":""},{"$f":"IF(GR8=\"\",\"\",IF(GR8<=1,0,IF(GR8>=2,EE$5,\"\")))","v":""},{"$f":"IF(GS8=\"\",\"\",IF(GS8<=1,0,IF(GS8>=2,EF$5,\"\")))","v":""},{"$f":"IF(GT8=\"\",\"\",IF(GT8<=1,0,IF(GT8>=2,EG$5,\"\")))","v":""},{"$f":"IF(GU8=\"\",\"\",IF(GU8<=1,0,IF(GU8>=2,EH$5,\"\")))","v":""},{"$f":"IF(GV8=\"\",\"\",IF(GV8<=1,0,IF(GV8>=2,EI$5,\"\")))","v":""},{"$f":"IF(GW8=\"\",\"\",IF(GW8<=1,0,IF(GW8>=2,EJ$5,\"\")))","v":""},{"$f":"IF(GX8=\"\",\"\",IF(GX8<=1,0,IF(GX8>=2,EK$5,\"\")))","v":""},{"$f":"IF(GY8=\"\",\"\",IF(GY8<=1,0,IF(GY8>=2,EL$5,\"\")))","v":""},{"$f":"IF(GZ8=\"\",\"\",IF(GZ8<=1,0,IF(GZ8>=2,EM$5,\"\")))","v":""},{"$f":"IF(HA8=\"\",\"\",IF(HA8<=1,0,IF(HA8>=2,EN$5,\"\")))","v":""},{"$f":"IF(HB8=1,0,IF(HB8<>\"\",EO$6,\"\"))","v":""},{"$f":"IF(HC8=1,0,IF(HC8<>\"\",EP$6,\"\"))","v":""},{"$f":"IF(HD8=1,0,IF(HD8<>\"\",EQ$6,\"\"))","v":""},{"$f":"IF(HE8=1,0,IF(HE8<>\"\",ER$6,\"\"))","v":""},1,0,null,{"$f":"CI8","v":1101},{"$f":"CJ8","v":"音楽"},null,3,null,null,null,null,null,null,2,null,2,null,null,null,null,null,null,null,null,null,4,2,4,null,null,null,1,null,null,1,null,null,null,null,null,null,null,2,null,null,3,null,null,null,null,null,null,null,null,null,null,null,null,null,null,null,null,null,null,null,null,null,null,{"$f":"EV8","v":1101},{"$f":"EW8","v":"音楽"},{"$f":"IF(JX8=\"\",\"\",IF(JX8<=1,0,IF(JX8>=2,HK$5,\"\")))","v":""},{"$f":"IF(JY8=\"\",\"\",IF(JY8<=1,0,IF(JY8>=2,HL$5,\"\")))","v":""},{"$f":"IF(JZ8=\"\",\"\",IF(JZ8<=1,0,IF(JZ8>=2,HM$5,\"\")))","v":""},{"$f":"IF(KA8=\"\",\"\",IF(KA8<=1,0,IF(KA8>=2,HN$5,\"\")))","v":""},{"$f":"IF(KB8=\"\",\"\",IF(KB8<=1,0,IF(KB8>=2,HO$5,\"\")))","v":""},{"$f":"IF(KC8=\"\",\"\",IF(KC8<=1,0,IF(KC8>=2,HP$5,\"\")))","v":""},{"$f":"IF(KD8=\"\",\"\",IF(KD8<=1,0,IF(KD8>=2,HQ$5,\"\")))","v":""},{"$f":"IF(KE8=\"\",\"\",IF(KE8<=1,0,IF(KE8>=2,HR$5,\"\")))","v":""},{"$f":"IF(KF8=\"\",\"\",IF(KF8<=1,0,IF(KF8>=2,HS$5,\"\")))","v":""},{"$f":"IF(KG8=\"\",\"\",IF(KG8<=1,0,IF(KG8>=2,HT$5,\"\")))","v":""},{"$f":"IF(KH8=\"\",\"\",IF(KH8<=1,0,IF(KH8>=2,HU$5,\"\")))","v":""},{"$f":"IF(KI8=\"\",\"\",IF(KI8<=1,0,IF(KI8>=2,HV$5,\"\")))","v":""},{"$f":"IF(KJ8=\"\",\"\",IF(KJ8<=1,0,IF(KJ8>=2,HW$5,\"\")))","v":""},{"$f":"IF(KK8=\"\",\"\",IF(KK8<=1,0,IF(KK8>=2,HX$5,\"\")))","v":""},{"$f":"IF(KL8=\"\",\"\",IF(KL8<=1,0,IF(KL8>=2,HY$5,\"\")))","v":""},{"$f":"IF(KM8=\"\",\"\",IF(KM8<=1,0,IF(KM8>=2,HZ$5,\"\")))","v":""},{"$f":"IF(KN8=\"\",\"\",IF(KN8<=1,0,IF(KN8>=2,IA$5,\"\")))","v":""},{"$f":"IF(KO8=\"\",\"\",IF(KO8<=1,0,IF(KO8>=2,IB$5,\"\")))","v":""},{"$f":"IF(KP8=\"\",\"\",IF(KP8<=1,0,IF(KP8>=2,IC$5,\"\")))","v":""},{"$f":"IF(KQ8=\"\",\"\",IF(KQ8<=1,0,IF(KQ8>=2,ID$5,\"\")))","v":""},{"$f":"IF(KR8=\"\",\"\",IF(KR8<=1,0,IF(KR8>=2,IE$5,\"\")))","v":""},{"$f":"IF(KS8=\"\",\"\",IF(KS8<=1,0,IF(KS8>=2,IF$5,\"\")))","v":""},{"$f":"IF(KT8=\"\",\"\",IF(KT8<=1,0,IF(KT8>=2,IG$5,\"\")))","v":""},{"$f":"IF(KU8=\"\",\"\",IF(KU8<=1,0,IF(KU8>=2,IH$5,\"\")))","v":""},{"$f":"IF(KV8=\"\",\"\",IF(KV8<=1,0,IF(KV8>=2,II$5,\"\")))","v":""},{"$f":"IF(KW8=\"\",\"\",IF(KW8<=1,0,IF(KW8>=2,IJ$5,\"\")))","v":""},{"$f":"IF(KX8=\"\",\"\",IF(KX8<=1,0,IF(KX8>=2,IK$5,\"\")))","v":""},{"$f":"IF(KY8=\"\",\"\",IF(KY8<=1,0,IF(KY8>=2,IL$5,\"\")))","v":""},{"$f":"IF(KZ8=\"\",\"\",IF(KZ8<=1,0,IF(KZ8>=2,IM$5,\"\")))","v":""},{"$f":"IF(LA8=\"\",\"\",IF(LA8<=1,0,IF(LA8>=2,IN$5,\"\")))","v":""},{"$f":"IF(LB8=\"\",\"\",IF(LB8<=1,0,IF(LB8>=2,IO$5,\"\")))","v":""},{"$f":"IF(LC8=\"\",\"\",IF(LC8<=1,0,IF(LC8>=2,IP$5,\"\")))","v":""},{"$f":"IF(LD8=\"\",\"\",IF(LD8<=1,0,IF(LD8>=2,IQ$5,\"\")))","v":""},{"$f":"IF(LE8=\"\",\"\",IF(LE8<=1,0,IF(LE8>=2,IR$5,\"\")))","v":""},{"$f":"IF(LF8=\"\",\"\",IF(LF8<=1,0,IF(LF8>=2,IS$5,\"\")))","v":""},{"$f":"IF(LG8=\"\",\"\",IF(LG8<=1,0,IF(LG8>=2,IT$5,\"\")))","v":""},{"$f":"IF(LH8=\"\",\"\",IF(LH8<=1,0,IF(LH8>=2,IU$5,\"\")))","v":""},{"$f":"IF(LI8=\"\",\"\",IF(LI8<=1,0,IF(LI8>=2,IV$5,\"\")))","v":""},{"$f":"IF(LJ8=\"\",\"\",IF(LJ8<=1,0,IF(LJ8>=2,IW$5,\"\")))","v":""},{"$f":"IF(LK8=\"\",\"\",IF(LK8<=1,0,IF(LK8>=2,IX$5,\"\")))","v":""},{"$f":"IF(LL8=\"\",\"\",IF(LL8<=1,0,IF(LL8>=2,IY$5,\"\")))","v":""},{"$f":"IF(LM8=\"\",\"\",IF(LM8<=1,0,IF(LM8>=2,IZ$5,\"\")))","v":""},{"$f":"IF(LN8=\"\",\"\",IF(LN8<=1,0,IF(LN8>=2,JA$5,\"\")))","v":""},{"$f":"IF(LO8=\"\",\"\",IF(LO8<=1,0,IF(LO8>=2,JB$5,\"\")))","v":""},{"$f":"IF(LP8=\"\",\"\",IF(LP8<=1,0,IF(LP8>=2,JC$5,\"\")))","v":""},{"$f":"IF(LQ8=\"\",\"\",IF(LQ8<=1,0,IF(LQ8>=2,JD$5,\"\")))","v":""},{"$f":"IF(LR8=\"\",\"\",IF(LR8<=1,0,IF(LR8>=2,JE$5,\"\")))","v":""},{"$f":"IF(LS8=\"\",\"\",IF(LS8<=1,0,IF(LS8>=2,JF$5,\"\")))","v":""},{"$f":"IF(LT8=\"\",\"\",IF(LT8<=1,0,IF(LT8>=2,JG$5,\"\")))","v":""},{"$f":"IF(LU8=\"\",\"\",IF(LU8<=1,0,IF(LU8>=2,JH$5,\"\")))","v":""},{"$f":"IF(LV8=\"\",\"\",IF(LV8<=1,0,IF(LV8>=2,JI$5,\"\")))","v":""},{"$f":"IF(LW8=\"\",\"\",IF(LW8<=1,0,IF(LW8>=2,JJ$5,\"\")))","v":""},{"$f":"IF(LX8=\"\",\"\",IF(LX8<=1,0,IF(LX8>=2,JK$5,\"\")))","v":""},{"$f":"IF(LY8=\"\",\"\",IF(LY8<=1,0,IF(LY8>=2,JL$5,\"\")))","v":""},{"$f":"IF(LZ8=\"\",\"\",IF(LZ8<=1,0,IF(LZ8>=2,JM$5,\"\")))","v":""},{"$f":"IF(MA8=\"\",\"\",IF(MA8<=1,0,IF(MA8>=2,JN$5,\"\")))","v":""},null,null,null,null,null,null,null,{"$f":"HI8","v":1101},{"$f":"HJ8","v":"音楽"},null,null,null,null,null,null,null,null,null,null,null,null,null,null,null,null,null,null,null,null,null,null,null,null,null,null,null,null,null,null,null,null,null,null,null,null,null,null,null,null,null,null,null,null,null,null,null,null,null,null,null,null,null,null,null,null,null,null,null,null,null,null,null,{"$f":"JV8","v":1101},{"$f":"JW8","v":"音楽"},{"$f":"IF(OX8=\"\",\"\",IF(OX8<=1,0,IF(OX8>=2,MK$5,\"\")))","v":""},{"$f":"IF(OY8=\"\",\"\",IF(OY8<=1,0,IF(OY8>=2,ML$5,\"\")))","v":""},{"$f":"IF(OZ8=\"\",\"\",IF(OZ8<=1,0,IF(OZ8>=2,MM$5,\"\")))","v":""},{"$f":"IF(PA8=\"\",\"\",IF(PA8<=1,0,IF(PA8>=2,MN$5,\"\")))","v":""},{"$f":"IF(PB8=\"\",\"\",IF(PB8<=1,0,IF(PB8>=2,MO$5,\"\")))","v":""},{"$f":"IF(PC8=\"\",\"\",IF(PC8<=1,0,IF(PC8>=2,MP$5,\"\")))","v":""},{"$f":"IF(PD8=\"\",\"\",IF(PD8<=1,0,IF(PD8>=2,MQ$5,\"\")))","v":""},{"$f":"IF(PE8=\"\",\"\",IF(PE8<=1,0,IF(PE8>=2,MR$5,\"\")))","v":""},{"$f":"IF(PF8=\"\",\"\",IF(PF8<=1,0,IF(PF8>=2,MS$5,\"\")))","v":""},{"$f":"IF(PG8=\"\",\"\",IF(PG8<=1,0,IF(PG8>=2,MT$5,\"\")))","v":""},{"$f":"IF(PH8=\"\",\"\",IF(PH8<=1,0,IF(PH8>=2,MU$5,\"\")))","v":""},{"$f":"IF(PI8=\"\",\"\",IF(PI8<=1,0,IF(PI8>=2,MV$5,\"\")))","v":""},{"$f":"IF(PJ8=\"\",\"\",IF(PJ8<=1,0,IF(PJ8>=2,MW$5,\"\")))","v":""},{"$f":"IF(PK8=\"\",\"\",IF(PK8<=1,0,IF(PK8>=2,MX$5,\"\")))","v":""},{"$f":"IF(PL8=\"\",\"\",IF(PL8<=1,0,IF(PL8>=2,MY$5,\"\")))","v":""},{"$f":"IF(PM8=\"\",\"\",IF(PM8<=1,0,IF(PM8>=2,MZ$5,\"\")))","v":""},{"$f":"IF(PN8=\"\",\"\",IF(PN8<=1,0,IF(PN8>=2,NA$5,\"\")))","v":""},{"$f":"IF(PO8=\"\",\"\",IF(PO8<=1,0,IF(PO8>=2,NB$5,\"\")))","v":""},{"$f":"IF(PP8=\"\",\"\",IF(PP8<=1,0,IF(PP8>=2,NC$5,\"\")))","v":""},{"$f":"IF(PQ8=\"\",\"\",IF(PQ8<=1,0,IF(PQ8>=2,ND$5,\"\")))","v":""},{"$f":"IF(PR8=\"\",\"\",IF(PR8<=1,0,IF(PR8>=2,NE$5,\"\")))","v":""},{"$f":"IF(PS8=\"\",\"\",IF(PS8<=1,0,IF(PS8>=2,NF$5,\"\")))","v":""},{"$f":"IF(PT8=\"\",\"\",IF(PT8<=1,0,IF(PT8>=2,NG$5,\"\")))","v":""},{"$f":"IF(PU8=\"\",\"\",IF(PU8<=1,0,IF(PU8>=2,NH$5,\"\")))","v":""},{"$f":"IF(PV8=\"\",\"\",IF(PV8<=1,0,IF(PV8>=2,NI$5,\"\")))","v":""},{"$f":"IF(PW8=\"\",\"\",IF(PW8<=1,0,IF(PW8>=2,NJ$5,\"\")))","v":""},{"$f":"IF(PX8=\"\",\"\",IF(PX8<=1,0,IF(PX8>=2,NK$5,\"\")))","v":""},{"$f":"IF(PY8=\"\",\"\",IF(PY8<=1,0,IF(PY8>=2,NL$5,\"\")))","v":""},{"$f":"IF(PZ8=\"\",\"\",IF(PZ8<=1,0,IF(PZ8>=2,NM$5,\"\")))","v":""},{"$f":"IF(QA8=\"\",\"\",IF(QA8<=1,0,IF(QA8>=2,NN$5,\"\")))","v":""},{"$f":"IF(QB8=\"\",\"\",IF(QB8<=1,0,IF(QB8>=2,NO$5,\"\")))","v":""},{"$f":"IF(QC8=\"\",\"\",IF(QC8<=1,0,IF(QC8>=2,NP$5,\"\")))","v":""},{"$f":"IF(QD8=\"\",\"\",IF(QD8<=1,0,IF(QD8>=2,NQ$5,\"\")))","v":""},{"$f":"IF(QE8=\"\",\"\",IF(QE8<=1,0,IF(QE8>=2,NR$5,\"\")))","v":""},{"$f":"IF(QF8=\"\",\"\",IF(QF8<=1,0,IF(QF8>=2,NS$5,\"\")))","v":""},{"$f":"IF(QG8=\"\",\"\",IF(QG8<=1,0,IF(QG8>=2,NT$5,\"\")))","v":""},{"$f":"IF(QH8=\"\",\"\",IF(QH8<=1,0,IF(QH8>=2,NU$5,\"\")))","v":""},{"$f":"IF(QI8=\"\",\"\",IF(QI8<=1,0,IF(QI8>=2,NV$5,\"\")))","v":""},{"$f":"IF(QJ8=\"\",\"\",IF(QJ8<=1,0,IF(QJ8>=2,NW$5,\"\")))","v":""},{"$f":"IF(QK8=\"\",\"\",IF(QK8<=1,0,IF(QK8>=2,NX$5,\"\")))","v":""},{"$f":"IF(QL8=\"\",\"\",IF(QL8<=1,0,IF(QL8>=2,NY$5,\"\")))","v":""},{"$f":"IF(QM8=\"\",\"\",IF(QM8<=1,0,IF(QM8>=2,NZ$5,\"\")))","v":""},{"$f":"IF(QN8=\"\",\"\",IF(QN8<=1,0,IF(QN8>=2,OA$5,\"\")))","v":""},{"$f":"IF(QO8=\"\",\"\",IF(QO8<=1,0,IF(QO8>=2,OB$5,\"\")))","v":""},{"$f":"IF(QP8=\"\",\"\",IF(QP8<=1,0,IF(QP8>=2,OC$5,\"\")))","v":""},{"$f":"IF(QQ8=\"\",\"\",IF(QQ8<=1,0,IF(QQ8>=2,OD$5,\"\")))","v":""},{"$f":"IF(QR8=\"\",\"\",IF(QR8<=1,0,IF(QR8>=2,OE$5,\"\")))","v":""},{"$f":"IF(QS8=\"\",\"\",IF(QS8<=1,0,IF(QS8>=2,OF$5,\"\")))","v":""},{"$f":"IF(QT8=\"\",\"\",IF(QT8<=1,0,IF(QT8>=2,OG$5,\"\")))","v":""},{"$f":"IF(QU8=\"\",\"\",IF(QU8<=1,0,IF(QU8>=2,OH$5,\"\")))","v":""},{"$f":"IF(QV8=\"\",\"\",IF(QV8<=1,0,IF(QV8>=2,OI$5,\"\")))","v":""},{"$f":"IF(QW8=\"\",\"\",IF(QW8<=1,0,IF(QW8>=2,OJ$5,\"\")))","v":""},{"$f":"IF(QX8=\"\",\"\",IF(QX8<=1,0,IF(QX8>=2,OK$5,\"\")))","v":""},{"$f":"IF(QY8=\"\",\"\",IF(QY8<=1,0,IF(QY8>=2,OL$5,\"\")))","v":""},{"$f":"IF(QZ8=\"\",\"\",IF(QZ8<=1,0,IF(QZ8>=2,OM$5,\"\")))","v":""},{"$f":"IF(RA8=\"\",\"\",IF(RA8<=1,0,IF(RA8>=2,ON$5,\"\")))","v":""},null,null,null,null,null,null,null,{"$f":"MI8","v":1101},{"$f":"MJ8","v":"音楽"},null,null,null,null,null,null,null,null,null,null,null,null,null,null,null,null,null,null,null,null,null,null,null,null,null,null,null,null,null,null,null,null,null,null,null,null,null,null,null,null,null,null,null,null,null,null,null,null,null,null,null,null,null,null,null,null,null,null,null,null,null,null,null,{"$f":"OV8","v":1101},{"$f":"OW8","v":"音楽"},{"$f":"IF(TX8=\"\",\"\",IF(TX8<=1,0,IF(TX8>=2,RK$5,\"\")))","v":""},{"$f":"IF(TY8=\"\",\"\",IF(TY8<=1,0,IF(TY8>=2,RL$5,\"\")))","v":""},{"$f":"IF(TZ8=\"\",\"\",IF(TZ8<=1,0,IF(TZ8>=2,RM$5,\"\")))","v":""},{"$f":"IF(UA8=\"\",\"\",IF(UA8<=1,0,IF(UA8>=2,RN$5,\"\")))","v":""},{"$f":"IF(UB8=\"\",\"\",IF(UB8<=1,0,IF(UB8>=2,RO$5,\"\")))","v":""},{"$f":"IF(UC8=\"\",\"\",IF(UC8<=1,0,IF(UC8>=2,RP$5,\"\")))","v":""},{"$f":"IF(UD8=\"\",\"\",IF(UD8<=1,0,IF(UD8>=2,RQ$5,\"\")))","v":""},{"$f":"IF(UE8=\"\",\"\",IF(UE8<=1,0,IF(UE8>=2,RR$5,\"\")))","v":""},{"$f":"IF(UF8=\"\",\"\",IF(UF8<=1,0,IF(UF8>=2,RS$5,\"\")))","v":""},{"$f":"IF(UG8=\"\",\"\",IF(UG8<=1,0,IF(UG8>=2,RT$5,\"\")))","v":""},{"$f":"IF(UH8=\"\",\"\",IF(UH8<=1,0,IF(UH8>=2,RU$5,\"\")))","v":""},{"$f":"IF(UI8=\"\",\"\",IF(UI8<=1,0,IF(UI8>=2,RV$5,\"\")))","v":""},{"$f":"IF(UJ8=\"\",\"\",IF(UJ8<=1,0,IF(UJ8>=2,RW$5,\"\")))","v":""},{"$f":"IF(UK8=\"\",\"\",IF(UK8<=1,0,IF(UK8>=2,RX$5,\"\")))","v":""},{"$f":"IF(UL8=\"\",\"\",IF(UL8<=1,0,IF(UL8>=2,RY$5,\"\")))","v":""},{"$f":"IF(UM8=\"\",\"\",IF(UM8<=1,0,IF(UM8>=2,RZ$5,\"\")))","v":""},{"$f":"IF(UN8=\"\",\"\",IF(UN8<=1,0,IF(UN8>=2,SA$5,\"\")))","v":""},{"$f":"IF(UO8=\"\",\"\",IF(UO8<=1,0,IF(UO8>=2,SB$5,\"\")))","v":""},{"$f":"IF(UP8=\"\",\"\",IF(UP8<=1,0,IF(UP8>=2,SC$5,\"\")))","v":""},{"$f":"IF(UQ8=\"\",\"\",IF(UQ8<=1,0,IF(UQ8>=2,SD$5,\"\")))","v":""},{"$f":"IF(UR8=\"\",\"\",IF(UR8<=1,0,IF(UR8>=2,SE$5,\"\")))","v":""},{"$f":"IF(US8=\"\",\"\",IF(US8<=1,0,IF(US8>=2,SF$5,\"\")))","v":""},{"$f":"IF(UT8=\"\",\"\",IF(UT8<=1,0,IF(UT8>=2,SG$5,\"\")))","v":""},{"$f":"IF(UU8=\"\",\"\",IF(UU8<=1,0,IF(UU8>=2,SH$5,\"\")))","v":""},{"$f":"IF(UV8=\"\",\"\",IF(UV8<=1,0,IF(UV8>=2,SI$5,\"\")))","v":""},{"$f":"IF(UW8=\"\",\"\",IF(UW8<=1,0,IF(UW8>=2,SJ$5,\"\")))","v":""},{"$f":"IF(UX8=\"\",\"\",IF(UX8<=1,0,IF(UX8>=2,SK$5,\"\")))","v":""},{"$f":"IF(UY8=\"\",\"\",IF(UY8<=1,0,IF(UY8>=2,SL$5,\"\")))","v":""},{"$f":"IF(UZ8=\"\",\"\",IF(UZ8<=1,0,IF(UZ8>=2,SM$5,\"\")))","v":""},{"$f":"IF(VA8=\"\",\"\",IF(VA8<=1,0,IF(VA8>=2,SN$5,\"\")))","v":""},{"$f":"IF(VB8=\"\",\"\",IF(VB8<=1,0,IF(VB8>=2,SO$5,\"\")))","v":""},{"$f":"IF(VC8=\"\",\"\",IF(VC8<=1,0,IF(VC8>=2,SP$5,\"\")))","v":""},{"$f":"IF(VD8=\"\",\"\",IF(VD8<=1,0,IF(VD8>=2,SQ$5,\"\")))","v":""},{"$f":"IF(VE8=\"\",\"\",IF(VE8<=1,0,IF(VE8>=2,SR$5,\"\")))","v":""},{"$f":"IF(VF8=\"\",\"\",IF(VF8<=1,0,IF(VF8>=2,SS$5,\"\")))","v":""},{"$f":"IF(VG8=\"\",\"\",IF(VG8<=1,0,IF(VG8>=2,ST$5,\"\")))","v":""},{"$f":"IF(VH8=\"\",\"\",IF(VH8<=1,0,IF(VH8>=2,SU$5,\"\")))","v":""},{"$f":"IF(VI8=\"\",\"\",IF(VI8<=1,0,IF(VI8>=2,SV$5,\"\")))","v":""},{"$f":"IF(VJ8=\"\",\"\",IF(VJ8<=1,0,IF(VJ8>=2,SW$5,\"\")))","v":""},{"$f":"IF(VK8=\"\",\"\",IF(VK8<=1,0,IF(VK8>=2,SX$5,\"\")))","v":""},{"$f":"IF(VL8=\"\",\"\",IF(VL8<=1,0,IF(VL8>=2,SY$5,\"\")))","v":""},{"$f":"IF(VM8=\"\",\"\",IF(VM8<=1,0,IF(VM8>=2,SZ$5,\"\")))","v":""},{"$f":"IF(VN8=\"\",\"\",IF(VN8<=1,0,IF(VN8>=2,TA$5,\"\")))","v":""},{"$f":"IF(VO8=\"\",\"\",IF(VO8<=1,0,IF(VO8>=2,TB$5,\"\")))","v":""},{"$f":"IF(VP8=\"\",\"\",IF(VP8<=1,0,IF(VP8>=2,TC$5,\"\")))","v":""},{"$f":"IF(VQ8=\"\",\"\",IF(VQ8<=1,0,IF(VQ8>=2,TD$5,\"\")))","v":""},{"$f":"IF(VR8=\"\",\"\",IF(VR8<=1,0,IF(VR8>=2,TE$5,\"\")))","v":""},{"$f":"IF(VS8=\"\",\"\",IF(VS8<=1,0,IF(VS8>=2,TF$5,\"\")))","v":""},{"$f":"IF(VT8=\"\",\"\",IF(VT8<=1,0,IF(VT8>=2,TG$5,\"\")))","v":""},{"$f":"IF(VU8=\"\",\"\",IF(VU8<=1,0,IF(VU8>=2,TH$5,\"\")))","v":""},{"$f":"IF(VV8=\"\",\"\",IF(VV8<=1,0,IF(VV8>=2,TI$5,\"\")))","v":""},{"$f":"IF(VW8=\"\",\"\",IF(VW8<=1,0,IF(VW8>=2,TJ$5,\"\")))","v":""},{"$f":"IF(VX8=\"\",\"\",IF(VX8<=1,0,IF(VX8>=2,TK$5,\"\")))","v":""},{"$f":"IF(VY8=\"\",\"\",IF(VY8<=1,0,IF(VY8>=2,TL$5,\"\")))","v":""},{"$f":"IF(VZ8=\"\",\"\",IF(VZ8<=1,0,IF(VZ8>=2,TM$5,\"\")))","v":""},{"$f":"IF(WA8=\"\",\"\",IF(WA8<=1,0,IF(WA8>=2,TN$5,\"\")))","v":""},null,null,null,null,null,null,null,{"$f":"RI8","v":1101},{"$f":"RJ8","v":"音楽"},null,null,null,null,null,null,null,null,null,null,null,null,null,null,null,null,null,null,null,null,null,null,null,null,null,null,null,null,null,null,null,null,null,null,null,null,null,null,null,null,null,null,null,null,null,null,null,null,null,null,null,null,null,null,null,null,null,null,null,null,null,null,null,{"$f":"TV8","v":1101},{"$f":"TW8","v":"音楽"},{"$f":"IF(EX8=1,\"１学年履修単位数 \"&CK$5&\"単位\",IF(JX8=1,\"2学年履修単位数 \"&HK$5&\"単位\",IF(OX8=1,\"2学年履修単位数 \"&MK$5&\"単位\",\"\")))","v":""},{"$f":"IF(EY8=1,\"１学年履修単位数 \"&CL$5&\"単位\",IF(JY8=1,\"2学年履修単位数 \"&HL$5&\"単位\",IF(OY8=1,\"2学年履修単位数 \"&ML$5&\"単位\",\"\")))","v":""},"","","","","","","","","","","","","","","","","","","","","","","","","１学年履修単位数 3単位","","","１学年履修単位数 2単位","","","","","","","","","","","","","","","","","","","","","","","","","","",null,null,null,null,null,null,null,{"$f":"WI8","v":1101},"自己の特性を生かし、進路学習について積極的に取り組んだ。","バドミントン",null,"体育行事実行",null,null,"体育祭や体育の授業でクラスをまとめ、中心となって活躍した。",56,{"$f":"IF(ZD8=\"\",\"\",VLOOKUP(ZD8,所見データ,2))","v":"好奇心旺盛で色々なことに興味を持ち、明朗活発でクラスでも友人が多い。地道な努力家であり、集団の中でリーダーシップをとり、やりはじめたことは積極的に最後までやりぬくことができる。"},"進学希望（専門学校）","ワープロ実務検定○級(H20/12/1)","情報処理検定(ビジネス情報部門)○級(H21/1/20)",null,null,null,null,null,38,1,193,2,193,22,187,0,{"$f":"IF(ZQ8>0,\"インフルエンザ\"&ZQ8&\"日 \",\"\")","v":"インフルエンザ2日 "},{"$f":"IF(ZS8>=10,\"風邪、体調不良\",\"\")","v":"風邪、体調不良"},null,{"$f":"YV8","v":1101},null,null,null,null,null,null,null,null,null,null,null,null,null,null,null,null,null,null,null,null,null,null,null,null,null,null,null,{"$f":"ZY8","v":1101},null,null,null,null,null,null,null,null,null,null,null,null,null,null,null,null,null,null,null,null,null,null,null,null,null,null,null,{"$f":"ABA8","v":1101}]
[1102,null,null,null,null,null,null,null,null,null,null,null,null,"生徒欄と同様",24,3,null,null,24,4,1,1102,null,"","","","","","","","","","","","","","","","","","","","","","","","","","","","","","","","","","","","","","","","","","","","","","","","","","","","","","","","","","","","",1,0,null,1102,0,"","","","","","","","","","","","","","","","","","","","","","","","","","","","","","","","","","","","","","","","","","","","","","","","","","","","","","","","",null,null,null,null,1,0,null,1102,0,null,null,null,null,null,null,null,null,null,null,null,null,null,null,null,null,null,null,null,null,null,null,null,null,null,null,null,null,null,null,null,null,null,null,null,null,null,null,null,null,null,null,null,null,null,null,null,null,null,null,null,null,null,null,null,null,null,null,null,null,null,null,null,1102,0,"","","","","","","","","","","","","","","","","","","","","","","","","","","","","","","","","","","","","","","","","","","","","","","","","","","","","","","","",null,null,null,null,null,null,null,1102,0,null,null,null,null,null,null,null,null,null,null,null,null,null,null,null,null,null,null,null,null,null,null,null,null,null,null,null,null,null,null,null,null,null,null,null,null,null,null,null,null,null,null,null,null,null,null,null,null,null,null,null,null,null,null,null,null,null,null,null,null,null,null,null,1102,0,"","","","","","","","","","","","","","","","","","","","","","","","","","","","","","","","","","","","","","","","","","","","","","","","","","","","","","","","",null,null,null,null,null,null,null,1102,0,null,null,null,null,null,null,null,null,null,null,null,null,null,null,null,null,null,null,null,null,null,null,null,null,null,null,null,null,null,null,null,null,null,null,null,null,null,null,null,null,null,null,null,null,null,null,null,null,null,null,null,null,null,null,null,null,null,null,null,null,null,null,null,1102,0,"","","","","","","","","","","","","","","","","","","","","","","","","","","","","","","","","","","","","","","","","","","","","","","","","","","","","","","","",null,null,null,null,null,null,null,1102,0,null,null,null,null,null,null,null,null,null,null,null,null,null,null,null,null,null,null,null,null,null,null,null,null,null,null,null,null,null,null,null,null,null,null,null,null,null,null,null,null,null,null,null,null,null,null,null,null,null,null,null,null,null,null,null,null,null,null,null,null,null,null,null,1102,0,{"$f":"IF(EX9=1,\"１学年履修単位数 \"&CK$5&\"単位\",IF(JX9=1,\"2学年履修単位数 \"&HK$5&\"単位\",IF(OX9=1,\"2学年履修単位数 \"&MK$5&\"単位\",\"\")))","v":""},{"$f":"IF(EY9=1,\"１学年履修単位数 \"&CL$5&\"単位\",IF(JY9=1,\"2学年履修単位数 \"&HL$5&\"単位\",IF(OY9=1,\"2学年履修単位数 \"&ML$5&\"単位\",\"\")))","v":""},{"$f":"IF(EZ9=1,\"１学年履修単位数 \"&CM$5&\"単位\",IF(JZ9=1,\"2学年履修単位数 \"&HM$5&\"単位\",IF(OZ9=1,\"2学年履修単位数 \"&MM$5&\"単位\",\"\")))","v":""},{"$f":"IF(FA9=1,\"１学年履修単位数 \"&CN$5&\"単位\",IF(KA9=1,\"2学年履修単位数 \"&HN$5&\"単位\",IF(PA9=1,\"2学年履修単位数 \"&MN$5&\"単位\",\"\")))","v":""},{"$f":"IF(FB9=1,\"１学年履修単位数 \"&CO$5&\"単位\",IF(KB9=1,\"2学年履修単位数 \"&HO$5&\"単位\",IF(PB9=1,\"2学年履修単位数 \"&MO$5&\"単位\",\"\")))","v":""},{"$f":"IF(FC9=1,\"１学年履修単位数 \"&CP$5&\"単位\",IF(KC9=1,\"2学年履修単位数 \"&HP$5&\"単位\",IF(PC9=1,\"2学年履修単位数 \"&MP$5&\"単位\",\"\")))","v":""},{"$f":"IF(FD9=1,\"１学年履修単位数 \"&CQ$5&\"単位\",IF(KD9=1,\"2学年履修単位数 \"&HQ$5&\"単位\",IF(PD9=1,\"2学年履修単位数 \"&MQ$5&\"単位\",\"\")))","v":""},{"$f":"IF(FE9=1,\"１学年履修単位数 \"&CR$5&\"単位\",IF(KE9=1,\"2学年履修単位数 \"&HR$5&\"単位\",IF(PE9=1,\"2学年履修単位数 \"&MR$5&\"単位\",\"\")))","v":""},{"$f":"IF(FF9=1,\"１学年履修単位数 \"&CS$5&\"単位\",IF(KF9=1,\"2学年履修単位数 \"&HS$5&\"単位\",IF(PF9=1,\"2学年履修単位数 \"&MS$5&\"単位\",\"\")))","v":""},{"$f":"IF(FG9=1,\"１学年履修単位数 \"&CT$5&\"単位\",IF(KG9=1,\"2学年履修単位数 \"&HT$5&\"単位\",IF(PG9=1,\"2学年履修単位数 \"&MT$5&\"単位\",\"\")))","v":""},{"$f":"IF(FH9=1,\"１学年履修単位数 \"&CU$5&\"単位\",IF(KH9=1,\"2学年履修単位数 \"&HU$5&\"単位\",IF(PH9=1,\"2学年履修単位数 \"&MU$5&\"単位\",\"\")))","v":""},{"$f":"IF(FI9=1,\"１学年履修単位数 \"&CV$5&\"単位\",IF(KI9=1,\"2学年履修単位数 \"&HV$5&\"単位\",IF(PI9=1,\"2学年履修単位数 \"&MV$5&\"単位\",\"\")))","v":""},{"$f":"IF(FJ9=1,\"１学年履修単位数 \"&CW$5&\"単位\",IF(KJ9=1,\"2学年履修単位数 \"&HW$5&\"単位\",IF(PJ9=1,\"2学年履修単位数 \"&MW$5&\"単位\",\"\")))","v":""},{"$f":"IF(FK9=1,\"１学年履修単位数 \"&CX$5&\"単位\",IF(KK9=1,\"2学年履修単位数 \"&HX$5&\"単位\",IF(PK9=1,\"2学年履修単位数 \"&MX$5&\"単位\",\"\")))","v":""},{"$f":"IF(FL9=1,\"１学年履修単位数 \"&CY$5&\"単位\",IF(KL9=1,\"2学年履修単位数 \"&HY$5&\"単位\",IF(PL9=1,\"2学年履修単位数 \"&MY$5&\"単位\",\"\")))","v":""},{"$f":"IF(FM9=1,\"１学年履修単位数 \"&CZ$5&\"単位\",IF(KM9=1,\"2学年履修単位数 \"&HZ$5&\"単位\",IF(PM9=1,\"2学年履修単位数 \"&MZ$5&\"単位\",\"\")))","v":""},{"$f":"IF(FN9=1,\"１学年履修単位数 \"&DA$5&\"単位\",IF(KN9=1,\"2学年履修単位数 \"&IA$5&\"単位\",IF(PN9=1,\"2学年履修単位数 \"&NA$5&\"単位\",\"\")))","v":""},{"$f":"IF(FO9=1,\"１学年履修単位数 \"&DB$5&\"単位\",IF(KO9=1,\"2学年履修単位数 \"&IB$5&\"単位\",IF(PO9=1,\"2学年履修単位数 \"&NB$5&\"単位\",\"\")))","v":""},{"$f":"IF(FP9=1,\"１学年履修単位数 \"&DC$5&\"単位\",IF(KP9=1,\"2学年履修単位数 \"&IC$5&\"単位\",IF(PP9=1,\"2学年履修単位数 \"&NC$5&\"単位\",\"\")))","v":""},{"$f":"IF(FQ9=1,\"１学年履修単位数 \"&DD$5&\"単位\",IF(KQ9=1,\"2学年履修単位数 \"&ID$5&\"単位\",IF(PQ9=1,\"2学年履修単位数 \"&ND$5&\"単位\",\"\")))","v":""},{"$f":"IF(FR9=1,\"１学年履修単位数 \"&DE$5&\"単位\",IF(KR9=1,\"2学年履修単位数 \"&IE$5&\"単位\",IF(PR9=1,\"2学年履修単位数 \"&NE$5&\"単位\",\"\")))","v":""},{"$f":"IF(FS9=1,\"１学年履修単位数 \"&DF$5&\"単位\",IF(KS9=1,\"2学年履修単位数 \"&IF$5&\"単位\",IF(PS9=1,\"2学年履修単位数 \"&NF$5&\"単位\",\"\")))","v":""},{"$f":"IF(FT9=1,\"１学年履修単位数 \"&DG$5&\"単位\",IF(KT9=1,\"2学年履修単位数 \"&IG$5&\"単位\",IF(PT9=1,\"2学年履修単位数 \"&NG$5&\"単位\",\"\")))","v":""},{"$f":"IF(FU9=1,\"１学年履修単位数 \"&DH$5&\"単位\",IF(KU9=1,\"2学年履修単位数 \"&IH$5&\"単位\",IF(PU9=1,\"2学年履修単位数 \"&NH$5&\"単位\",\"\")))","v":""},{"$f":"IF(FV9=1,\"１学年履修単位数 \"&DI$5&\"単位\",IF(KV9=1,\"2学年履修単位数 \"&II$5&\"単位\",IF(PV9=1,\"2学年履修単位数 \"&NI$5&\"単位\",\"\")))","v":""},{"$f":"IF(FW9=1,\"１学年履修単位数 \"&DJ$5&\"単位\",IF(KW9=1,\"2学年履修単位数 \"&IJ$5&\"単位\",IF(PW9=1,\"2学年履修単位数 \"&NJ$5&\"単位\",\"\")))","v":""},{"$f":"IF(FX9=1,\"１学年履修単位数 \"&DK$5&\"単位\",IF(KX9=1,\"2学年履修単位数 \"&IK$5&\"単位\",IF(PX9=1,\"2学年履修単位数 \"&NK$5&\"単位\",\"\")))","v":""},{"$f":"IF(FY9=1,\"１学年履修単位数 \"&DL$5&\"単位\",IF(KY9=1,\"2学年履修単位数 \"&IL$5&\"単位\",IF(PY9=1,\"2学年履修単位数 \"&NL$5&\"単位\",\"\")))","v":""},{"$f":"IF(FZ9=1,\"１学年履修単位数 \"&DM$5&\"単位\",IF(KZ9=1,\"2学年履修単位数 \"&IM$5&\"単位\",IF(PZ9=1,\"2学年履修単位数 \"&NM$5&\"単位\",\"\")))","v":""},{"$f":"IF(GA9=1,\"１学年履修単位数 \"&DN$5&\"単位\",IF(LA9=1,\"2学年履修単位数 \"&IN$5&\"単位\",IF(QA9=1,\"2学年履修単位数 \"&NN$5&\"単位\",\"\")))","v":""},{"$f":"IF(GB9=1,\"１学年履修単位数 \"&DO$5&\"単位\",IF(LB9=1,\"2学年履修単位数 \"&IO$5&\"単位\",IF(QB9=1,\"2学年履修単位数 \"&NO$5&\"単位\",\"\")))","v":""},{"$f":"IF(GC9=1,\"１学年履修単位数 \"&DP$5&\"単位\",IF(LC9=1,\"2学年履修単位数 \"&IP$5&\"単位\",IF(QC9=1,\"2学年履修単位数 \"&NP$5&\"単位\",\"\")))","v":""},{"$f":"IF(GD9=1,\"１学年履修単位数 \"&DQ$5&\"単位\",IF(LD9=1,\"2学年履修単位数 \"&IQ$5&\"単位\",IF(QD9=1,\"2学年履修単位数 \"&NQ$5&\"単位\",\"\")))","v":""},{"$f":"IF(GE9=1,\"１学年履修単位数 \"&DR$5&\"単位\",IF(LE9=1,\"2学年履修単位数 \"&IR$5&\"単位\",IF(QE9=1,\"2学年履修単位数 \"&NR$5&\"単位\",\"\")))","v":""},{"$f":"IF(GF9=1,\"１学年履修単位数 \"&DS$5&\"単位\",IF(LF9=1,\"2学年履修単位数 \"&IS$5&\"単位\",IF(QF9=1,\"2学年履修単位数 \"&NS$5&\"単位\",\"\")))","v":""},{"$f":"IF(GG9=1,\"１学年履修単位数 \"&DT$5&\"単位\",IF(LG9=1,\"2学年履修単位数 \"&IT$5&\"単位\",IF(QG9=1,\"2学年履修単位数 \"&NT$5&\"単位\",\"\")))","v":""},{"$f":"IF(GH9=1,\"１学年履修単位数 \"&DU$5&\"単位\",IF(LH9=1,\"2学年履修単位数 \"&IU$5&\"単位\",IF(QH9=1,\"2学年履修単位数 \"&NU$5&\"単位\",\"\")))","v":""},{"$f":"IF(GI9=1,\"１学年履修単位数 \"&DV$5&\"単位\",IF(LI9=1,\"2学年履修単位数 \"&IV$5&\"単位\",IF(QI9=1,\"2学年履修単位数 \"&NV$5&\"単位\",\"\")))","v":""},{"$f":"IF(GJ9=1,\"１学年履修単位数 \"&DW$5&\"単位\",IF(LJ9=1,\"2学年履修単位数 \"&IW$5&\"単位\",IF(QJ9=1,\"2学年履修単位数 \"&NW$5&\"単位\",\"\")))","v":""},{"$f":"IF(GK9=1,\"１学年履修単位数 \"&DX$5&\"単位\",IF(LK9=1,\"2学年履修単位数 \"&IX$5&\"単位\",IF(QK9=1,\"2学年履修単位数 \"&NX$5&\"単位\",\"\")))","v":""},{"$f":"IF(GL9=1,\"１学年履修単位数 \"&DY$5&\"単位\",IF(LL9=1,\"2学年履修単位数 \"&IY$5&\"単位\",IF(QL9=1,\"2学年履修単位数 \"&NY$5&\"単位\",\"\")))","v":""},{"$f":"IF(GM9=1,\"１学年履修単位数 \"&DZ$5&\"単位\",IF(LM9=1,\"2学年履修単位数 \"&IZ$5&\"単位\",IF(QM9=1,\"2学年履修単位数 \"&NZ$5&\"単位\",\"\")))","v":""},{"$f":"IF(GN9=1,\"１学年履修単位数 \"&EA$5&\"単位\",IF(LN9=1,\"2学年履修単位数 \"&JA$5&\"単位\",IF(QN9=1,\"2学年履修単位数 \"&OA$5&\"単位\",\"\")))","v":""},{"$f":"IF(GO9=1,\"１学年履修単位数 \"&EB$5&\"単位\",IF(LO9=1,\"2学年履修単位数 \"&JB$5&\"単位\",IF(QO9=1,\"2学年履修単位数 \"&OB$5&\"単位\",\"\")))","v":""},{"$f":"IF(GP9=1,\"１学年履修単位数 \"&EC$5&\"単位\",IF(LP9=1,\"2学年履修単位数 \"&JC$5&\"単位\",IF(QP9=1,\"2学年履修単位数 \"&OC$5&\"単位\",\"\")))","v":""},{"$f":"IF(GQ9=1,\"１学年履修単位数 \"&ED$5&\"単位\",IF(LQ9=1,\"2学年履修単位数 \"&JD$5&\"単位\",IF(QQ9=1,\"2学年履修単位数 \"&OD$5&\"単位\",\"\")))","v":""},{"$f":"IF(GR9=1,\"１学年履修単位数 \"&EE$5&\"単位\",IF(LR9=1,\"2学年履修単位数 \"&JE$5&\"単位\",IF(QR9=1,\"2学年履修単位数 \"&OE$5&\"単位\",\"\")))","v":""},{"$f":"IF(GS9=1,\"１学年履修単位数 \"&EF$5&\"単位\",IF(LS9=1,\"2学年履修単位数 \"&JF$5&\"単位\",IF(QS9=1,\"2学年履修単位数 \"&OF$5&\"単位\",\"\")))","v":""},{"$f":"IF(GT9=1,\"１学年履修単位数 \"&EG$5&\"単位\",IF(LT9=1,\"2学年履修単位数 \"&JG$5&\"単位\",IF(QT9=1,\"2学年履修単位数 \"&OG$5&\"単位\",\"\")))","v":""},{"$f":"IF(GU9=1,\"１学年履修単位数 \"&EH$5&\"単位\",IF(LU9=1,\"2学年履修単位数 \"&JH$5&\"単位\",IF(QU9=1,\"2学年履修単位数 \"&OH$5&\"単位\",\"\")))","v":""},{"$f":"IF(GV9=1,\"１学年履修単位数 \"&EI$5&\"単位\",IF(LV9=1,\"2学年履修単位数 \"&JI$5&\"単位\",IF(QV9=1,\"2学年履修単位数 \"&OI$5&\"単位\",\"\")))","v":""},{"$f":"IF(GW9=1,\"１学年履修単位数 \"&EJ$5&\"単位\",IF(LW9=1,\"2学年履修単位数 \"&JJ$5&\"単位\",IF(QW9=1,\"2学年履修単位数 \"&OJ$5&\"単位\",\"\")))","v":""},{"$f":"IF(GX9=1,\"１学年履修単位数 \"&EK$5&\"単位\",IF(LX9=1,\"2学年履修単位数 \"&JK$5&\"単位\",IF(QX9=1,\"2学年履修単位数 \"&OK$5&\"単位\",\"\")))","v":""},{"$f":"IF(GY9=1,\"１学年履修単位数 \"&EL$5&\"単位\",IF(LY9=1,\"2学年履修単位数 \"&JL$5&\"単位\",IF(QY9=1,\"2学年履修単位数 \"&OL$5&\"単位\",\"\")))","v":""},{"$f":"IF(GZ9=1,\"１学年履修単位数 \"&EM$5&\"単位\",IF(LZ9=1,\"2学年履修単位数 \"&JM$5&\"単位\",IF(QZ9=1,\"2学年履修単位数 \"&OM$5&\"単位\",\"\")))","v":""},{"$f":"IF(HA9=1,\"１学年履修単位数 \"&EN$5&\"単位\",IF(MA9=1,\"2学年履修単位数 \"&JN$5&\"単位\",IF(RA9=1,\"2学年履修単位数 \"&ON$5&\"単位\",\"\")))","v":""},null,null,null,null,null,null,null,1102,null,null,null,null,null,null,null,null,"",null,null,null,null,null,null,null,null,null,null,null,null,null,null,null,null,"","",null,1102,null,null,null,null,null,null,null,null,null,null,null,null,null,null,null,null,null,null,null,null,null,null,null,null,null,null,null,1102,null,null,null,null,null,null,null,null,null,null,null,null,null,null,null,null,null,null,null,null,null,null,null,null,null,null,null,1102]
[1103,null,null,null,null,null,null,null,null,null,null,null,null,"生徒欄と同様",24,3,null,null,24,4,1,1103,null,"","","","","","","","","","","","","","","","","","","","","","","","","","","","","","","","","","","","","","","","","","","","","","","","","","","","","","","","","","","","",1,0,null,1103,0,"","","","","","","","","","","","","","","","","","","","","","","","","","","","","","","","","","","","","","","","","","","","","","","","","","","","","","","","",null,null,null,null,1,0,null,1103,0,null,null,null,null,null,null,null,null,null,null,null,null,null,null,null,null,null,null,null,null,null,null,null,null,null,null,null,null,null,null,null,null,null,null,null,null,null,null,null,null,null,null,null,null,null,null,null,null,null,null,null,null,null,null,null,null,null,null,null,null,null,null,null,1103,0,"","","","","","","","","","","","","","","","","","","","","","","","","","","","","","","","","","","","","","","","","","","","","","","","","","","","","","","","",null,null,null,null,null,null,null,1103,0,null,null,null,null,null,null,null,null,null,null,null,null,null,null,null,null,null,null,null,null,null,null,null,null,null,null,null,null,null,null,null,null,null,null,null,null,null,null,null,null,null,null,null,null,null,null,null,null,null,null,null,null,null,null,null,null,null,null,null,null,null,null,null,1103,0,"","","","","","","","","","","","","","","","","","","","","","","","","","","","","","","","","","","","","","","","","","","","","","","","","","","","","","","","",null,null,null,null,null,null,null,1103,0,null,null,null,null,null,null,null,null,null,null,null,null,null,null,null,null,null,null,null,null,null,null,null,null,null,null,null,null,null,null,null,null,null,null,null,null,null,null,null,null,null,null,null,null,null,null,null,null,null,null,null,null,null,null,null,null,null,null,null,null,null,null,null,1103,0,"","","","","","","","","","","","","","","","","","","","","","","","","","","","","","","","","","","","","","","","","","","","","","","","","","","","","","","","",null,null,null,null,null,null,null,1103,0,null,null,null,null,null,null,null,null,null,null,null,null,null,null,null,null,null,null,null,null,null,null,null,null,null,null,null,null,null,null,null,null,null,null,null,null,null,null,null,null,null,null,null,null,null,null,null,null,null,null,null,null,null,null,null,null,null,null,null,null,null,null,null,1103,0,"","","","","","","","","","","","","","","","","","","","","","","","","","","","","","","","","","","","","","","","","","","","","","","","","","","","","","","","",null,null,null,null,null,null,null,1103,null,null,null,null,null,null,null,null,"",null,null,null,null,null,null,null,null,null,null,null,null,null,null,null,null,"","",null,1103,null,null,null,null,null,null,null,null,null,null,null,null,null,null,null,null,null,null,null,null,null,null,null,null,null,null,null,1103,null,null,null,null,null,null,null,null,null,null,null,null,null,null,null,null,null,null,null,null,null,null,null,null,null,null,null,1103]
[1104,null,null,null,null,null,null,null,null,null,null,null,null,"生徒欄と同様",24,3,null,null,24,4,1,1104,null,"","","","","","","","","","","","","","","","","","","","","","","","","","","","","","","","","","","","","","","","","","","","","","","","","","","","","","","","","","","","",1,0,null,1104,0,"","","","","","","","","","","","","","","","","","","","","","","","","","","","","","","","","","","","","","","","","","","","","","","","","","","","","","","","",null,null,null,null,1,0,null,1104,0,null,null,null,null,null,null,null,null,null,null,null,null,null,null,null,null,null,null,null,null,null,null,null,null,null,null,null,null,null,null,null,null,null,null,null,null,null,null,null,null,null,null,null,null,null,null,null,null,null,null,null,null,null,null,null,null,null,null,null,null,null,null,null,1104,0,"","","","","","","","","","","","","","","","","","","","","","","","","","","","","","","","","","","","","","","","","","","","","","","","","","","","","","","","",null,null,null,null,null,null,null,1104,0,null,null,null,null,null,null,null,null,null,null,null,null,null,null,null,null,null,null,null,null,null,null,null,null,null,null,null,null,null,null,null,null,null,null,null,null,null,null,null,null,null,null,null,null,null,null,null,null,null,null,null,null,null,null,null,null,null,null,null,null,null,null,null,1104,0,"","","","","","","","","","","","","","","","","","","","","","","","","","","","","","","","","","","","","","","","","","","","","","","","","","","","","","","","",null,null,null,null,null,null,null,1104,0,null,null,null,null,null,null,null,null,null,null,null,null,null,null,null,null,null,null,null,null,null,null,null,null,null,null,null,null,null,null,null,null,null,null,null,null,null,null,null,null,null,null,null,null,null,null,null,null,null,null,null,null,null,null,null,null,null,null,null,null,null,null,null,1104,0,"","","","","","","","","","","","","","","","","","","","","","","","","","","","","","","","","","","","","","","","","","","","","","","","","","","","","","","","",null,null,null,null,null,null,null,1104,0,null,null,null,null,null,null,null,null,null,null,null,null,null,null,null,null,null,null,null,null,null,null,null,null,null,null,null,null,null,null,null,null,null,null,null,null,null,null,null,null,null,null,null,null,null,null,null,null,null,null,null,null,null,null,null,null,null,null,null,null,null,null,null,1104,0,"","","","","","","","","","","","","","","","","","","","","","","","","","","","","","","","","","","","","","","","","","","","","","","","","","","","","","","","",null,null,null,null,null,null,null,1104,null,null,null,null,null,null,null,null,"",null,null,null,null,null,null,null,null,null,null,null,null,null,null,null,null,"","",null,1104,null,null,null,null,null,null,null,null,null,null,null,null,null,null,null,null,null,null,null,null,null,null,null,null,null,null,null,1104,null,null,null,null,null,null,null,null,null,null,null,null,null,null,null,null,null,null,null,null,null,null,null,null,null,null,null,1104]
[1105,null,null,null,null,null,null,null,null,null,null,null,null,"生徒欄と同様",24,3,null,null,24,4,1,1105,null,"","","","","","","","","","","","","","","","","","","","","","","","","","","","","","","","","","","","","","","","","","","","","","","","","","","","","","","","","","","","",1,0,null,1105,0,"","","","","","","","","","","","","","","","","","","","","","","","","","","","","","","","","","","","","","","","","","","","","","","","","","","","","","","","",null,null,null,null,1,0,null,1105,0,null,null,null,null,null,null,null,null,null,null,null,null,null,null,null,null,null,null,null,null,null,null,null,null,null,null,null,null,null,null,null,null,null,null,null,null,null,null,null,null,null,null,null,null,null,null,null,null,null,null,null,null,null,null,null,null,null,null,null,null,null,null,null,1105,0,"","","","","","","","","","","","","","","","","","","","","","","","","","","","","","","","","","","","","","","","","","","","","","","","","","","","","","","","",null,null,null,null,null,null,null,1105,0,null,null,null,null,null,null,null,null,null,null,null,null,null,null,null,null,null,null,null,null,null,null,null,null,null,null,null,null,null,null,null,null,null,null,null,null,null,null,null,null,null,null,null,null,null,null,null,null,null,null,null,null,null,null,null,null,null,null,null,null,null,null,null,1105,0,"","","","","","","","","","","","","","","","","","","","","","","","","","","","","","","","","","","","","","","","","","","","","","","","","","","","","","","","",null,null,null,null,null,null,null,1105,0,null,null,null,null,null,null,null,null,null,null,null,null,null,null,null,null,null,null,null,null,null,null,null,null,null,null,null,null,null,null,null,null,null,null,null,null,null,null,null,null,null,null,null,null,null,null,null,null,null,null,null,null,null,null,null,null,null,null,null,null,null,null,null,1105,0,"","","","","","","","","","","","","","","","","","","","","","","","","","","","","","","","","","","","","","","","","","","","","","","","","","","","","","","","",null,null,null,null,null,null,null,1105,0,null,null,null,null,null,null,null,null,null,null,null,null,null,null,null,null,null,null,null,null,null,null,null,null,null,null,null,null,null,null,null,null,null,null,null,null,null,null,null,null,null,null,null,null,null,null,null,null,null,null,null,null,null,null,null,null,null,null,null,null,null,null,null,1105,0,"","","","","","","","","","","","","","","","","","","","","","","","","","","","","","","","","","","","","","","","","","","","","","","","","","","","","","","","",null,null,null,null,null,null,null,1105,null,null,null,null,null,null,null,null,"",null,null,null,null,null,null,null,null,null,null,null,null,null,null,null,null,"","",null,1105,null,null,null,null,null,null,null,null,null,null,null,null,null,null,null,null,null,null,null,null,null,null,null,null,null,null,null,1105,null,null,null,null,null,null,null,null,null,null,null,null,null,null,null,null,null,null,null,null,null,null,null,null,null,null,null,1105]
[1106,null,null,null,null,null,null,null,null,null,null,null,null,"生徒欄と同様",24,3,null,null,24,4,1,1106,null,"","","","","","","","","","","","","","","","","","","","","","","","","","","","","","","","","","","","","","","","","","","","","","","","","","","","","","","","","","","","","",0,null,1106,0,"","","","","","","","","","","","","","","","","","","","","","","","","","","","","","","","","","","","","","","","","","","","","","","","","","","","","","","","",null,null,null,null,0,0,null,1106,0,null,null,null,null,null,null,null,null,null,null,null,null,null,null,null,null,null,null,null,null,null,null,null,null,null,null,null,null,null,null,null,null,null,null,null,null,null,null,null,null,null,null,null,null,null,null,null,null,null,null,null,null,null,null,null,null,null,null,null,null,null,null,null,1106,0,"","","","","","","","","","","","","","","","","","","","","","","","","","","","","","","","","","","","","","","","","","","","","","","","","","","","","","","","",null,null,null,null,null,null,null,1106,0,null,null,null,null,null,null,null,null,null,null,null,null,null,null,null,null,null,null,null,null,null,null,null,null,null,null,null,null,null,null,null,null,null,null,null,null,null,null,null,null,null,null,null,null,null,null,null,null,null,null,null,null,null,null,null,null,null,null,null,null,null,null,null,1106,0,"","","","","","","","","","","","","","","","","","","","","","","","","","","","","","","","","","","","","","","","","","","","","","","","","","","","","","","","",null,null,null,null,null,null,null,1106,0,null,null,null,null,null,null,null,null,null,null,null,null,null,null,null,null,null,null,null,null,null,null,null,null,null,null,null,null,null,null,null,null,null,null,null,null,null,null,null,null,null,null,null,null,null,null,null,null,null,null,null,null,null,null,null,null,null,null,null,null,null,null,null,1106,0,"","","","","","","","","","","","","","","","","","","","","","","","","","","","","","","","","","","","","","","","","","","","","","","","","","","","","","","","",null,null,null,null,null,null,null,1106,0,null,null,null,null,null,null,null,null,null,null,null,null,null,null,null,null,null,null,null,null,null,null,null,null,null,null,null,null,null,null,null,null,null,null,null,null,null,null,null,null,null,null,null,null,null,null,null,null,null,null,null,null,null,null,null,null,null,null,null,null,null,null,null,1106,0,"","","","","","","","","","","","","","","","","","","","","","","","","","","","","","","","","","","","","","","","","","","","","","","","","","","","","","","","",null,null,null,null,null,null,null,1106,null,null,null,null,null,null,null,null,"",null,null,null,null,null,null,null,null,null,null,null,null,null,null,null,null,"","",null,1106,null,null,null,null,null,null,null,null,null,null,null,null,null,null,null,null,null,null,null,null,null,null,null,null,null,null,null,1106,null,null,null,null,null,null,null,null,null,null,null,null,null,null,null,null,null,null,null,null,null,null,null,null,null,null,null,1106]
[1107,null,null,null,null,null,null,null,null,null,null,null,null,"生徒欄と同様",24,3,null,null,24,4,1,1107,null,"","","","","","","","","","","","","","","","","","","","","","","","","","","","","","","","","","","","","","","","","","","","","","","","","","","","","","","","","","","","",1,0,null,1107,0,"","","","","","","","","","","","","","","","","","","","","","","","","","","","","","","","","","","","","","","","","","","","","","","","","","","","","","","","",null,null,null,null,1,0,null,1107,0,null,null,null,null,null,null,null,null,null,null,null,null,null,null,null,null,null,null,null,null,null,null,null,null,null,null,null,null,null,null,null,null,null,null,null,null,null,null,null,null,null,null,null,null,null,null,null,null,null,null,null,null,null,null,null,null,null,null,null,null,null,null,null,1107,0,"","","","","","","","","","","","","","","","","","","","","","","","","","","","","","","","","","","","","","","","","","","","","","","","","","","","","","","","",null,null,null,null,null,null,null,1107,0,null,null,null,null,null,null,null,null,null,null,null,null,null,null,null,null,null,null,null,null,null,null,null,null,null,null,null,null,null,null,null,null,null,null,null,null,null,null,null,null,null,null,null,null,null,null,null,null,null,null,null,null,null,null,null,null,null,null,null,null,null,null,null,1107,0,"","","","","","","","","","","","","","","","","","","","","","","","","","","","","","","","","","","","","","","","","","","","","","","","","","","","","","","","",null,null,null,null,null,null,null,1107,0,null,null,null,null,null,null,null,null,null,null,null,null,null,null,null,null,null,null,null,null,null,null,null,null,null,null,null,null,null,null,null,null,null,null,null,null,null,null,null,null,null,null,null,null,null,null,null,null,null,null,null,null,null,null,null,null,null,null,null,null,null,null,null,1107,0,"","","","","","","","","","","","","","","","","","","","","","","","","","","","","","","","","","","","","","","","","","","","","","","","","","","","","","","","",null,null,null,null,null,null,null,1107,0,null,null,null,null,null,null,null,null,null,null,null,null,null,null,null,null,null,null,null,null,null,null,null,null,null,null,null,null,null,null,null,null,null,null,null,null,null,null,null,null,null,null,null,null,null,null,null,null,null,null,null,null,null,null,null,null,null,null,null,null,null,null,null,1107,0,"","","","","","","","","","","","","","","","","","","","","","","","","","","","","","","","","","","","","","","","","","","","","","","","","","","","","","","","",null,null,null,null,null,null,null,1107,null,null,null,null,null,null,null,null,"",null,null,null,null,null,null,null,null,null,null,null,null,null,null,null,null,"","",null,1107,null,null,null,null,null,null,null,null,null,null,null,null,null,null,null,null,null,null,null,null,null,null,null,null,null,null,null,1107,null,null,null,null,null,null,null,null,null,null,null,null,null,null,null,null,null,null,null,null,null,null,null,null,null,null,null,1107]
[1108,null,null,null,null,null,null,null,null,null,null,null,null,"生徒欄と同様",24,3,null,null,24,4,1,1108,null,"","","","","","","","","","","","","","","","","","","","","","","","","","","","","","","","","","","","","","","","","","","","","","","","","","","","","","","","","","","","",1,0,null,1108,0,"","","","","","","","","","","","","","","","","","","","","","","","","","","","","","","","","","","","","","","","","","","","","","","","","","","","","","","","",null,null,null,null,1,0,null,1108,0,null,null,null,null,null,null,null,null,null,null,null,null,null,null,null,null,null,null,null,null,null,null,null,null,null,null,null,null,null,null,null,null,null,null,null,null,null,null,null,null,null,null,null,null,null,null,null,null,null,null,null,null,null,null,null,null,null,null,null,null,null,null,null,1108,0,"","","","","","","","","","","","","","","","","","","","","","","","","","","","","","","","","","","","","","","","","","","","","","","","","","","","","","","","",null,null,null,null,null,null,null,1108,0,null,null,null,null,null,null,null,null,null,null,null,null,null,null,null,null,null,null,null,null,null,null,null,null,null,null,null,null,null,null,null,null,null,null,null,null,null,null,null,null,null,null,null,null,null,null,null,null,null,null,null,null,null,null,null,null,null,null,null,null,null,null,null,1108,0,"","","","","","","","","","","","","","","","","","","","","","","","","","","","","","","","","","","","","","","","","","","","","","","","","","","","","","","","",null,null,null,null,null,null,null,1108,0,null,null,null,null,null,null,null,null,null,null,null,null,null,null,null,null,null,null,null,null,null,null,null,null,null,null,null,null,null,null,null,null,null,null,null,null,null,null,null,null,null,null,null,null,null,null,null,null,null,null,null,null,null,null,null,null,null,null,null,null,null,null,null,1108,0,"","","","","","","","","","","","","","","","","","","","","","","","","","","","","","","","","","","","","","","","","","","","","","","","","","","","","","","","",null,null,null,null,null,null,null,1108,0,null,null,null,null,null,null,null,null,null,null,null,null,null,null,null,null,null,null,null,null,null,null,null,null,null,null,null,null,null,null,null,null,null,null,null,null,null,null,null,null,null,null,null,null,null,null,null,null,null,null,null,null,null,null,null,null,null,null,null,null,null,null,null,1108,0,"","","","","","","","","","","","","","","","","","","","","","","","","","","","","","","","","","","","","","","","","","","","","","","","","","","","","","","","",null,null,null,null,null,null,null,1108,null,null,null,null,null,null,null,null,"",null,null,null,null,null,null,null,null,null,null,null,null,null,null,null,null,"","",null,1108,null,null,null,null,null,null,null,null,null,null,null,null,null,null,null,null,null,null,null,null,null,null,null,null,null,null,null,1108,null,null,null,null,null,null,null,null,null,null,null,null,null,null,null,null,null,null,null,null,null,null,null,null,null,null,null,1108]
[1109,null,null,null,null,null,null,null,null,null,null,null,null,"生徒欄と同様",24,3,null,null,24,4,1,1109,null,"","","","","","","","","","","","","","","","","","","","","","","","","","","","","","","","","","","","","","","","","","","","","","","","","","","","","","","","","","","","",1,0,null,1109,0,"","","","","","","","","","","","","","","","","","","","","","","","","","","","","","","","","","","","","","","","","","","","","","","","","","","","","","","","",null,null,null,null,1,0,null,1109,0,null,null,null,null,null,null,null,null,null,null,null,null,null,null,null,null,null,null,null,null,null,null,null,null,null,null,null,null,null,null,null,null,null,null,null,null,null,null,null,null,null,null,null,null,null,null,null,null,null,null,null,null,null,null,null,null,null,null,null,null,null,null,null,1109,0,"","","","","","","","","","","","","","","","","","","","","","","","","","","","","","","","","","","","","","","","","","","","","","","","","","","","","","","","",null,null,null,null,null,null,null,1109,0,null,null,null,null,null,null,null,null,null,null,null,null,null,null,null,null,null,null,null,null,null,null,null,null,null,null,null,null,null,null,null,null,null,null,null,null,null,null,null,null,null,null,null,null,null,null,null,null,null,null,null,null,null,null,null,null,null,null,null,null,null,null,null,1109,0,"","","","","","","","","","","","","","","","","","","","","","","","","","","","","","","","","","","","","","","","","","","","","","","","","","","","","","","","",null,null,null,null,null,null,null,1109,0,null,null,null,null,null,null,null,null,null,null,null,null,null,null,null,null,null,null,null,null,null,null,null,null,null,null,null,null,null,null,null,null,null,null,null,null,null,null,null,null,null,null,null,null,null,null,null,null,null,null,null,null,null,null,null,null,null,null,null,null,null,null,null,1109,0,"","","","","","","","","","","","","","","","","","","","","","","","","","","","","","","","","","","","","","","","","","","","","","","","","","","","","","","","",null,null,null,null,null,null,null,1109,0,null,null,null,null,null,null,null,null,null,null,null,null,null,null,null,null,null,null,null,null,null,null,null,null,null,null,null,null,null,null,null,null,null,null,null,null,null,null,null,null,null,null,null,null,null,null,null,null,null,null,null,null,null,null,null,null,null,null,null,null,null,null,null,1109,0,"","","","","","","","","","","","","","","","","","","","","","","","","","","","","","","","","","","","","","","","","","","","","","","","","","","","","","","","",null,null,null,null,null,null,null,1109,null,null,null,null,null,null,null,null,"",null,null,null,null,null,null,null,null,null,null,null,null,null,null,null,null,"","",null,1109,null,null,null,null,null,null,null,null,null,null,null,null,null,null,null,null,null,null,null,null,null,null,null,null,null,null,null,1109,null,null,null,null,null,null,null,null,null,null,null,null,null,null,null,null,null,null,null,null,null,null,null,null,null,null,null,1109]
[1110,null,null,null,null,null,null,null,null,null,null,null,null,"生徒欄と同様",24,3,null,null,24,4,1,1110,null,"","","","","","","","","","","","","","","","","","","","","","","","","","","","","","","","","","","","","","","","","","","","","","","","","","","","","","","","","","","","",1,0,null,1110,0,"","","","","","","","","","","","","","","","","","","","","","","","","","","","","","","","","","","","","","","","","","","","","","","","","","","","","","","","",null,null,null,null,1,0,null,1110,0,null,null,null,null,null,null,null,null,null,null,null,null,null,null,null,null,null,null,null,null,null,null,null,null,null,null,null,null,null,null,null,null,null,null,null,null,null,null,null,null,null,null,null,null,null,null,null,null,null,null,null,null,null,null,null,null,null,null,null,null,null,null,null,1110,0,"","","","","","","","","","","","","","","","","","","","","","","","","","","","","","","","","","","","","","","","","","","","","","","","","","","","","","","","",null,null,null,null,null,null,null,1110,0,null,null,null,null,null,null,null,null,null,null,null,null,null,null,null,null,null,null,null,null,null,null,null,null,null,null,null,null,null,null,null,null,null,null,null,null,null,null,null,null,null,null,null,null,null,null,null,null,null,null,null,null,null,null,null,null,null,null,null,null,null,null,null,1110,0,"","","","","","","","","","","","","","","","","","","","","","","","","","","","","","","","","","","","","","","","","","","","","","","","","","","","","","","","",null,null,null,null,null,null,null,1110,0,null,null,null,null,null,null,null,null,null,null,null,null,null,null,null,null,null,null,null,null,null,null,null,null,null,null,null,null,null,null,null,null,null,null,null,null,null,null,null,null,null,null,null,null,null,null,null,null,null,null,null,null,null,null,null,null,null,null,null,null,null,null,null,1110,0,"","","","","","","","","","","","","","","","","","","","","","","","","","","","","","","","","","","","","","","","","","","","","","","","","","","","","","","","",null,null,null,null,null,null,null,1110,0,null,null,null,null,null,null,null,null,null,null,null,null,null,null,null,null,null,null,null,null,null,null,null,null,null,null,null,null,null,null,null,null,null,null,null,null,null,null,null,null,null,null,null,null,null,null,null,null,null,null,null,null,null,null,null,null,null,null,null,null,null,null,null,1110,0,"","","","","","","","","","","","","","","","","","","","","","","","","","","","","","","","","","","","","","","","","","","","","","","","","","","","","","","","",null,null,null,null,null,null,null,1110,null,null,null,null,null,null,null,null,"",null,null,null,null,null,null,null,null,null,null,null,null,null,null,null,null,"","",null,1110,null,null,null,null,null,null,null,null,null,null,null,null,null,null,null,null,null,null,null,null,null,null,null,null,null,null,null,1110,null,null,null,null,null,null,null,null,null,null,null,null,null,null,null,null,null,null,null,null,null,null,null,null,null,null,null,1110]
[1111,null,null,null,null,null,null,null,null,null,null,null,null,"生徒欄と同様",24,3,null,null,24,4,1,1111,null,"","","","","","","","","","","","","","","","","","","","","","","","","","","","","","","","","","","","","","","","","","","","","","","","","","","","","","","","","","","","","",0,null,1111,0,"","","","","","","","","","","","","","","","","","","","","","","","","","","","","","","","","","","","","","","","","","","","","","","","","","","","","","","","",null,null,null,null,0,0,null,1111,0,null,null,null,null,null,null,null,null,null,null,null,null,null,null,null,null,null,null,null,null,null,null,null,null,null,null,null,null,null,null,null,null,null,null,null,null,null,null,null,null,null,null,null,null,null,null,null,null,null,null,null,null,null,null,null,null,null,null,null,null,null,null,null,1111,0,"","","","","","","","","","","","","","","","","","","","","","","","","","","","","","","","","","","","","","","","","","","","","","","","","","","","","","","","",null,null,null,null,null,null,null,1111,0,null,null,null,null,null,null,null,null,null,null,null,null,null,null,null,null,null,null,null,null,null,null,null,null,null,null,null,null,null,null,null,null,null,null,null,null,null,null,null,null,null,null,null,null,null,null,null,null,null,null,null,null,null,null,null,null,null,null,null,null,null,null,null,1111,0,"","","","","","","","","","","","","","","","","","","","","","","","","","","","","","","","","","","","","","","","","","","","","","","","","","","","","","","","",null,null,null,null,null,null,null,1111,0,null,null,null,null,null,null,null,null,null,null,null,null,null,null,null,null,null,null,null,null,null,null,null,null,null,null,null,null,null,null,null,null,null,null,null,null,null,null,null,null,null,null,null,null,null,null,null,null,null,null,null,null,null,null,null,null,null,null,null,null,null,null,null,1111,0,"","","","","","","","","","","","","","","","","","","","","","","","","","","","","","","","","","","","","","","","","","","","","","","","","","","","","","","","",null,null,null,null,null,null,null,1111,0,null,null,null,null,null,null,null,null,null,null,null,null,null,null,null,null,null,null,null,null,null,null,null,null,null,null,null,null,null,null,null,null,null,null,null,null,null,null,null,null,null,null,null,null,null,null,null,null,null,null,null,null,null,null,null,null,null,null,null,null,null,null,null,1111,0,"","","","","","","","","","","","","","","","","","","","","","","","","","","","","","","","","","","","","","","","","","","","","","","","","","","","","","","","",null,null,null,null,null,null,null,1111,null,null,null,null,null,null,null,null,"",null,null,null,null,null,null,null,null,null,null,null,null,null,null,null,null,"","",null,1111,null,null,null,null,null,null,null,null,null,null,null,null,null,null,null,null,null,null,null,null,null,null,null,null,null,null,null,1111,null,null,null,null,null,null,null,null,null,null,null,null,null,null,null,null,null,null,null,null,null,null,null,null,null,null,null,1111]
[1112,null,null,null,null,null,null,null,null,null,null,null,null,"生徒欄と同様",24,3,null,null,24,4,1,1112,null,"","","","","","","","","","","","","","","","","","","","","","","","","","","","","","","","","","","","","","","","","","","","","","","","","","","","","","","","","","","","",1,0,null,1112,0,"","","","","","","","","","","","","","","","","","","","","","","","","","","","","","","","","","","","","","","","","","","","","","","","","","","","","","","","",null,null,null,null,1,0,null,1112,0,null,null,null,null,null,null,null,null,null,null,null,null,null,null,null,null,null,null,null,null,null,null,null,null,null,null,null,null,null,null,null,null,null,null,null,null,null,null,null,null,null,null,null,null,null,null,null,null,null,null,null,null,null,null,null,null,null,null,null,null,null,null,null,1112,0,"","","","","","","","","","","","","","","","","","","","","","","","","","","","","","","","","","","","","","","","","","","","","","","","","","","","","","","","",null,null,null,null,null,null,null,1112,0,null,null,null,null,null,null,null,null,null,null,null,null,null,null,null,null,null,null,null,null,null,null,null,null,null,null,null,null,null,null,null,null,null,null,null,null,null,null,null,null,null,null,null,null,null,null,null,null,null,null,null,null,null,null,null,null,null,null,null,null,null,null,null,1112,0,"","","","","","","","","","","","","","","","","","","","","","","","","","","","","","","","","","","","","","","","","","","","","","","","","","","","","","","","",null,null,null,null,null,null,null,1112,0,null,null,null,null,null,null,null,null,null,null,null,null,null,null,null,null,null,null,null,null,null,null,null,null,null,null,null,null,null,null,null,null,null,null,null,null,null,null,null,null,null,null,null,null,null,null,null,null,null,null,null,null,null,null,null,null,null,null,null,null,null,null,null,1112,0,"","","","","","","","","","","","","","","","","","","","","","","","","","","","","","","","","","","","","","","","","","","","","","","","","","","","","","","","",null,null,null,null,null,null,null,1112,0,null,null,null,null,null,null,null,null,null,null,null,null,null,null,null,null,null,null,null,null,null,null,null,null,null,null,null,null,null,null,null,null,null,null,null,null,null,null,null,null,null,null,null,null,null,null,null,null,null,null,null,null,null,null,null,null,null,null,null,null,null,null,null,1112,0,"","","","","","","","","","","","","","","","","","","","","","","","","","","","","","","","","","","","","","","","","","","","","","","","","","","","","","","","",null,null,null,null,null,null,null,1112,null,null,null,null,null,null,null,null,"",null,null,null,null,null,null,null,null,null,null,null,null,null,null,null,null,"","",null,1112,null,null,null,null,null,null,null,null,null,null,null,null,null,null,null,null,null,null,null,null,null,null,null,null,null,null,null,1112,null,null,null,null,null,null,null,null,null,null,null,null,null,null,null,null,null,null,null,null,null,null,null,null,null,null,null,1112]
[1113,null,null,null,null,null,null,null,null,null,null,null,null,"生徒欄と同様",24,3,null,null,24,4,1,1113,null,"","","","","","","","","","","","","","","","","","","","","","","","","","","","","","","","","","","","","","","","","","","","","","","","","","","","","","","","","","","","",1,0,null,1113,0,"","","","","","","","","","","","","","","","","","","","","","","","","","","","","","","","","","","","","","","","","","","","","","","","","","","","","","","","",null,null,null,null,1,0,null,1113,0,null,null,null,null,null,null,null,null,null,null,null,null,null,null,null,null,null,null,null,null,null,null,null,null,null,null,null,null,null,null,null,null,null,null,null,null,null,null,null,null,null,null,null,null,null,null,null,null,null,null,null,null,null,null,null,null,null,null,null,null,null,null,null,1113,0,"","","","","","","","","","","","","","","","","","","","","","","","","","","","","","","","","","","","","","","","","","","","","","","","","","","","","","","","",null,null,null,null,null,null,null,1113,0,null,null,null,null,null,null,null,null,null,null,null,null,null,null,null,null,null,null,null,null,null,null,null,null,null,null,null,null,null,null,null,null,null,null,null,null,null,null,null,null,null,null,null,null,null,null,null,null,null,null,null,null,null,null,null,null,null,null,null,null,null,null,null,1113,0,"","","","","","","","","","","","","","","","","","","","","","","","","","","","","","","","","","","","","","","","","","","","","","","","","","","","","","","","",null,null,null,null,null,null,null,1113,0,null,null,null,null,null,null,null,null,null,null,null,null,null,null,null,null,null,null,null,null,null,null,null,null,null,null,null,null,null,null,null,null,null,null,null,null,null,null,null,null,null,null,null,null,null,null,null,null,null,null,null,null,null,null,null,null,null,null,null,null,null,null,null,1113,0,"","","","","","","","","","","","","","","","","","","","","","","","","","","","","","","","","","","","","","","","","","","","","","","","","","","","","","","","",null,null,null,null,null,null,null,1113,0,null,null,null,null,null,null,null,null,null,null,null,null,null,null,null,null,null,null,null,null,null,null,null,null,null,null,null,null,null,null,null,null,null,null,null,null,null,null,null,null,null,null,null,null,null,null,null,null,null,null,null,null,null,null,null,null,null,null,null,null,null,null,null,1113,0,"","","","","","","","","","","","","","","","","","","","","","","","","","","","","","","","","","","","","","","","","","","","","","","","","","","","","","","","",null,null,null,null,null,null,null,1113,null,null,null,null,null,null,null,null,"",null,null,null,null,null,null,null,null,null,null,null,null,null,null,null,null,"","",null,1113,null,null,null,null,null,null,null,null,null,null,null,null,null,null,null,null,null,null,null,null,null,null,null,null,null,null,null,1113,null,null,null,null,null,null,null,null,null,null,null,null,null,null,null,null,null,null,null,null,null,null,null,null,null,null,null,1113]
[1114,null,null,null,null,null,null,null,null,null,null,null,null,"生徒欄と同様",24,3,null,null,24,4,1,1114,null,"","","","","","","","","","","","","","","","","","","","","","","","","","","","","","","","","","","","","","","","","","","","","","","","","","","","","","","","","","","","",1,0,null,1114,0,"","","","","","","","","","","","","","","","","","","","","","","","","","","","","","","","","","","","","","","","","","","","","","","","","","","","","","","","",null,null,null,null,1,0,null,1114,0,null,null,null,null,null,null,null,null,null,null,null,null,null,null,null,null,null,null,null,null,null,null,null,null,null,null,null,null,null,null,null,null,null,null,null,null,null,null,null,null,null,null,null,null,null,null,null,null,null,null,null,null,null,null,null,null,null,null,null,null,null,null,null,1114,0,"","","","","","","","","","","","","","","","","","","","","","","","","","","","","","","","","","","","","","","","","","","","","","","","","","","","","","","","",null,null,null,null,null,null,null,1114,0,null,null,null,null,null,null,null,null,null,null,null,null,null,null,null,null,null,null,null,null,null,null,null,null,null,null,null,null,null,null,null,null,null,null,null,null,null,null,null,null,null,null,null,null,null,null,null,null,null,null,null,null,null,null,null,null,null,null,null,null,null,null,null,1114,0,"","","","","","","","","","","","","","","","","","","","","","","","","","","","","","","","","","","","","","","","","","","","","","","","","","","","","","","","",null,null,null,null,null,null,null,1114,0,null,null,null,null,null,null,null,null,null,null,null,null,null,null,null,null,null,null,null,null,null,null,null,null,null,null,null,null,null,null,null,null,null,null,null,null,null,null,null,null,null,null,null,null,null,null,null,null,null,null,null,null,null,null,null,null,null,null,null,null,null,null,null,1114,0,"","","","","","","","","","","","","","","","","","","","","","","","","","","","","","","","","","","","","","","","","","","","","","","","","","","","","","","","",null,null,null,null,null,null,null,1114,0,null,null,null,null,null,null,null,null,null,null,null,null,null,null,null,null,null,null,null,null,null,null,null,null,null,null,null,null,null,null,null,null,null,null,null,null,null,null,null,null,null,null,null,null,null,null,null,null,null,null,null,null,null,null,null,null,null,null,null,null,null,null,null,1114,0,"","","","","","","","","","","","","","","","","","","","","","","","","","","","","","","","","","","","","","","","","","","","","","","","","","","","","","","","",null,null,null,null,null,null,null,1114,null,null,null,null,null,null,null,null,"",null,null,null,null,null,null,null,null,null,null,null,null,null,null,null,null,"","",null,1114,null,null,null,null,null,null,null,null,null,null,null,null,null,null,null,null,null,null,null,null,null,null,null,null,null,null,null,1114,null,null,null,null,null,null,null,null,null,null,null,null,null,null,null,null,null,null,null,null,null,null,null,null,null,null,null,1114]
[1115,null,null,null,null,null,null,null,null,null,null,null,null,"生徒欄と同様",24,3,null,null,24,4,1,1115,null,"","","","","","","","","","","","","","","","","","","","","","","","","","","","","","","","","","","","","","","","","","","","","","","","","","","","","","","","","","","","",1,0,null,1115,0,"","","","","","","","","","","","","","","","","","","","","","","","","","","","","","","","","","","","","","","","","","","","","","","","","","","","","","","","",null,null,null,null,1,0,null,1115,0,null,null,null,null,null,null,null,null,null,null,null,null,null,null,null,null,null,null,null,null,null,null,null,null,null,null,null,null,null,null,null,null,null,null,null,null,null,null,null,null,null,null,null,null,null,null,null,null,null,null,null,null,null,null,null,null,null,null,null,null,null,null,null,1115,0,"","","","","","","","","","","","","","","","","","","","","","","","","","","","","","","","","","","","","","","","","","","","","","","","","","","","","","","","",null,null,null,null,null,null,null,1115,0,null,null,null,null,null,null,null,null,null,null,null,null,null,null,null,null,null,null,null,null,null,null,null,null,null,null,null,null,null,null,null,null,null,null,null,null,null,null,null,null,null,null,null,null,null,null,null,null,null,null,null,null,null,null,null,null,null,null,null,null,null,null,null,1115,0,"","","","","","","","","","","","","","","","","","","","","","","","","","","","","","","","","","","","","","","","","","","","","","","","","","","","","","","","",null,null,null,null,null,null,null,1115,0,null,null,null,null,null,null,null,null,null,null,null,null,null,null,null,null,null,null,null,null,null,null,null,null,null,null,null,null,null,null,null,null,null,null,null,null,null,null,null,null,null,null,null,null,null,null,null,null,null,null,null,null,null,null,null,null,null,null,null,null,null,null,null,1115,0,"","","","","","","","","","","","","","","","","","","","","","","","","","","","","","","","","","","","","","","","","","","","","","","","","","","","","","","","",null,null,null,null,null,null,null,1115,0,null,null,null,null,null,null,null,null,null,null,null,null,null,null,null,null,null,null,null,null,null,null,null,null,null,null,null,null,null,null,null,null,null,null,null,null,null,null,null,null,null,null,null,null,null,null,null,null,null,null,null,null,null,null,null,null,null,null,null,null,null,null,null,1115,0,"","","","","","","","","","","","","","","","","","","","","","","","","","","","","","","","","","","","","","","","","","","","","","","","","","","","","","","","",null,null,null,null,null,null,null,1115,null,null,null,null,null,null,null,null,"",null,null,null,null,null,null,null,null,null,null,null,null,null,null,null,null,"","",null,1115,null,null,null,null,null,null,null,null,null,null,null,null,null,null,null,null,null,null,null,null,null,null,null,null,null,null,null,1115,null,null,null,null,null,null,null,null,null,null,null,null,null,null,null,null,null,null,null,null,null,null,null,null,null,null,null,1115]
[1116,null,null,null,null,null,null,null,null,null,null,null,null,"生徒欄と同様",24,3,null,null,24,4,1,1116,null,"","","","","","","","","","","","","","","","","","","","","","","","","","","","","","","","","","","","","","","","","","","","","","","","","","","","","","","","","","","","",1,0,null,1116,0,"","","","","","","","","","","","","","","","","","","","","","","","","","","","","","","","","","","","","","","","","","","","","","","","","","","","","","","","",null,null,null,null,1,0,null,1116,0,null,null,null,null,null,null,null,null,null,null,null,null,null,null,null,null,null,null,null,null,null,null,null,null,null,null,null,null,null,null,null,null,null,null,null,null,null,null,null,null,null,null,null,null,null,null,null,null,null,null,null,null,null,null,null,null,null,null,null,null,null,null,null,1116,0,"","","","","","","","","","","","","","","","","","","","","","","","","","","","","","","","","","","","","","","","","","","","","","","","","","","","","","","","",null,null,null,null,null,null,null,1116,0,null,null,null,null,null,null,null,null,null,null,null,null,null,null,null,null,null,null,null,null,null,null,null,null,null,null,null,null,null,null,null,null,null,null,null,null,null,null,null,null,null,null,null,null,null,null,null,null,null,null,null,null,null,null,null,null,null,null,null,null,null,null,null,1116,0,"","","","","","","","","","","","","","","","","","","","","","","","","","","","","","","","","","","","","","","","","","","","","","","","","","","","","","","","",null,null,null,null,null,null,null,1116,0,null,null,null,null,null,null,null,null,null,null,null,null,null,null,null,null,null,null,null,null,null,null,null,null,null,null,null,null,null,null,null,null,null,null,null,null,null,null,null,null,null,null,null,null,null,null,null,null,null,null,null,null,null,null,null,null,null,null,null,null,null,null,null,1116,0,"","","","","","","","","","","","","","","","","","","","","","","","","","","","","","","","","","","","","","","","","","","","","","","","","","","","","","","","",null,null,null,null,null,null,null,1116,0,null,null,null,null,null,null,null,null,null,null,null,null,null,null,null,null,null,null,null,null,null,null,null,null,null,null,null,null,null,null,null,null,null,null,null,null,null,null,null,null,null,null,null,null,null,null,null,null,null,null,null,null,null,null,null,null,null,null,null,null,null,null,null,1116,0,"","","","","","","","","","","","","","","","","","","","","","","","","","","","","","","","","","","","","","","","","","","","","","","","","","","","","","","","",null,null,null,null,null,null,null,1116,null,null,null,null,null,null,null,null,"",null,null,null,null,null,null,null,null,null,null,null,null,null,null,null,null,"","",null,1116,null,null,null,null,null,null,null,null,null,null,null,null,null,null,null,null,null,null,null,null,null,null,null,null,null,null,null,1116,null,null,null,null,null,null,null,null,null,null,null,null,null,null,null,null,null,null,null,null,null,null,null,null,null,null,null,1116]
[1117,null,null,null,null,null,null,null,null,null,null,null,null,"生徒欄と同様",24,3,null,null,24,4,1,1117,null,"","","","","","","","","","","","","","","","","","","","","","","","","","","","","","","","","","","","","","","","","","","","","","","","","","","","","","","","","","","","",1,0,null,1117,0,"","","","","","","","","","","","","","","","","","","","","","","","","","","","","","","","","","","","","","","","","","","","","","","","","","","","","","","","",null,null,null,null,1,0,null,1117,0,null,null,null,null,null,null,null,null,null,null,null,null,null,null,null,null,null,null,null,null,null,null,null,null,null,null,null,null,null,null,null,null,null,null,null,null,null,null,null,null,null,null,null,null,null,null,null,null,null,null,null,null,null,null,null,null,null,null,null,null,null,null,null,1117,0,"","","","","","","","","","","","","","","","","","","","","","","","","","","","","","","","","","","","","","","","","","","","","","","","","","","","","","","","",null,null,null,null,null,null,null,1117,0,null,null,null,null,null,null,null,null,null,null,null,null,null,null,null,null,null,null,null,null,null,null,null,null,null,null,null,null,null,null,null,null,null,null,null,null,null,null,null,null,null,null,null,null,null,null,null,null,null,null,null,null,null,null,null,null,null,null,null,null,null,null,null,1117,0,"","","","","","","","","","","","","","","","","","","","","","","","","","","","","","","","","","","","","","","","","","","","","","","","","","","","","","","","",null,null,null,null,null,null,null,1117,0,null,null,null,null,null,null,null,null,null,null,null,null,null,null,null,null,null,null,null,null,null,null,null,null,null,null,null,null,null,null,null,null,null,null,null,null,null,null,null,null,null,null,null,null,null,null,null,null,null,null,null,null,null,null,null,null,null,null,null,null,null,null,null,1117,0,"","","","","","","","","","","","","","","","","","","","","","","","","","","","","","","","","","","","","","","","","","","","","","","","","","","","","","","","",null,null,null,null,null,null,null,1117,0,null,null,null,null,null,null,null,null,null,null,null,null,null,null,null,null,null,null,null,null,null,null,null,null,null,null,null,null,null,null,null,null,null,null,null,null,null,null,null,null,null,null,null,null,null,null,null,null,null,null,null,null,null,null,null,null,null,null,null,null,null,null,null,1117,0,"","","","","","","","","","","","","","","","","","","","","","","","","","","","","","","","","","","","","","","","","","","","","","","","","","","","","","","","",null,null,null,null,null,null,null,1117,null,null,null,null,null,null,null,null,"",null,null,null,null,null,null,null,null,null,null,null,null,null,null,null,null,"","",null,1117,null,null,null,null,null,null,null,null,null,null,null,null,null,null,null,null,null,null,null,null,null,null,null,null,null,null,null,1117,null,null,null,null,null,null,null,null,null,null,null,null,null,null,null,null,null,null,null,null,null,null,null,null,null,null,null,1117]
[1118,null,null,null,null,null,null,null,null,null,null,null,null,"生徒欄と同様",24,3,null,null,24,4,1,1118,null,"","","","","","","","","","","","","","","","","","","","","","","","","","","","","","","","","","","","","","","","","","","","","","","","","","","","","","","","","","","","",1,0,null,1118,0,"","","","","","","","","","","","","","","","","","","","","","","","","","","","","","","","","","","","","","","","","","","","","","","","","","","","","","","","",null,null,null,null,1,0,null,1118,0,null,null,null,null,null,null,null,null,null,null,null,null,null,null,null,null,null,null,null,null,null,null,null,null,null,null,null,null,null,null,null,null,null,null,null,null,null,null,null,null,null,null,null,null,null,null,null,null,null,null,null,null,null,null,null,null,null,null,null,null,null,null,null,1118,0,"","","","","","","","","","","","","","","","","","","","","","","","","","","","","","","","","","","","","","","","","","","","","","","","","","","","","","","","",null,null,null,null,null,null,null,1118,0,null,null,null,null,null,null,null,null,null,null,null,null,null,null,null,null,null,null,null,null,null,null,null,null,null,null,null,null,null,null,null,null,null,null,null,null,null,null,null,null,null,null,null,null,null,null,null,null,null,null,null,null,null,null,null,null,null,null,null,null,null,null,null,1118,0,"","","","","","","","","","","","","","","","","","","","","","","","","","","","","","","","","","","","","","","","","","","","","","","","","","","","","","","","",null,null,null,null,null,null,null,1118,0,null,null,null,null,null,null,null,null,null,null,null,null,null,null,null,null,null,null,null,null,null,null,null,null,null,null,null,null,null,null,null,null,null,null,null,null,null,null,null,null,null,null,null,null,null,null,null,null,null,null,null,null,null,null,null,null,null,null,null,null,null,null,null,1118,0,"","","","","","","","","","","","","","","","","","","","","","","","","","","","","","","","","","","","","","","","","","","","","","","","","","","","","","","","",null,null,null,null,null,null,null,1118,0,null,null,null,null,null,null,null,null,null,null,null,null,null,null,null,null,null,null,null,null,null,null,null,null,null,null,null,null,null,null,null,null,null,null,null,null,null,null,null,null,null,null,null,null,null,null,null,null,null,null,null,null,null,null,null,null,null,null,null,null,null,null,null,1118,0,"","","","","","","","","","","","","","","","","","","","","","","","","","","","","","","","","","","","","","","","","","","","","","","","","","","","","","","","",null,null,null,null,null,null,null,1118,null,null,null,null,null,null,null,null,"",null,null,null,null,null,null,null,null,null,null,null,null,null,null,null,null,"","",null,1118,null,null,null,null,null,null,null,null,null,null,null,null,null,null,null,null,null,null,null,null,null,null,null,null,null,null,null,1118,null,null,null,null,null,null,null,null,null,null,null,null,null,null,null,null,null,null,null,null,null,null,null,null,null,null,null,1118]
[1119,null,null,null,null,null,null,null,null,null,null,null,null,"生徒欄と同様",24,3,null,null,24,4,1,1119,null,"","","","","","","","","","","","","","","","","","","","","","","","","","","","","","","","","","","","","","","","","","","","","","","","","","","","","","","","","","","","",1,0,null,1119,0,"","","","","","","","","","","","","","","","","","","","","","","","","","","","","","","","","","","","","","","","","","","","","","","","","","","","","","","","",null,null,null,null,1,0,null,1119,0,null,null,null,null,null,null,null,null,null,null,null,null,null,null,null,null,null,null,null,null,null,null,null,null,null,null,null,null,null,null,null,null,null,null,null,null,null,null,null,null,null,null,null,null,null,null,null,null,null,null,null,null,null,null,null,null,null,null,null,null,null,null,null,1119,0,"","","","","","","","","","","","","","","","","","","","","","","","","","","","","","","","","","","","","","","","","","","","","","","","","","","","","","","","",null,null,null,null,null,null,null,1119,0,null,null,null,null,null,null,null,null,null,null,null,null,null,null,null,null,null,null,null,null,null,null,null,null,null,null,null,null,null,null,null,null,null,null,null,null,null,null,null,null,null,null,null,null,null,null,null,null,null,null,null,null,null,null,null,null,null,null,null,null,null,null,null,1119,0,"","","","","","","","","","","","","","","","","","","","","","","","","","","","","","","","","","","","","","","","","","","","","","","","","","","","","","","","",null,null,null,null,null,null,null,1119,0,null,null,null,null,null,null,null,null,null,null,null,null,null,null,null,null,null,null,null,null,null,null,null,null,null,null,null,null,null,null,null,null,null,null,null,null,null,null,null,null,null,null,null,null,null,null,null,null,null,null,null,null,null,null,null,null,null,null,null,null,null,null,null,1119,0,"","","","","","","","","","","","","","","","","","","","","","","","","","","","","","","","","","","","","","","","","","","","","","","","","","","","","","","","",null,null,null,null,null,null,null,1119,0,null,null,null,null,null,null,null,null,null,null,null,null,null,null,null,null,null,null,null,null,null,null,null,null,null,null,null,null,null,null,null,null,null,null,null,null,null,null,null,null,null,null,null,null,null,null,null,null,null,null,null,null,null,null,null,null,null,null,null,null,null,null,null,1119,0,"","","","","","","","","","","","","","","","","","","","","","","","","","","","","","","","","","","","","","","","","","","","","","","","","","","","","","","","",null,null,null,null,null,null,null,1119,null,null,null,null,null,null,null,null,"",null,null,null,null,null,null,null,null,null,null,null,null,null,null,null,null,"","",null,1119,null,null,null,null,null,null,null,null,null,null,null,null,null,null,null,null,null,null,null,null,null,null,null,null,null,null,null,1119,null,null,null,null,null,null,null,null,null,null,null,null,null,null,null,null,null,null,null,null,null,null,null,null,null,null,null,1119]
[1120,null,null,null,null,null,null,null,null,null,null,null,null,"生徒欄と同様",24,3,null,null,24,4,1,1120,null,"","","","","","","","","","","","","","","","","","","","","","","","","","","","","","","","","","","","","","","","","","","","","","","","","","","","","","","","","","","","",1,0,null,1120,0,"","","","","","","","","","","","","","","","","","","","","","","","","","","","","","","","","","","","","","","","","","","","","","","","","","","","","","","","",null,null,null,null,1,0,null,1120,0,null,null,null,null,null,null,null,null,null,null,null,null,null,null,null,null,null,null,null,null,null,null,null,null,null,null,null,null,null,null,null,null,null,null,null,null,null,null,null,null,null,null,null,null,null,null,null,null,null,null,null,null,null,null,null,null,null,null,null,null,null,null,null,1120,0,"","","","","","","","","","","","","","","","","","","","","","","","","","","","","","","","","","","","","","","","","","","","","","","","","","","","","","","","",null,null,null,null,null,null,null,1120,0,null,null,null,null,null,null,null,null,null,null,null,null,null,null,null,null,null,null,null,null,null,null,null,null,null,null,null,null,null,null,null,null,null,null,null,null,null,null,null,null,null,null,null,null,null,null,null,null,null,null,null,null,null,null,null,null,null,null,null,null,null,null,null,1120,0,"","","","","","","","","","","","","","","","","","","","","","","","","","","","","","","","","","","","","","","","","","","","","","","","","","","","","","","","",null,null,null,null,null,null,null,1120,0,null,null,null,null,null,null,null,null,null,null,null,null,null,null,null,null,null,null,null,null,null,null,null,null,null,null,null,null,null,null,null,null,null,null,null,null,null,null,null,null,null,null,null,null,null,null,null,null,null,null,null,null,null,null,null,null,null,null,null,null,null,null,null,1120,0,"","","","","","","","","","","","","","","","","","","","","","","","","","","","","","","","","","","","","","","","","","","","","","","","","","","","","","","","",null,null,null,null,null,null,null,1120,0,null,null,null,null,null,null,null,null,null,null,null,null,null,null,null,null,null,null,null,null,null,null,null,null,null,null,null,null,null,null,null,null,null,null,null,null,null,null,null,null,null,null,null,null,null,null,null,null,null,null,null,null,null,null,null,null,null,null,null,null,null,null,null,1120,0,"","","","","","","","","","","","","","","","","","","","","","","","","","","","","","","","","","","","","","","","","","","","","","","","","","","","","","","","",null,null,null,null,null,null,null,1120,null,null,null,null,null,null,null,null,"",null,null,null,null,null,null,null,null,null,null,null,null,null,null,null,null,"","",null,1120,null,null,null,null,null,null,null,null,null,null,null,null,null,null,null,null,null,null,null,null,null,null,null,null,null,null,null,1120,null,null,null,null,null,null,null,null,null,null,null,null,null,null,null,null,null,null,null,null,null,null,null,null,null,null,null,1120]
[1121,null,null,null,null,null,null,null,null,null,null,null,null,"生徒欄と同様",24,3,null,null,24,4,1,1121,null,"","","","","","","","","","","","","","","","","","","","","","","","","","","","","","","","","","","","","","","","","","","","","","","","","","","","","","","","","","","","",1,0,null,1121,0,"","","","","","","","","","","","","","","","","","","","","","","","","","","","","","","","","","","","","","","","","","","","","","","","","","","","","","","","",null,null,null,null,1,0,null,1121,0,null,null,null,null,null,null,null,null,null,null,null,null,null,null,null,null,null,null,null,null,null,null,null,null,null,null,null,null,null,null,null,null,null,null,null,null,null,null,null,null,null,null,null,null,null,null,null,null,null,null,null,null,null,null,null,null,null,null,null,null,null,null,null,1121,0,"","","","","","","","","","","","","","","","","","","","","","","","","","","","","","","","","","","","","","","","","","","","","","","","","","","","","","","","",null,null,null,null,null,null,null,1121,0,null,null,null,null,null,null,null,null,null,null,null,null,null,null,null,null,null,null,null,null,null,null,null,null,null,null,null,null,null,null,null,null,null,null,null,null,null,null,null,null,null,null,null,null,null,null,null,null,null,null,null,null,null,null,null,null,null,null,null,null,null,null,null,1121,0,"","","","","","","","","","","","","","","","","","","","","","","","","","","","","","","","","","","","","","","","","","","","","","","","","","","","","","","","",null,null,null,null,null,null,null,1121,0,null,null,null,null,null,null,null,null,null,null,null,null,null,null,null,null,null,null,null,null,null,null,null,null,null,null,null,null,null,null,null,null,null,null,null,null,null,null,null,null,null,null,null,null,null,null,null,null,null,null,null,null,null,null,null,null,null,null,null,null,null,null,null,1121,0,"","","","","","","","","","","","","","","","","","","","","","","","","","","","","","","","","","","","","","","","","","","","","","","","","","","","","","","","",null,null,null,null,null,null,null,1121,0,null,null,null,null,null,null,null,null,null,null,null,null,null,null,null,null,null,null,null,null,null,null,null,null,null,null,null,null,null,null,null,null,null,null,null,null,null,null,null,null,null,null,null,null,null,null,null,null,null,null,null,null,null,null,null,null,null,null,null,null,null,null,null,1121,0,"","","","","","","","","","","","","","","","","","","","","","","","","","","","","","","","","","","","","","","","","","","","","","","","","","","","","","","","",null,null,null,null,null,null,null,1121,null,null,null,null,null,null,null,null,"",null,null,null,null,null,null,null,null,null,null,null,null,null,null,null,null,"","",null,1121,null,null,null,null,null,null,null,null,null,null,null,null,null,null,null,null,null,null,null,null,null,null,null,null,null,null,null,1121,null,null,null,null,null,null,null,null,null,null,null,null,null,null,null,null,null,null,null,null,null,null,null,null,null,null,null,1121]
[1122,null,null,null,null,null,null,null,null,null,null,null,null,"生徒欄と同様",24,3,null,null,24,4,1,1122,null,"","","","","","","","","","","","","","","","","","","","","","","","","","","","","","","","","","","","","","","","","","","","","","","","","","","","","","","","","","","","",1,0,null,1122,0,"","","","","","","","","","","","","","","","","","","","","","","","","","","","","","","","","","","","","","","","","","","","","","","","","","","","","","","","",null,null,null,null,1,0,null,1122,0,null,null,null,null,null,null,null,null,null,null,null,null,null,null,null,null,null,null,null,null,null,null,null,null,null,null,null,null,null,null,null,null,null,null,null,null,null,null,null,null,null,null,null,null,null,null,null,null,null,null,null,null,null,null,null,null,null,null,null,null,null,null,null,1122,0,"","","","","","","","","","","","","","","","","","","","","","","","","","","","","","","","","","","","","","","","","","","","","","","","","","","","","","","","",null,null,null,null,null,null,null,1122,0,null,null,null,null,null,null,null,null,null,null,null,null,null,null,null,null,null,null,null,null,null,null,null,null,null,null,null,null,null,null,null,null,null,null,null,null,null,null,null,null,null,null,null,null,null,null,null,null,null,null,null,null,null,null,null,null,null,null,null,null,null,null,null,1122,0,"","","","","","","","","","","","","","","","","","","","","","","","","","","","","","","","","","","","","","","","","","","","","","","","","","","","","","","","",null,null,null,null,null,null,null,1122,0,null,null,null,null,null,null,null,null,null,null,null,null,null,null,null,null,null,null,null,null,null,null,null,null,null,null,null,null,null,null,null,null,null,null,null,null,null,null,null,null,null,null,null,null,null,null,null,null,null,null,null,null,null,null,null,null,null,null,null,null,null,null,null,1122,0,"","","","","","","","","","","","","","","","","","","","","","","","","","","","","","","","","","","","","","","","","","","","","","","","","","","","","","","","",null,null,null,null,null,null,null,1122,0,null,null,null,null,null,null,null,null,null,null,null,null,null,null,null,null,null,null,null,null,null,null,null,null,null,null,null,null,null,null,null,null,null,null,null,null,null,null,null,null,null,null,null,null,null,null,null,null,null,null,null,null,null,null,null,null,null,null,null,null,null,null,null,1122,0,"","","","","","","","","","","","","","","","","","","","","","","","","","","","","","","","","","","","","","","","","","","","","","","","","","","","","","","","",null,null,null,null,null,null,null,1122,null,null,null,null,null,null,null,null,"",null,null,null,null,null,null,null,null,null,null,null,null,null,null,null,null,"","",null,1122,null,null,null,null,null,null,null,null,null,null,null,null,null,null,null,null,null,null,null,null,null,null,null,null,null,null,null,1122,null,null,null,null,null,null,null,null,null,null,null,null,null,null,null,null,null,null,null,null,null,null,null,null,null,null,null,1122]
[1123,null,null,null,null,null,null,null,null,null,null,null,null,"生徒欄と同様",24,3,null,null,24,4,1,1123,null,"","","","","","","","","","","","","","","","","","","","","","","","","","","","","","","","","","","","","","","","","","","","","","","","","","","","","","","","","","","","",1,0,null,1123,0,"","","","","","","","","","","","","","","","","","","","","","","","","","","","","","","","","","","","","","","","","","","","","","","","","","","","","","","","",null,null,null,null,1,0,null,1123,0,null,null,null,null,null,null,null,null,null,null,null,null,null,null,null,null,null,null,null,null,null,null,null,null,null,null,null,null,null,null,null,null,null,null,null,null,null,null,null,null,null,null,null,null,null,null,null,null,null,null,null,null,null,null,null,null,null,null,null,null,null,null,null,1123,0,"","","","","","","","","","","","","","","","","","","","","","","","","","","","","","","","","","","","","","","","","","","","","","","","","","","","","","","","",null,null,null,null,null,null,null,1123,0,null,null,null,null,null,null,null,null,null,null,null,null,null,null,null,null,null,null,null,null,null,null,null,null,null,null,null,null,null,null,null,null,null,null,null,null,null,null,null,null,null,null,null,null,null,null,null,null,null,null,null,null,null,null,null,null,null,null,null,null,null,null,null,1123,0,"","","","","","","","","","","","","","","","","","","","","","","","","","","","","","","","","","","","","","","","","","","","","","","","","","","","","","","","",null,null,null,null,null,null,null,1123,0,null,null,null,null,null,null,null,null,null,null,null,null,null,null,null,null,null,null,null,null,null,null,null,null,null,null,null,null,null,null,null,null,null,null,null,null,null,null,null,null,null,null,null,null,null,null,null,null,null,null,null,null,null,null,null,null,null,null,null,null,null,null,null,1123,0,"","","","","","","","","","","","","","","","","","","","","","","","","","","","","","","","","","","","","","","","","","","","","","","","","","","","","","","","",null,null,null,null,null,null,null,1123,0,null,null,null,null,null,null,null,null,null,null,null,null,null,null,null,null,null,null,null,null,null,null,null,null,null,null,null,null,null,null,null,null,null,null,null,null,null,null,null,null,null,null,null,null,null,null,null,null,null,null,null,null,null,null,null,null,null,null,null,null,null,null,null,1123,0,"","","","","","","","","","","","","","","","","","","","","","","","","","","","","","","","","","","","","","","","","","","","","","","","","","","","","","","","",null,null,null,null,null,null,null,1123,null,null,null,null,null,null,null,null,"",null,null,null,null,null,null,null,null,null,null,null,null,null,null,null,null,"","",null,1123,null,null,null,null,null,null,null,null,null,null,null,null,null,null,null,null,null,null,null,null,null,null,null,null,null,null,null,1123,null,null,null,null,null,null,null,null,null,null,null,null,null,null,null,null,null,null,null,null,null,null,null,null,null,null,null,1123]
[1124,null,null,null,null,null,null,null,null,null,null,null,null,"生徒欄と同様",24,3,null,null,24,4,1,1124,null,"","","","","","","","","","","","","","","","","","","","","","","","","","","","","","","","","","","","","","","","","","","","","","","","","","","","","","","","","","","","",1,0,null,1124,0,"","","","","","","","","","","","","","","","","","","","","","","","","","","","","","","","","","","","","","","","","","","","","","","","","","","","","","","","",null,null,null,null,1,0,null,1124,0,null,null,null,null,null,null,null,null,null,null,null,null,null,null,null,null,null,null,null,null,null,null,null,null,null,null,null,null,null,null,null,null,null,null,null,null,null,null,null,null,null,null,null,null,null,null,null,null,null,null,null,null,null,null,null,null,null,null,null,null,null,null,null,1124,0,"","","","","","","","","","","","","","","","","","","","","","","","","","","","","","","","","","","","","","","","","","","","","","","","","","","","","","","","",null,null,null,null,null,null,null,1124,0,null,null,null,null,null,null,null,null,null,null,null,null,null,null,null,null,null,null,null,null,null,null,null,null,null,null,null,null,null,null,null,null,null,null,null,null,null,null,null,null,null,null,null,null,null,null,null,null,null,null,null,null,null,null,null,null,null,null,null,null,null,null,null,1124,0,"","","","","","","","","","","","","","","","","","","","","","","","","","","","","","","","","","","","","","","","","","","","","","","","","","","","","","","","",null,null,null,null,null,null,null,1124,0,null,null,null,null,null,null,null,null,null,null,null,null,null,null,null,null,null,null,null,null,null,null,null,null,null,null,null,null,null,null,null,null,null,null,null,null,null,null,null,null,null,null,null,null,null,null,null,null,null,null,null,null,null,null,null,null,null,null,null,null,null,null,null,1124,0,"","","","","","","","","","","","","","","","","","","","","","","","","","","","","","","","","","","","","","","","","","","","","","","","","","","","","","","","",null,null,null,null,null,null,null,1124,0,null,null,null,null,null,null,null,null,null,null,null,null,null,null,null,null,null,null,null,null,null,null,null,null,null,null,null,null,null,null,null,null,null,null,null,null,null,null,null,null,null,null,null,null,null,null,null,null,null,null,null,null,null,null,null,null,null,null,null,null,null,null,null,1124,0,"","","","","","","","","","","","","","","","","","","","","","","","","","","","","","","","","","","","","","","","","","","","","","","","","","","","","","","","",null,null,null,null,null,null,null,1124,null,null,null,null,null,null,null,null,"",null,null,null,null,null,null,null,null,null,null,null,null,null,null,null,null,"","",null,1124,null,null,null,null,null,null,null,null,null,null,null,null,null,null,null,null,null,null,null,null,null,null,null,null,null,null,null,1124,null,null,null,null,null,null,null,null,null,null,null,null,null,null,null,null,null,null,null,null,null,null,null,null,null,null,null,1124]
[1128,null,null,null,null,null,null,null,null,null,null,null,null,"生徒欄と同様",24,3,null,null,24,4,1,1128,null,"","","","","","","","","","","","","","","","","","","","","","","","","","","","","","","","","","","","","","","","","","","","","","","","","","","","","","","","","","","","",1,0,null,1128,0,"","","","","","","","","","","","","","","","","","","","","","","","","","","","","","","","","","","","","","","","","","","","","","","","","","","","","","","","",null,null,null,null,1,0,null,1128,0,null,null,null,null,null,null,null,null,null,null,null,null,null,null,null,null,null,null,null,null,null,null,null,null,null,null,null,null,null,null,null,null,null,null,null,null,null,null,null,null,null,null,null,null,null,null,null,null,null,null,null,null,null,null,null,null,null,null,null,null,null,null,null,1128,0,"","","","","","","","","","","","","","","","","","","","","","","","","","","","","","","","","","","","","","","","","","","","","","","","","","","","","","","","",null,null,null,null,null,null,null,1128,0,null,null,null,null,null,null,null,null,null,null,null,null,null,null,null,null,null,null,null,null,null,null,null,null,null,null,null,null,null,null,null,null,null,null,null,null,null,null,null,null,null,null,null,null,null,null,null,null,null,null,null,null,null,null,null,null,null,null,null,null,null,null,null,1128,0,"","","","","","","","","","","","","","","","","","","","","","","","","","","","","","","","","","","","","","","","","","","","","","","","","","","","","","","","",null,null,null,null,null,null,null,1128,0,null,null,null,null,null,null,null,null,null,null,null,null,null,null,null,null,null,null,null,null,null,null,null,null,null,null,null,null,null,null,null,null,null,null,null,null,null,null,null,null,null,null,null,null,null,null,null,null,null,null,null,null,null,null,null,null,null,null,null,null,null,null,null,1128,0,"","","","","","","","","","","","","","","","","","","","","","","","","","","","","","","","","","","","","","","","","","","","","","","","","","","","","","","","",null,null,null,null,null,null,null,1128,0,null,null,null,null,null,null,null,null,null,null,null,null,null,null,null,null,null,null,null,null,null,null,null,null,null,null,null,null,null,null,null,null,null,null,null,null,null,null,null,null,null,null,null,null,null,null,null,null,null,null,null,null,null,null,null,null,null,null,null,null,null,null,null,1128,0,"","","","","","","","","","","","","","","","","","","","","","","","","","","","","","","","","","","","","","","","","","","","","","","","","","","","","","","","",null,null,null,null,null,null,null,1128,null,null,null,null,null,null,null,null,"",null,null,null,null,null,null,null,null,null,null,null,null,null,null,null,null,"","",null,1128,null,null,null,null,null,null,null,null,null,null,null,null,null,null,null,null,null,null,null,null,null,null,null,null,null,null,null,1128,null,null,null,null,null,null,null,null,null,null,null,null,null,null,null,null,null,null,null,null,null,null,null,null,null,null,null,1128]
[1133,null,null,null,null,null,null,null,null,null,null,null,null,"生徒欄と同様",24,3,null,null,24,4,1,1133,null,"","","","","","","","","","","","","","","","","","","","","","","","","","","","","","","","","","","","","","","","","","","","","","","","","","","","","","","","","","","","","",0,null,1133,0,"","","","","","","","","","","","","","","","","","","","","","","","","","","","","","","","","","","","","","","","","","","","","","","","","","","","","","","","",null,null,null,null,0,0,null,1133,0,null,null,null,null,null,null,null,null,null,null,null,null,null,null,null,null,null,null,null,null,null,null,null,null,null,null,null,null,null,null,null,null,null,null,null,null,null,null,null,null,null,null,null,null,null,null,null,null,null,null,null,null,null,null,null,null,null,null,null,null,null,null,null,1133,0,"","","","","","","","","","","","","","","","","","","","","","","","","","","","","","","","","","","","","","","","","","","","","","","","","","","","","","","","",null,null,null,null,null,null,null,1133,0,null,null,null,null,null,null,null,null,null,null,null,null,null,null,null,null,null,null,null,null,null,null,null,null,null,null,null,null,null,null,null,null,null,null,null,null,null,null,null,null,null,null,null,null,null,null,null,null,null,null,null,null,null,null,null,null,null,null,null,null,null,null,null,1133,0,"","","","","","","","","","","","","","","","","","","","","","","","","","","","","","","","","","","","","","","","","","","","","","","","","","","","","","","","",null,null,null,null,null,null,null,1133,0,null,null,null,null,null,null,null,null,null,null,null,null,null,null,null,null,null,null,null,null,null,null,null,null,null,null,null,null,null,null,null,null,null,null,null,null,null,null,null,null,null,null,null,null,null,null,null,null,null,null,null,null,null,null,null,null,null,null,null,null,null,null,null,1133,0,"","","","","","","","","","","","","","","","","","","","","","","","","","","","","","","","","","","","","","","","","","","","","","","","","","","","","","","","",null,null,null,null,null,null,null,1133,0,null,null,null,null,null,null,null,null,null,null,null,null,null,null,null,null,null,null,null,null,null,null,null,null,null,null,null,null,null,null,null,null,null,null,null,null,null,null,null,null,null,null,null,null,null,null,null,null,null,null,null,null,null,null,null,null,null,null,null,null,null,null,null,1133,0,"","","","","","","","","","","","","","","","","","","","","","","","","","","","","","","","","","","","","","","","","","","","","","","","","","","","","","","","",null,null,null,null,null,null,null,1133,null,null,null,null,null,null,null,null,"",null,null,null,null,null,null,null,null,null,null,null,null,null,null,null,null,"","",null,1133,null,null,null,null,null,null,null,null,null,null,null,null,null,null,null,null,null,null,null,null,null,null,null,null,null,null,null,1133,null,null,null,null,null,null,null,null,null,null,null,null,null,null,null,null,null,null,null,null,null,null,null,null,null,null,null,1133]
[1201,null,null,null,null,null,null,null,null,null,null,null,null,"生徒欄と同様",24,3,null,null,24,4,1,1201,null,{"$f":"IF(AND(SUM(CK48,HK48,MK48,RK48)=0,SUM(EX48,JX48,OX48,TX48)=0),\"\",IF(SUM(EX48,JX48,OX48,TX48)=1,\"(\"&X$6&\")\",SUM(CK48,HK48,MK48,RK48)))","v":""},{"$f":"IF(AND(SUM(CL48,HL48,ML48,RL48)=0,SUM(EY48,JY48,OY48,TY48)=0),\"\",IF(SUM(EY48,JY48,OY48,TY48)=1,\"(\"&Y$6&\")\",SUM(CL48,HL48,ML48,RL48)))","v":""},{"$f":"IF(AND(SUM(CM48,HM48,MM48,RM48)=0,SUM(EZ48,JZ48,OZ48,TZ48)=0),\"\",IF(SUM(EZ48,JZ48,OZ48,TZ48)=1,\"(\"&Z$6&\")\",SUM(CM48,HM48,MM48,RM48)))","v":""},{"$f":"IF(AND(SUM(CN48,HN48,MN48,RN48)=0,SUM(FA48,KA48,PA48,UA48)=0),\"\",IF(SUM(FA48,KA48,PA48,UA48)=1,\"(\"&AA$6&\")\",SUM(CN48,HN48,MN48,RN48)))","v":""},{"$f":"IF(AND(SUM(CO48,HO48,MO48,RO48)=0,SUM(FB48,KB48,PB48,UB48)=0),\"\",IF(SUM(FB48,KB48,PB48,UB48)=1,\"(\"&AB$6&\")\",SUM(CO48,HO48,MO48,RO48)))","v":""},{"$f":"IF(AND(SUM(CP48,HP48,MP48,RP48)=0,SUM(FC48,KC48,PC48,UC48)=0),\"\",IF(SUM(FC48,KC48,PC48,UC48)=1,\"(\"&AC$6&\")\",SUM(CP48,HP48,MP48,RP48)))","v":""},{"$f":"IF(AND(SUM(CQ48,HQ48,MQ48,RQ48)=0,SUM(FD48,KD48,PD48,UD48)=0),\"\",IF(SUM(FD48,KD48,PD48,UD48)=1,\"(\"&AD$6&\")\",SUM(CQ48,HQ48,MQ48,RQ48)))","v":""},{"$f":"IF(AND(SUM(CR48,HR48,MR48,RR48)=0,SUM(FE48,KE48,PE48,UE48)=0),\"\",IF(SUM(FE48,KE48,PE48,UE48)=1,\"(\"&AE$6&\")\",SUM(CR48,HR48,MR48,RR48)))","v":""},{"$f":"IF(AND(SUM(CS48,HS48,MS48,RS48)=0,SUM(FF48,KF48,PF48,UF48)=0),\"\",IF(SUM(FF48,KF48,PF48,UF48)=1,\"(\"&AF$6&\")\",SUM(CS48,HS48,MS48,RS48)))","v":""},{"$f":"IF(AND(SUM(CT48,HT48,MT48,RT48)=0,SUM(FG48,KG48,PG48,UG48)=0),\"\",IF(SUM(FG48,KG48,PG48,UG48)=1,\"(\"&AG$6&\")\",SUM(CT48,HT48,MT48,RT48)))","v":""},{"$f":"IF(AND(SUM(CU48,HU48,MU48,RU48)=0,SUM(FH48,KH48,PH48,UH48)=0),\"\",IF(SUM(FH48,KH48,PH48,UH48)=1,\"(\"&AH$6&\")\",SUM(CU48,HU48,MU48,RU48)))","v":""},{"$f":"IF(AND(SUM(CV48,HV48,MV48,RV48)=0,SUM(FI48,KI48,PI48,UI48)=0),\"\",IF(SUM(FI48,KI48,PI48,UI48)=1,\"(\"&AI$6&\")\",SUM(CV48,HV48,MV48,RV48)))","v":""},{"$f":"IF(AND(SUM(CW48,HW48,MW48,RW48)=0,SUM(FJ48,KJ48,PJ48,UJ48)=0),\"\",IF(SUM(FJ48,KJ48,PJ48,UJ48)=1,\"(\"&AJ$6&\")\",SUM(CW48,HW48,MW48,RW48)))","v":""},{"$f":"IF(AND(SUM(CX48,HX48,MX48,RX48)=0,SUM(FK48,KK48,PK48,UK48)=0),\"\",IF(SUM(FK48,KK48,PK48,UK48)=1,\"(\"&AK$6&\")\",SUM(CX48,HX48,MX48,RX48)))","v":""},{"$f":"IF(AND(SUM(CY48,HY48,MY48,RY48)=0,SUM(FL48,KL48,PL48,UL48)=0),\"\",IF(SUM(FL48,KL48,PL48,UL48)=1,\"(\"&AL$6&\")\",SUM(CY48,HY48,MY48,RY48)))","v":""},{"$f":"IF(AND(SUM(CZ48,HZ48,MZ48,RZ48)=0,SUM(FM48,KM48,PM48,UM48)=0),\"\",IF(SUM(FM48,KM48,PM48,UM48)=1,\"(\"&AM$6&\")\",SUM(CZ48,HZ48,MZ48,RZ48)))","v":""},{"$f":"IF(AND(SUM(DA48,IA48,NA48,SA48)=0,SUM(FN48,KN48,PN48,UN48)=0),\"\",IF(SUM(FN48,KN48,PN48,UN48)=1,\"(\"&AN$6&\")\",SUM(DA48,IA48,NA48,SA48)))","v":""},{"$f":"IF(AND(SUM(DB48,IB48,NB48,SB48)=0,SUM(FO48,KO48,PO48,UO48)=0),\"\",IF(SUM(FO48,KO48,PO48,UO48)=1,\"(\"&AO$6&\")\",SUM(DB48,IB48,NB48,SB48)))","v":""},{"$f":"IF(AND(SUM(DC48,IC48,NC48,SC48)=0,SUM(FP48,KP48,PP48,UP48)=0),\"\",IF(SUM(FP48,KP48,PP48,UP48)=1,\"(\"&AP$6&\")\",SUM(DC48,IC48,NC48,SC48)))","v":""},{"$f":"IF(AND(SUM(DD48,ID48,ND48,SD48)=0,SUM(FQ48,KQ48,PQ48,UQ48)=0),\"\",IF(SUM(FQ48,KQ48,PQ48,UQ48)=1,\"(\"&AQ$6&\")\",SUM(DD48,ID48,ND48,SD48)))","v":""},{"$f":"IF(AND(SUM(DE48,IE48,NE48,SE48)=0,SUM(FR48,KR48,PR48,UR48)=0),\"\",IF(SUM(FR48,KR48,PR48,UR48)=1,\"(\"&AR$6&\")\",SUM(DE48,IE48,NE48,SE48)))","v":""},{"$f":"IF(AND(SUM(DF48,IF48,NF48,SF48)=0,SUM(FS48,KS48,PS48,US48)=0),\"\",IF(SUM(FS48,KS48,PS48,US48)=1,\"(\"&AS$6&\")\",SUM(DF48,IF48,NF48,SF48)))","v":""},{"$f":"IF(AND(SUM(DG48,IG48,NG48,SG48)=0,SUM(FT48,KT48,PT48,UT48)=0),\"\",IF(SUM(FT48,KT48,PT48,UT48)=1,\"(\"&AT$6&\")\",SUM(DG48,IG48,NG48,SG48)))","v":""},{"$f":"IF(AND(SUM(DH48,IH48,NH48,SH48)=0,SUM(FU48,KU48,PU48,UU48)=0),\"\",IF(SUM(FU48,KU48,PU48,UU48)=1,\"(\"&AU$6&\")\",SUM(DH48,IH48,NH48,SH48)))","v":""},{"$f":"IF(AND(SUM(DI48,II48,NI48,SI48)=0,SUM(FV48,KV48,PV48,UV48)=0),\"\",IF(SUM(FV48,KV48,PV48,UV48)=1,\"(\"&AV$6&\")\",SUM(DI48,II48,NI48,SI48)))","v":""},{"$f":"IF(AND(SUM(DJ48,IJ48,NJ48,SJ48)=0,SUM(FW48,KW48,PW48,UW48)=0),\"\",IF(SUM(FW48,KW48,PW48,UW48)=1,\"(\"&AW$6&\")\",SUM(DJ48,IJ48,NJ48,SJ48)))","v":""},{"$f":"IF(AND(SUM(DK48,IK48,NK48,SK48)=0,SUM(FX48,KX48,PX48,UX48)=0),\"\",IF(SUM(FX48,KX48,PX48,UX48)=1,\"(\"&AX$6&\")\",SUM(DK48,IK48,NK48,SK48)))","v":""},{"$f":"IF(AND(SUM(DL48,IL48,NL48,SL48)=0,SUM(FY48,KY48,PY48,UY48)=0),\"\",IF(SUM(FY48,KY48,PY48,UY48)=1,\"(\"&AY$6&\")\",SUM(DL48,IL48,NL48,SL48)))","v":""},{"$f":"IF(AND(SUM(DM48,IM48,NM48,SM48)=0,SUM(FZ48,KZ48,PZ48,UZ48)=0),\"\",IF(SUM(FZ48,KZ48,PZ48,UZ48)=1,\"(\"&AZ$6&\")\",SUM(DM48,IM48,NM48,SM48)))","v":""},{"$f":"IF(AND(SUM(DN48,IN48,NN48,SN48)=0,SUM(GA48,LA48,QA48,VA48)=0),\"\",IF(SUM(GA48,LA48,QA48,VA48)=1,\"(\"&BA$6&\")\",SUM(DN48,IN48,NN48,SN48)))","v":""},{"$f":"IF(AND(SUM(DO48,IO48,NO48,SO48)=0,SUM(GB48,LB48,QB48,VB48)=0),\"\",IF(SUM(GB48,LB48,QB48,VB48)=1,\"(\"&BB$6&\")\",SUM(DO48,IO48,NO48,SO48)))","v":""},{"$f":"IF(AND(SUM(DP48,IP48,NP48,SP48)=0,SUM(GC48,LC48,QC48,VC48)=0),\"\",IF(SUM(GC48,LC48,QC48,VC48)=1,\"(\"&BC$6&\")\",SUM(DP48,IP48,NP48,SP48)))","v":""},{"$f":"IF(AND(SUM(DQ48,IQ48,NQ48,SQ48)=0,SUM(GD48,LD48,QD48,VD48)=0),\"\",IF(SUM(GD48,LD48,QD48,VD48)=1,\"(\"&BD$6&\")\",SUM(DQ48,IQ48,NQ48,SQ48)))","v":""},{"$f":"IF(AND(SUM(DR48,IR48,NR48,SR48)=0,SUM(GE48,LE48,QE48,VE48)=0),\"\",IF(SUM(GE48,LE48,QE48,VE48)=1,\"(\"&BE$6&\")\",SUM(DR48,IR48,NR48,SR48)))","v":""},{"$f":"IF(AND(SUM(DS48,IS48,NS48,SS48)=0,SUM(GF48,LF48,QF48,VF48)=0),\"\",IF(SUM(GF48,LF48,QF48,VF48)=1,\"(\"&BF$6&\")\",SUM(DS48,IS48,NS48,SS48)))","v":""},{"$f":"IF(AND(SUM(DT48,IT48,NT48,ST48)=0,SUM(GG48,LG48,QG48,VG48)=0),\"\",IF(SUM(GG48,LG48,QG48,VG48)=1,\"(\"&BG$6&\")\",SUM(DT48,IT48,NT48,ST48)))","v":""},{"$f":"IF(AND(SUM(DU48,IU48,NU48,SU48)=0,SUM(GH48,LH48,QH48,VH48)=0),\"\",IF(SUM(GH48,LH48,QH48,VH48)=1,\"(\"&BH$6&\")\",SUM(DU48,IU48,NU48,SU48)))","v":""},{"$f":"IF(AND(SUM(DV48,IV48,NV48,SV48)=0,SUM(GI48,LI48,QI48,VI48)=0),\"\",IF(SUM(GI48,LI48,QI48,VI48)=1,\"(\"&BI$6&\")\",SUM(DV48,IV48,NV48,SV48)))","v":""},{"$f":"IF(AND(SUM(DW48,IW48,NW48,SW48)=0,SUM(GJ48,LJ48,QJ48,VJ48)=0),\"\",IF(SUM(GJ48,LJ48,QJ48,VJ48)=1,\"(\"&BJ$6&\")\",SUM(DW48,IW48,NW48,SW48)))","v":""},{"$f":"IF(AND(SUM(DX48,IX48,NX48,SX48)=0,SUM(GK48,LK48,QK48,VK48)=0),\"\",IF(SUM(GK48,LK48,QK48,VK48)=1,\"(\"&BK$6&\")\",SUM(DX48,IX48,NX48,SX48)))","v":""},{"$f":"IF(AND(SUM(DY48,IY48,NY48,SY48)=0,SUM(GL48,LL48,QL48,VL48)=0),\"\",IF(SUM(GL48,LL48,QL48,VL48)=1,\"(\"&BL$6&\")\",SUM(DY48,IY48,NY48,SY48)))","v":""},{"$f":"IF(AND(SUM(DZ48,IZ48,NZ48,SZ48)=0,SUM(GM48,LM48,QM48,VM48)=0),\"\",IF(SUM(GM48,LM48,QM48,VM48)=1,\"(\"&BM$6&\")\",SUM(DZ48,IZ48,NZ48,SZ48)))","v":""},{"$f":"IF(AND(SUM(EA48,JA48,OA48,TA48)=0,SUM(GN48,LN48,QN48,VN48)=0),\"\",IF(SUM(GN48,LN48,QN48,VN48)=1,\"(\"&BN$6&\")\",SUM(EA48,JA48,OA48,TA48)))","v":""},{"$f":"IF(AND(SUM(EB48,JB48,OB48,TB48)=0,SUM(GO48,LO48,QO48,VO48)=0),\"\",IF(SUM(GO48,LO48,QO48,VO48)=1,\"(\"&BO$6&\")\",SUM(EB48,JB48,OB48,TB48)))","v":""},{"$f":"IF(AND(SUM(EC48,JC48,OC48,TC48)=0,SUM(GP48,LP48,QP48,VP48)=0),\"\",IF(SUM(GP48,LP48,QP48,VP48)=1,\"(\"&BP$6&\")\",SUM(EC48,JC48,OC48,TC48)))","v":""},{"$f":"IF(AND(SUM(ED48,JD48,OD48,TD48)=0,SUM(GQ48,LQ48,QQ48,VQ48)=0),\"\",IF(SUM(GQ48,LQ48,QQ48,VQ48)=1,\"(\"&BQ$6&\")\",SUM(ED48,JD48,OD48,TD48)))","v":""},{"$f":"IF(AND(SUM(EE48,JE48,OE48,TE48)=0,SUM(GR48,LR48,QR48,VR48)=0),\"\",IF(SUM(GR48,LR48,QR48,VR48)=1,\"(\"&BR$6&\")\",SUM(EE48,JE48,OE48,TE48)))","v":""},{"$f":"IF(AND(SUM(EF48,JF48,OF48,TF48)=0,SUM(GS48,LS48,QS48,VS48)=0),\"\",IF(SUM(GS48,LS48,QS48,VS48)=1,\"(\"&BS$6&\")\",SUM(EF48,JF48,OF48,TF48)))","v":""},{"$f":"IF(AND(SUM(EG48,JG48,OG48,TG48)=0,SUM(GT48,LT48,QT48,VT48)=0),\"\",IF(SUM(GT48,LT48,QT48,VT48)=1,\"(\"&BT$6&\")\",SUM(EG48,JG48,OG48,TG48)))","v":""},{"$f":"IF(AND(SUM(EH48,JH48,OH48,TH48)=0,SUM(GU48,LU48,QU48,VU48)=0),\"\",IF(SUM(GU48,LU48,QU48,VU48)=1,\"(\"&BU$6&\")\",SUM(EH48,JH48,OH48,TH48)))","v":""},{"$f":"IF(AND(SUM(EI48,JI48,OI48,TI48)=0,SUM(GV48,LV48,QV48,VV48)=0),\"\",IF(SUM(GV48,LV48,QV48,VV48)=1,\"(\"&BV$6&\")\",SUM(EI48,JI48,OI48,TI48)))","v":""},{"$f":"IF(AND(SUM(EJ48,JJ48,OJ48,TJ48)=0,SUM(GW48,LW48,QW48,VW48)=0),\"\",IF(SUM(GW48,LW48,QW48,VW48)=1,\"(\"&BW$6&\")\",SUM(EJ48,JJ48,OJ48,TJ48)))","v":""},{"$f":"IF(AND(SUM(EK48,JK48,OK48,TK48)=0,SUM(GX48,LX48,QX48,VX48)=0),\"\",IF(SUM(GX48,LX48,QX48,VX48)=1,\"(\"&BX$6&\")\",SUM(EK48,JK48,OK48,TK48)))","v":""},{"$f":"IF(AND(SUM(EL48,JL48,OL48,TL48)=0,SUM(GY48,LY48,QY48,VY48)=0),\"\",IF(SUM(GY48,LY48,QY48,VY48)=1,\"(\"&BY$6&\")\",SUM(EL48,JL48,OL48,TL48)))","v":""},{"$f":"IF(AND(SUM(EM48,JM48,OM48,TM48)=0,SUM(GZ48,LZ48,QZ48,VZ48)=0),\"\",IF(SUM(GZ48,LZ48,QZ48,VZ48)=1,\"(\"&BZ$6&\")\",SUM(EM48,JM48,OM48,TM48)))","v":""},{"$f":"IF(AND(SUM(EN48,JN48,ON48,TN48)=0,SUM(HA48,MA48,RA48,WA48)=0),\"\",IF(SUM(HA48,MA48,RA48,WA48)=1,\"(\"&CA$6&\")\",SUM(EN48,JN48,ON48,TN48)))","v":""},{"$f":"IF(AND(SUM(EO48,JO48,OO48,TO48)=0,SUM(HB48,MB48,RB48,WB48)=0),\"\",IF(SUM(HB48,MB48,RB48,WB48)=1,\"(\"&CB$6&\")\",SUM(EO48,JO48,OO48,TO48)))","v":""},{"$f":"IF(AND(SUM(EP48,JP48,OP48,TP48)=0,SUM(HC48,MC48,RC48,WC48)=0),\"\",IF(SUM(HC48,MC48,RC48,WC48)=1,\"(\"&CC$6&\")\",SUM(EP48,JP48,OP48,TP48)))","v":""},{"$f":"IF(AND(SUM(EQ48,JQ48,OQ48,TQ48)=0,SUM(HD48,MD48,RD48,WD48)=0),\"\",IF(SUM(HD48,MD48,RD48,WD48)=1,\"(\"&CD$6&\")\",SUM(EQ48,JQ48,OQ48,TQ48)))","v":""},{"$f":"IF(AND(SUM(ER48,JR48,OR48,TR48)=0,SUM(HE48,ME48,RE48,WE48)=0),\"\",IF(SUM(HE48,ME48,RE48,WE48)=1,\"(\"&CE$6&\")\",SUM(ER48,JR48,OR48,TR48)))","v":""},"",0,null,1201,0,{"$f":"IF(EX48=\"\",\"\",IF(EX48<=1,0,IF(EX48>=2,CK$6,\"\")))","v":""},{"$f":"IF(EY48=\"\",\"\",IF(EY48<=1,0,IF(EY48>=2,CL$6,\"\")))","v":""},{"$f":"IF(EZ48=\"\",\"\",IF(EZ48<=1,0,IF(EZ48>=2,CM$6,\"\")))","v":""},{"$f":"IF(FA48=\"\",\"\",IF(FA48<=1,0,IF(FA48>=2,CN$6,\"\")))","v":""},{"$f":"IF(FB48=\"\",\"\",IF(FB48<=1,0,IF(FB48>=2,CO$6,\"\")))","v":""},{"$f":"IF(FC48=\"\",\"\",IF(FC48<=1,0,IF(FC48>=2,CP$6,\"\")))","v":""},{"$f":"IF(FD48=\"\",\"\",IF(FD48<=1,0,IF(FD48>=2,CQ$6,\"\")))","v":""},{"$f":"IF(FE48=\"\",\"\",IF(FE48<=1,0,IF(FE48>=2,CR$6,\"\")))","v":""},{"$f":"IF(FF48=\"\",\"\",IF(FF48<=1,0,IF(FF48>=2,CS$6,\"\")))","v":""},{"$f":"IF(FG48=\"\",\"\",IF(FG48<=1,0,IF(FG48>=2,CT$6,\"\")))","v":""},{"$f":"IF(FH48=\"\",\"\",IF(FH48<=1,0,IF(FH48>=2,CU$6,\"\")))","v":""},{"$f":"IF(FI48=\"\",\"\",IF(FI48<=1,0,IF(FI48>=2,CV$6,\"\")))","v":""},{"$f":"IF(FJ48=\"\",\"\",IF(FJ48<=1,0,IF(FJ48>=2,CW$6,\"\")))","v":""},{"$f":"IF(FK48=\"\",\"\",IF(FK48<=1,0,IF(FK48>=2,CX$6,\"\")))","v":""},{"$f":"IF(FL48=\"\",\"\",IF(FL48<=1,0,IF(FL48>=2,CY$6,\"\")))","v":""},{"$f":"IF(FM48=\"\",\"\",IF(FM48<=1,0,IF(FM48>=2,CZ$6,\"\")))","v":""},{"$f":"IF(FN48=\"\",\"\",IF(FN48<=1,0,IF(FN48>=2,DA$6,\"\")))","v":""},{"$f":"IF(FO48=\"\",\"\",IF(FO48<=1,0,IF(FO48>=2,DB$6,\"\")))","v":""},{"$f":"IF(FP48=\"\",\"\",IF(FP48<=1,0,IF(FP48>=2,DC$6,\"\")))","v":""},{"$f":"IF(FQ48=\"\",\"\",IF(FQ48<=1,0,IF(FQ48>=2,DD$6,\"\")))","v":""},{"$f":"IF(FR48=\"\",\"\",IF(FR48<=1,0,IF(FR48>=2,DE$6,\"\")))","v":""},{"$f":"IF(FS48=\"\",\"\",IF(FS48<=1,0,IF(FS48>=2,DF$6,\"\")))","v":""},{"$f":"IF(FT48=\"\",\"\",IF(FT48<=1,0,IF(FT48>=2,DG$6,\"\")))","v":""},{"$f":"IF(FU48=\"\",\"\",IF(FU48<=1,0,IF(FU48>=2,DH$6,\"\")))","v":""},{"$f":"IF(FV48=\"\",\"\",IF(FV48<=1,0,IF(FV48>=2,DI$6,\"\")))","v":""},{"$f":"IF(FW48=\"\",\"\",IF(FW48<=1,0,IF(FW48>=2,DJ$6,\"\")))","v":""},{"$f":"IF(FX48=\"\",\"\",IF(FX48<=1,0,IF(FX48>=2,DK$6,\"\")))","v":""},{"$f":"IF(FY48=\"\",\"\",IF(FY48<=1,0,IF(FY48>=2,DL$6,\"\")))","v":""},{"$f":"IF(FZ48=\"\",\"\",IF(FZ48<=1,0,IF(FZ48>=2,DM$6,\"\")))","v":""},{"$f":"IF(GA48=\"\",\"\",IF(GA48<=1,0,IF(GA48>=2,DN$6,\"\")))","v":""},{"$f":"IF(GB48=\"\",\"\",IF(GB48<=1,0,IF(GB48>=2,DO$6,\"\")))","v":""},{"$f":"IF(GC48=\"\",\"\",IF(GC48<=1,0,IF(GC48>=2,DP$6,\"\")))","v":""},{"$f":"IF(GD48=\"\",\"\",IF(GD48<=1,0,IF(GD48>=2,DQ$6,\"\")))","v":""},{"$f":"IF(GE48=\"\",\"\",IF(GE48<=1,0,IF(GE48>=2,DR$6,\"\")))","v":""},{"$f":"IF(GF48=\"\",\"\",IF(GF48<=1,0,IF(GF48>=2,DS$6,\"\")))","v":""},{"$f":"IF(GG48=\"\",\"\",IF(GG48<=1,0,IF(GG48>=2,DT$6,\"\")))","v":""},{"$f":"IF(GH48=\"\",\"\",IF(GH48<=1,0,IF(GH48>=2,DU$6,\"\")))","v":""},{"$f":"IF(GI48=\"\",\"\",IF(GI48<=1,0,IF(GI48>=2,DV$6,\"\")))","v":""},{"$f":"IF(GJ48=\"\",\"\",IF(GJ48<=1,0,IF(GJ48>=2,DW$6,\"\")))","v":""},{"$f":"IF(GK48=\"\",\"\",IF(GK48<=1,0,IF(GK48>=2,DX$6,\"\")))","v":""},{"$f":"IF(GL48=\"\",\"\",IF(GL48<=1,0,IF(GL48>=2,DY$6,\"\")))","v":""},{"$f":"IF(GM48=\"\",\"\",IF(GM48<=1,0,IF(GM48>=2,DZ$6,\"\")))","v":""},{"$f":"IF(GN48=\"\",\"\",IF(GN48<=1,0,IF(GN48>=2,EA$6,\"\")))","v":""},{"$f":"IF(GO48=\"\",\"\",IF(GO48<=1,0,IF(GO48>=2,EB$6,\"\")))","v":""},{"$f":"IF(GP48=\"\",\"\",IF(GP48<=1,0,IF(GP48>=2,EC$6,\"\")))","v":""},{"$f":"IF(GQ48=\"\",\"\",IF(GQ48<=1,0,IF(GQ48>=2,ED$6,\"\")))","v":""},{"$f":"IF(GR48=\"\",\"\",IF(GR48<=1,0,IF(GR48>=2,EE$6,\"\")))","v":""},{"$f":"IF(GS48=\"\",\"\",IF(GS48<=1,0,IF(GS48>=2,EF$6,\"\")))","v":""},{"$f":"IF(GT48=\"\",\"\",IF(GT48<=1,0,IF(GT48>=2,EG$6,\"\")))","v":""},{"$f":"IF(GU48=\"\",\"\",IF(GU48<=1,0,IF(GU48>=2,EH$6,\"\")))","v":""},{"$f":"IF(GV48=\"\",\"\",IF(GV48<=1,0,IF(GV48>=2,EI$6,\"\")))","v":""},{"$f":"IF(GW48=\"\",\"\",IF(GW48<=1,0,IF(GW48>=2,EJ$6,\"\")))","v":""},{"$f":"IF(GX48=\"\",\"\",IF(GX48<=1,0,IF(GX48>=2,EK$6,\"\")))","v":""},{"$f":"IF(GY48=\"\",\"\",IF(GY48<=1,0,IF(GY48>=2,EL$6,\"\")))","v":""},{"$f":"IF(GZ48=\"\",\"\",IF(GZ48<=1,0,IF(GZ48>=2,EM$6,\"\")))","v":""},{"$f":"IF(HA48=\"\",\"\",IF(HA48<=1,0,IF(HA48>=2,EN$6,\"\")))","v":""},null,null,null,null,0,0,null,1201,0,null,null,null,null,null,null,null,null,null,null,null,null,null,null,null,null,null,null,null,null,null,null,null,null,null,null,null,null,null,null,null,null,null,null,null,null,null,null,null,null,null,null,null,null,null,null,null,null,null,null,null,null,null,null,null,null,null,null,null,null,null,null,null,1201,0,{"$f":"IF(JX48=\"\",\"\",IF(JX48<=1,0,IF(JX48>=2,HK$6,\"\")))","v":""},{"$f":"IF(JY48=\"\",\"\",IF(JY48<=1,0,IF(JY48>=2,HL$6,\"\")))","v":""},{"$f":"IF(JZ48=\"\",\"\",IF(JZ48<=1,0,IF(JZ48>=2,HM$6,\"\")))","v":""},{"$f":"IF(KA48=\"\",\"\",IF(KA48<=1,0,IF(KA48>=2,HN$6,\"\")))","v":""},{"$f":"IF(KB48=\"\",\"\",IF(KB48<=1,0,IF(KB48>=2,HO$6,\"\")))","v":""},{"$f":"IF(KC48=\"\",\"\",IF(KC48<=1,0,IF(KC48>=2,HP$6,\"\")))","v":""},{"$f":"IF(KD48=\"\",\"\",IF(KD48<=1,0,IF(KD48>=2,HQ$6,\"\")))","v":""},{"$f":"IF(KE48=\"\",\"\",IF(KE48<=1,0,IF(KE48>=2,HR$6,\"\")))","v":""},{"$f":"IF(KF48=\"\",\"\",IF(KF48<=1,0,IF(KF48>=2,HS$6,\"\")))","v":""},{"$f":"IF(KG48=\"\",\"\",IF(KG48<=1,0,IF(KG48>=2,HT$6,\"\")))","v":""},{"$f":"IF(KH48=\"\",\"\",IF(KH48<=1,0,IF(KH48>=2,HU$6,\"\")))","v":""},{"$f":"IF(KI48=\"\",\"\",IF(KI48<=1,0,IF(KI48>=2,HV$6,\"\")))","v":""},{"$f":"IF(KJ48=\"\",\"\",IF(KJ48<=1,0,IF(KJ48>=2,HW$6,\"\")))","v":""},{"$f":"IF(KK48=\"\",\"\",IF(KK48<=1,0,IF(KK48>=2,HX$6,\"\")))","v":""},{"$f":"IF(KL48=\"\",\"\",IF(KL48<=1,0,IF(KL48>=2,HY$6,\"\")))","v":""},{"$f":"IF(KM48=\"\",\"\",IF(KM48<=1,0,IF(KM48>=2,HZ$6,\"\")))","v":""},{"$f":"IF(KN48=\"\",\"\",IF(KN48<=1,0,IF(KN48>=2,IA$6,\"\")))","v":""},{"$f":"IF(KO48=\"\",\"\",IF(KO48<=1,0,IF(KO48>=2,IB$6,\"\")))","v":""},{"$f":"IF(KP48=\"\",\"\",IF(KP48<=1,0,IF(KP48>=2,IC$6,\"\")))","v":""},{"$f":"IF(KQ48=\"\",\"\",IF(KQ48<=1,0,IF(KQ48>=2,ID$6,\"\")))","v":""},{"$f":"IF(KR48=\"\",\"\",IF(KR48<=1,0,IF(KR48>=2,IE$6,\"\")))","v":""},{"$f":"IF(KS48=\"\",\"\",IF(KS48<=1,0,IF(KS48>=2,IF$6,\"\")))","v":""},{"$f":"IF(KT48=\"\",\"\",IF(KT48<=1,0,IF(KT48>=2,IG$6,\"\")))","v":""},{"$f":"IF(KU48=\"\",\"\",IF(KU48<=1,0,IF(KU48>=2,IH$6,\"\")))","v":""},{"$f":"IF(KV48=\"\",\"\",IF(KV48<=1,0,IF(KV48>=2,II$6,\"\")))","v":""},{"$f":"IF(KW48=\"\",\"\",IF(KW48<=1,0,IF(KW48>=2,IJ$6,\"\")))","v":""},{"$f":"IF(KX48=\"\",\"\",IF(KX48<=1,0,IF(KX48>=2,IK$6,\"\")))","v":""},{"$f":"IF(KY48=\"\",\"\",IF(KY48<=1,0,IF(KY48>=2,IL$6,\"\")))","v":""},{"$f":"IF(KZ48=\"\",\"\",IF(KZ48<=1,0,IF(KZ48>=2,IM$6,\"\")))","v":""},{"$f":"IF(LA48=\"\",\"\",IF(LA48<=1,0,IF(LA48>=2,IN$6,\"\")))","v":""},{"$f":"IF(LB48=\"\",\"\",IF(LB48<=1,0,IF(LB48>=2,IO$6,\"\")))","v":""},{"$f":"IF(LC48=\"\",\"\",IF(LC48<=1,0,IF(LC48>=2,IP$6,\"\")))","v":""},{"$f":"IF(LD48=\"\",\"\",IF(LD48<=1,0,IF(LD48>=2,IQ$6,\"\")))","v":""},{"$f":"IF(LE48=\"\",\"\",IF(LE48<=1,0,IF(LE48>=2,IR$6,\"\")))","v":""},{"$f":"IF(LF48=\"\",\"\",IF(LF48<=1,0,IF(LF48>=2,IS$6,\"\")))","v":""},{"$f":"IF(LG48=\"\",\"\",IF(LG48<=1,0,IF(LG48>=2,IT$6,\"\")))","v":""},{"$f":"IF(LH48=\"\",\"\",IF(LH48<=1,0,IF(LH48>=2,IU$6,\"\")))","v":""},{"$f":"IF(LI48=\"\",\"\",IF(LI48<=1,0,IF(LI48>=2,IV$6,\"\")))","v":""},{"$f":"IF(LJ48=\"\",\"\",IF(LJ48<=1,0,IF(LJ48>=2,IW$6,\"\")))","v":""},{"$f":"IF(LK48=\"\",\"\",IF(LK48<=1,0,IF(LK48>=2,IX$6,\"\")))","v":""},{"$f":"IF(LL48=\"\",\"\",IF(LL48<=1,0,IF(LL48>=2,IY$6,\"\")))","v":""},{"$f":"IF(LM48=\"\",\"\",IF(LM48<=1,0,IF(LM48>=2,IZ$6,\"\")))","v":""},{"$f":"IF(LN48=\"\",\"\",IF(LN48<=1,0,IF(LN48>=2,JA$6,\"\")))","v":""},{"$f":"IF(LO48=\"\",\"\",IF(LO48<=1,0,IF(LO48>=2,JB$6,\"\")))","v":""},{"$f":"IF(LP48=\"\",\"\",IF(LP48<=1,0,IF(LP48>=2,JC$6,\"\")))","v":""},{"$f":"IF(LQ48=\"\",\"\",IF(LQ48<=1,0,IF(LQ48>=2,JD$6,\"\")))","v":""},{"$f":"IF(LR48=\"\",\"\",IF(LR48<=1,0,IF(LR48>=2,JE$6,\"\")))","v":""},{"$f":"IF(LS48=\"\",\"\",IF(LS48<=1,0,IF(LS48>=2,JF$6,\"\")))","v":""},{"$f":"IF(LT48=\"\",\"\",IF(LT48<=1,0,IF(LT48>=2,JG$6,\"\")))","v":""},{"$f":"IF(LU48=\"\",\"\",IF(LU48<=1,0,IF(LU48>=2,JH$6,\"\")))","v":""},{"$f":"IF(LV48=\"\",\"\",IF(LV48<=1,0,IF(LV48>=2,JI$6,\"\")))","v":""},{"$f":"IF(LW48=\"\",\"\",IF(LW48<=1,0,IF(LW48>=2,JJ$6,\"\")))","v":""},{"$f":"IF(LX48=\"\",\"\",IF(LX48<=1,0,IF(LX48>=2,JK$6,\"\")))","v":""},{"$f":"IF(LY48=\"\",\"\",IF(LY48<=1,0,IF(LY48>=2,JL$6,\"\")))","v":""},{"$f":"IF(LZ48=\"\",\"\",IF(LZ48<=1,0,IF(LZ48>=2,JM$6,\"\")))","v":""},{"$f":"IF(MA48=\"\",\"\",IF(MA48<=1,0,IF(MA48>=2,JN$6,\"\")))","v":""},null,null,null,null,null,null,null,1201,0,null,null,null,null,null,null,null,null,null,null,null,null,null,null,null,null,null,null,null,null,null,null,null,null,null,null,null,null,null,null,null,null,null,null,null,null,null,null,null,null,null,null,null,null,null,null,null,null,null,null,null,null,null,null,null,null,null,null,null,null,null,null,null,1201,0,{"$f":"IF(OX48=\"\",\"\",IF(OX48<=1,0,IF(OX48>=2,MK$6,\"\")))","v":""},{"$f":"IF(OY48=\"\",\"\",IF(OY48<=1,0,IF(OY48>=2,ML$6,\"\")))","v":""},{"$f":"IF(OZ48=\"\",\"\",IF(OZ48<=1,0,IF(OZ48>=2,MM$6,\"\")))","v":""},{"$f":"IF(PA48=\"\",\"\",IF(PA48<=1,0,IF(PA48>=2,MN$6,\"\")))","v":""},{"$f":"IF(PB48=\"\",\"\",IF(PB48<=1,0,IF(PB48>=2,MO$6,\"\")))","v":""},{"$f":"IF(PC48=\"\",\"\",IF(PC48<=1,0,IF(PC48>=2,MP$6,\"\")))","v":""},{"$f":"IF(PD48=\"\",\"\",IF(PD48<=1,0,IF(PD48>=2,MQ$6,\"\")))","v":""},{"$f":"IF(PE48=\"\",\"\",IF(PE48<=1,0,IF(PE48>=2,MR$6,\"\")))","v":""},{"$f":"IF(PF48=\"\",\"\",IF(PF48<=1,0,IF(PF48>=2,MS$6,\"\")))","v":""},{"$f":"IF(PG48=\"\",\"\",IF(PG48<=1,0,IF(PG48>=2,MT$6,\"\")))","v":""},{"$f":"IF(PH48=\"\",\"\",IF(PH48<=1,0,IF(PH48>=2,MU$6,\"\")))","v":""},{"$f":"IF(PI48=\"\",\"\",IF(PI48<=1,0,IF(PI48>=2,MV$6,\"\")))","v":""},{"$f":"IF(PJ48=\"\",\"\",IF(PJ48<=1,0,IF(PJ48>=2,MW$6,\"\")))","v":""},{"$f":"IF(PK48=\"\",\"\",IF(PK48<=1,0,IF(PK48>=2,MX$6,\"\")))","v":""},{"$f":"IF(PL48=\"\",\"\",IF(PL48<=1,0,IF(PL48>=2,MY$6,\"\")))","v":""},{"$f":"IF(PM48=\"\",\"\",IF(PM48<=1,0,IF(PM48>=2,MZ$6,\"\")))","v":""},{"$f":"IF(PN48=\"\",\"\",IF(PN48<=1,0,IF(PN48>=2,NA$6,\"\")))","v":""},{"$f":"IF(PO48=\"\",\"\",IF(PO48<=1,0,IF(PO48>=2,NB$6,\"\")))","v":""},{"$f":"IF(PP48=\"\",\"\",IF(PP48<=1,0,IF(PP48>=2,NC$6,\"\")))","v":""},{"$f":"IF(PQ48=\"\",\"\",IF(PQ48<=1,0,IF(PQ48>=2,ND$6,\"\")))","v":""},{"$f":"IF(PR48=\"\",\"\",IF(PR48<=1,0,IF(PR48>=2,NE$6,\"\")))","v":""},{"$f":"IF(PS48=\"\",\"\",IF(PS48<=1,0,IF(PS48>=2,NF$6,\"\")))","v":""},{"$f":"IF(PT48=\"\",\"\",IF(PT48<=1,0,IF(PT48>=2,NG$6,\"\")))","v":""},{"$f":"IF(PU48=\"\",\"\",IF(PU48<=1,0,IF(PU48>=2,NH$6,\"\")))","v":""},{"$f":"IF(PV48=\"\",\"\",IF(PV48<=1,0,IF(PV48>=2,NI$6,\"\")))","v":""},{"$f":"IF(PW48=\"\",\"\",IF(PW48<=1,0,IF(PW48>=2,NJ$6,\"\")))","v":""},{"$f":"IF(PX48=\"\",\"\",IF(PX48<=1,0,IF(PX48>=2,NK$6,\"\")))","v":""},{"$f":"IF(PY48=\"\",\"\",IF(PY48<=1,0,IF(PY48>=2,NL$6,\"\")))","v":""},{"$f":"IF(PZ48=\"\",\"\",IF(PZ48<=1,0,IF(PZ48>=2,NM$6,\"\")))","v":""},{"$f":"IF(QA48=\"\",\"\",IF(QA48<=1,0,IF(QA48>=2,NN$6,\"\")))","v":""},{"$f":"IF(QB48=\"\",\"\",IF(QB48<=1,0,IF(QB48>=2,NO$6,\"\")))","v":""},{"$f":"IF(QC48=\"\",\"\",IF(QC48<=1,0,IF(QC48>=2,NP$6,\"\")))","v":""},{"$f":"IF(QD48=\"\",\"\",IF(QD48<=1,0,IF(QD48>=2,NQ$6,\"\")))","v":""},{"$f":"IF(QE48=\"\",\"\",IF(QE48<=1,0,IF(QE48>=2,NR$6,\"\")))","v":""},{"$f":"IF(QF48=\"\",\"\",IF(QF48<=1,0,IF(QF48>=2,NS$6,\"\")))","v":""},{"$f":"IF(QG48=\"\",\"\",IF(QG48<=1,0,IF(QG48>=2,NT$6,\"\")))","v":""},{"$f":"IF(QH48=\"\",\"\",IF(QH48<=1,0,IF(QH48>=2,NU$6,\"\")))","v":""},{"$f":"IF(QI48=\"\",\"\",IF(QI48<=1,0,IF(QI48>=2,NV$6,\"\")))","v":""},{"$f":"IF(QJ48=\"\",\"\",IF(QJ48<=1,0,IF(QJ48>=2,NW$6,\"\")))","v":""},{"$f":"IF(QK48=\"\",\"\",IF(QK48<=1,0,IF(QK48>=2,NX$6,\"\")))","v":""},{"$f":"IF(QL48=\"\",\"\",IF(QL48<=1,0,IF(QL48>=2,NY$6,\"\")))","v":""},{"$f":"IF(QM48=\"\",\"\",IF(QM48<=1,0,IF(QM48>=2,NZ$6,\"\")))","v":""},{"$f":"IF(QN48=\"\",\"\",IF(QN48<=1,0,IF(QN48>=2,OA$6,\"\")))","v":""},{"$f":"IF(QO48=\"\",\"\",IF(QO48<=1,0,IF(QO48>=2,OB$6,\"\")))","v":""},{"$f":"IF(QP48=\"\",\"\",IF(QP48<=1,0,IF(QP48>=2,OC$6,\"\")))","v":""},{"$f":"IF(QQ48=\"\",\"\",IF(QQ48<=1,0,IF(QQ48>=2,OD$6,\"\")))","v":""},{"$f":"IF(QR48=\"\",\"\",IF(QR48<=1,0,IF(QR48>=2,OE$6,\"\")))","v":""},{"$f":"IF(QS48=\"\",\"\",IF(QS48<=1,0,IF(QS48>=2,OF$6,\"\")))","v":""},{"$f":"IF(QT48=\"\",\"\",IF(QT48<=1,0,IF(QT48>=2,OG$6,\"\")))","v":""},{"$f":"IF(QU48=\"\",\"\",IF(QU48<=1,0,IF(QU48>=2,OH$6,\"\")))","v":""},{"$f":"IF(QV48=\"\",\"\",IF(QV48<=1,0,IF(QV48>=2,OI$6,\"\")))","v":""},{"$f":"IF(QW48=\"\",\"\",IF(QW48<=1,0,IF(QW48>=2,OJ$6,\"\")))","v":""},{"$f":"IF(QX48=\"\",\"\",IF(QX48<=1,0,IF(QX48>=2,OK$6,\"\")))","v":""},{"$f":"IF(QY48=\"\",\"\",IF(QY48<=1,0,IF(QY48>=2,OL$6,\"\")))","v":""},{"$f":"IF(QZ48=\"\",\"\",IF(QZ48<=1,0,IF(QZ48>=2,OM$6,\"\")))","v":""},{"$f":"IF(RA48=\"\",\"\",IF(RA48<=1,0,IF(RA48>=2,ON$6,\"\")))","v":""},null,null,null,null,null,null,null,1201,0,null,null,null,null,null,null,null,null,null,null,null,null,null,null,null,null,null,null,null,null,null,null,null,null,null,null,null,null,null,null,null,null,null,null,null,null,null,null,null,null,null,null,null,null,null,null,null,null,null,null,null,null,null,null,null,null,null,null,null,null,null,null,null,1201,0,{"$f":"IF(TX48=\"\",\"\",IF(TX48<=1,0,IF(TX48>=2,RK$6,\"\")))","v":""},{"$f":"IF(TY48=\"\",\"\",IF(TY48<=1,0,IF(TY48>=2,RL$6,\"\")))","v":""},{"$f":"IF(TZ48=\"\",\"\",IF(TZ48<=1,0,IF(TZ48>=2,RM$6,\"\")))","v":""},{"$f":"IF(UA48=\"\",\"\",IF(UA48<=1,0,IF(UA48>=2,RN$6,\"\")))","v":""},{"$f":"IF(UB48=\"\",\"\",IF(UB48<=1,0,IF(UB48>=2,RO$6,\"\")))","v":""},{"$f":"IF(UC48=\"\",\"\",IF(UC48<=1,0,IF(UC48>=2,RP$6,\"\")))","v":""},{"$f":"IF(UD48=\"\",\"\",IF(UD48<=1,0,IF(UD48>=2,RQ$6,\"\")))","v":""},{"$f":"IF(UE48=\"\",\"\",IF(UE48<=1,0,IF(UE48>=2,RR$6,\"\")))","v":""},{"$f":"IF(UF48=\"\",\"\",IF(UF48<=1,0,IF(UF48>=2,RS$6,\"\")))","v":""},{"$f":"IF(UG48=\"\",\"\",IF(UG48<=1,0,IF(UG48>=2,RT$6,\"\")))","v":""},{"$f":"IF(UH48=\"\",\"\",IF(UH48<=1,0,IF(UH48>=2,RU$6,\"\")))","v":""},{"$f":"IF(UI48=\"\",\"\",IF(UI48<=1,0,IF(UI48>=2,RV$6,\"\")))","v":""},{"$f":"IF(UJ48=\"\",\"\",IF(UJ48<=1,0,IF(UJ48>=2,RW$6,\"\")))","v":""},{"$f":"IF(UK48=\"\",\"\",IF(UK48<=1,0,IF(UK48>=2,RX$6,\"\")))","v":""},{"$f":"IF(UL48=\"\",\"\",IF(UL48<=1,0,IF(UL48>=2,RY$6,\"\")))","v":""},{"$f":"IF(UM48=\"\",\"\",IF(UM48<=1,0,IF(UM48>=2,RZ$6,\"\")))","v":""},{"$f":"IF(UN48=\"\",\"\",IF(UN48<=1,0,IF(UN48>=2,SA$6,\"\")))","v":""},{"$f":"IF(UO48=\"\",\"\",IF(UO48<=1,0,IF(UO48>=2,SB$6,\"\")))","v":""},{"$f":"IF(UP48=\"\",\"\",IF(UP48<=1,0,IF(UP48>=2,SC$6,\"\")))","v":""},{"$f":"IF(UQ48=\"\",\"\",IF(UQ48<=1,0,IF(UQ48>=2,SD$6,\"\")))","v":""},{"$f":"IF(UR48=\"\",\"\",IF(UR48<=1,0,IF(UR48>=2,SE$6,\"\")))","v":""},{"$f":"IF(US48=\"\",\"\",IF(US48<=1,0,IF(US48>=2,SF$6,\"\")))","v":""},{"$f":"IF(UT48=\"\",\"\",IF(UT48<=1,0,IF(UT48>=2,SG$6,\"\")))","v":""},{"$f":"IF(UU48=\"\",\"\",IF(UU48<=1,0,IF(UU48>=2,SH$6,\"\")))","v":""},{"$f":"IF(UV48=\"\",\"\",IF(UV48<=1,0,IF(UV48>=2,SI$6,\"\")))","v":""},{"$f":"IF(UW48=\"\",\"\",IF(UW48<=1,0,IF(UW48>=2,SJ$6,\"\")))","v":""},{"$f":"IF(UX48=\"\",\"\",IF(UX48<=1,0,IF(UX48>=2,SK$6,\"\")))","v":""},{"$f":"IF(UY48=\"\",\"\",IF(UY48<=1,0,IF(UY48>=2,SL$6,\"\")))","v":""},{"$f":"IF(UZ48=\"\",\"\",IF(UZ48<=1,0,IF(UZ48>=2,SM$6,\"\")))","v":""},{"$f":"IF(VA48=\"\",\"\",IF(VA48<=1,0,IF(VA48>=2,SN$6,\"\")))","v":""},{"$f":"IF(VB48=\"\",\"\",IF(VB48<=1,0,IF(VB48>=2,SO$6,\"\")))","v":""},{"$f":"IF(VC48=\"\",\"\",IF(VC48<=1,0,IF(VC48>=2,SP$6,\"\")))","v":""},{"$f":"IF(VD48=\"\",\"\",IF(VD48<=1,0,IF(VD48>=2,SQ$6,\"\")))","v":""},{"$f":"IF(VE48=\"\",\"\",IF(VE48<=1,0,IF(VE48>=2,SR$6,\"\")))","v":""},{"$f":"IF(VF48=\"\",\"\",IF(VF48<=1,0,IF(VF48>=2,SS$6,\"\")))","v":""},{"$f":"IF(VG48=\"\",\"\",IF(VG48<=1,0,IF(VG48>=2,ST$6,\"\")))","v":""},{"$f":"IF(VH48=\"\",\"\",IF(VH48<=1,0,IF(VH48>=2,SU$6,\"\")))","v":""},{"$f":"IF(VI48=\"\",\"\",IF(VI48<=1,0,IF(VI48>=2,SV$6,\"\")))","v":""},{"$f":"IF(VJ48=\"\",\"\",IF(VJ48<=1,0,IF(VJ48>=2,SW$6,\"\")))","v":""},{"$f":"IF(VK48=\"\",\"\",IF(VK48<=1,0,IF(VK48>=2,SX$6,\"\")))","v":""},{"$f":"IF(VL48=\"\",\"\",IF(VL48<=1,0,IF(VL48>=2,SY$6,\"\")))","v":""},{"$f":"IF(VM48=\"\",\"\",IF(VM48<=1,0,IF(VM48>=2,SZ$6,\"\")))","v":""},{"$f":"IF(VN48=\"\",\"\",IF(VN48<=1,0,IF(VN48>=2,TA$6,\"\")))","v":""},{"$f":"IF(VO48=\"\",\"\",IF(VO48<=1,0,IF(VO48>=2,TB$6,\"\")))","v":""},{"$f":"IF(VP48=\"\",\"\",IF(VP48<=1,0,IF(VP48>=2,TC$6,\"\")))","v":""},{"$f":"IF(VQ48=\"\",\"\",IF(VQ48<=1,0,IF(VQ48>=2,TD$6,\"\")))","v":""},{"$f":"IF(VR48=\"\",\"\",IF(VR48<=1,0,IF(VR48>=2,TE$6,\"\")))","v":""},{"$f":"IF(VS48=\"\",\"\",IF(VS48<=1,0,IF(VS48>=2,TF$6,\"\")))","v":""},{"$f":"IF(VT48=\"\",\"\",IF(VT48<=1,0,IF(VT48>=2,TG$6,\"\")))","v":""},{"$f":"IF(VU48=\"\",\"\",IF(VU48<=1,0,IF(VU48>=2,TH$6,\"\")))","v":""},{"$f":"IF(VV48=\"\",\"\",IF(VV48<=1,0,IF(VV48>=2,TI$6,\"\")))","v":""},{"$f":"IF(VW48=\"\",\"\",IF(VW48<=1,0,IF(VW48>=2,TJ$6,\"\")))","v":""},{"$f":"IF(VX48=\"\",\"\",IF(VX48<=1,0,IF(VX48>=2,TK$6,\"\")))","v":""},{"$f":"IF(VY48=\"\",\"\",IF(VY48<=1,0,IF(VY48>=2,TL$6,\"\")))","v":""},{"$f":"IF(VZ48=\"\",\"\",IF(VZ48<=1,0,IF(VZ48>=2,TM$6,\"\")))","v":""},{"$f":"IF(WA48=\"\",\"\",IF(WA48<=1,0,IF(WA48>=2,TN$6,\"\")))","v":""},null,null,null,null,null,null,null,1201,0,null,null,null,null,null,null,null,null,null,null,null,null,null,null,null,null,null,null,null,null,null,null,null,null,null,null,null,null,null,null,null,null,null,null,null,null,null,null,null,null,null,null,null,null,null,null,null,null,null,null,null,null,null,null,null,null,null,null,null,null,null,null,null,1201,0,{"$f":"IF(EX48=1,\"１学年履修単位数 \"&CK$6&\"単位\",IF(JX48=1,\"2学年履修単位数 \"&HK$6&\"単位\",IF(OX48=1,\"2学年履修単位数 \"&MK$6&\"単位\",\"\")))","v":""},{"$f":"IF(EY48=1,\"１学年履修単位数 \"&CL$6&\"単位\",IF(JY48=1,\"2学年履修単位数 \"&HL$6&\"単位\",IF(OY48=1,\"2学年履修単位数 \"&ML$6&\"単位\",\"\")))","v":""},"","","","","","","","","","","","","","","","","","","","","",{"$f":"IF(FU48=1,\"１学年履修単位数 \"&DH$6&\"単位\",IF(KU48=1,\"2学年履修単位数 \"&IH$6&\"単位\",IF(PU48=1,\"2学年履修単位数 \"&NH$6&\"単位\",\"\")))","v":""},{"$f":"IF(FV48=1,\"１学年履修単位数 \"&DI$6&\"単位\",IF(KV48=1,\"2学年履修単位数 \"&II$6&\"単位\",IF(PV48=1,\"2学年履修単位数 \"&NI$6&\"単位\",\"\")))","v":""},{"$f":"IF(FW48=1,\"１学年履修単位数 \"&DJ$6&\"単位\",IF(KW48=1,\"2学年履修単位数 \"&IJ$6&\"単位\",IF(PW48=1,\"2学年履修単位数 \"&NJ$6&\"単位\",\"\")))","v":""},{"$f":"IF(FX48=1,\"１学年履修単位数 \"&DK$6&\"単位\",IF(KX48=1,\"2学年履修単位数 \"&IK$6&\"単位\",IF(PX48=1,\"2学年履修単位数 \"&NK$6&\"単位\",\"\")))","v":""},{"$f":"IF(FY48=1,\"１学年履修単位数 \"&DL$6&\"単位\",IF(KY48=1,\"2学年履修単位数 \"&IL$6&\"単位\",IF(PY48=1,\"2学年履修単位数 \"&NL$6&\"単位\",\"\")))","v":""},{"$f":"IF(FZ48=1,\"１学年履修単位数 \"&DM$6&\"単位\",IF(KZ48=1,\"2学年履修単位数 \"&IM$6&\"単位\",IF(PZ48=1,\"2学年履修単位数 \"&NM$6&\"単位\",\"\")))","v":""},{"$f":"IF(GA48=1,\"１学年履修単位数 \"&DN$6&\"単位\",IF(LA48=1,\"2学年履修単位数 \"&IN$6&\"単位\",IF(QA48=1,\"2学年履修単位数 \"&NN$6&\"単位\",\"\")))","v":""},{"$f":"IF(GB48=1,\"１学年履修単位数 \"&DO$6&\"単位\",IF(LB48=1,\"2学年履修単位数 \"&IO$6&\"単位\",IF(QB48=1,\"2学年履修単位数 \"&NO$6&\"単位\",\"\")))","v":""},{"$f":"IF(GC48=1,\"１学年履修単位数 \"&DP$6&\"単位\",IF(LC48=1,\"2学年履修単位数 \"&IP$6&\"単位\",IF(QC48=1,\"2学年履修単位数 \"&NP$6&\"単位\",\"\")))","v":""},{"$f":"IF(GD48=1,\"１学年履修単位数 \"&DQ$6&\"単位\",IF(LD48=1,\"2学年履修単位数 \"&IQ$6&\"単位\",IF(QD48=1,\"2学年履修単位数 \"&NQ$6&\"単位\",\"\")))","v":""},{"$f":"IF(GE48=1,\"１学年履修単位数 \"&DR$6&\"単位\",IF(LE48=1,\"2学年履修単位数 \"&IR$6&\"単位\",IF(QE48=1,\"2学年履修単位数 \"&NR$6&\"単位\",\"\")))","v":""},{"$f":"IF(GF48=1,\"１学年履修単位数 \"&DS$6&\"単位\",IF(LF48=1,\"2学年履修単位数 \"&IS$6&\"単位\",IF(QF48=1,\"2学年履修単位数 \"&NS$6&\"単位\",\"\")))","v":""},{"$f":"IF(GG48=1,\"１学年履修単位数 \"&DT$6&\"単位\",IF(LG48=1,\"2学年履修単位数 \"&IT$6&\"単位\",IF(QG48=1,\"2学年履修単位数 \"&NT$6&\"単位\",\"\")))","v":""},{"$f":"IF(GH48=1,\"１学年履修単位数 \"&DU$6&\"単位\",IF(LH48=1,\"2学年履修単位数 \"&IU$6&\"単位\",IF(QH48=1,\"2学年履修単位数 \"&NU$6&\"単位\",\"\")))","v":""},{"$f":"IF(GI48=1,\"１学年履修単位数 \"&DV$6&\"単位\",IF(LI48=1,\"2学年履修単位数 \"&IV$6&\"単位\",IF(QI48=1,\"2学年履修単位数 \"&NV$6&\"単位\",\"\")))","v":""},{"$f":"IF(GJ48=1,\"１学年履修単位数 \"&DW$6&\"単位\",IF(LJ48=1,\"2学年履修単位数 \"&IW$6&\"単位\",IF(QJ48=1,\"2学年履修単位数 \"&NW$6&\"単位\",\"\")))","v":""},{"$f":"IF(GK48=1,\"１学年履修単位数 \"&DX$6&\"単位\",IF(LK48=1,\"2学年履修単位数 \"&IX$6&\"単位\",IF(QK48=1,\"2学年履修単位数 \"&NX$6&\"単位\",\"\")))","v":""},{"$f":"IF(GL48=1,\"１学年履修単位数 \"&DY$6&\"単位\",IF(LL48=1,\"2学年履修単位数 \"&IY$6&\"単位\",IF(QL48=1,\"2学年履修単位数 \"&NY$6&\"単位\",\"\")))","v":""},{"$f":"IF(GM48=1,\"１学年履修単位数 \"&DZ$6&\"単位\",IF(LM48=1,\"2学年履修単位数 \"&IZ$6&\"単位\",IF(QM48=1,\"2学年履修単位数 \"&NZ$6&\"単位\",\"\")))","v":""},{"$f":"IF(GN48=1,\"１学年履修単位数 \"&EA$6&\"単位\",IF(LN48=1,\"2学年履修単位数 \"&JA$6&\"単位\",IF(QN48=1,\"2学年履修単位数 \"&OA$6&\"単位\",\"\")))","v":""},{"$f":"IF(GO48=1,\"１学年履修単位数 \"&EB$6&\"単位\",IF(LO48=1,\"2学年履修単位数 \"&JB$6&\"単位\",IF(QO48=1,\"2学年履修単位数 \"&OB$6&\"単位\",\"\")))","v":""},"",{"$f":"IF(GQ48=1,\"１学年履修単位数 \"&ED$6&\"単位\",IF(LQ48=1,\"2学年履修単位数 \"&JD$6&\"単位\",IF(QQ48=1,\"2学年履修単位数 \"&OD$6&\"単位\",\"\")))","v":""},{"$f":"IF(GR48=1,\"１学年履修単位数 \"&EE$6&\"単位\",IF(LR48=1,\"2学年履修単位数 \"&JE$6&\"単位\",IF(QR48=1,\"2学年履修単位数 \"&OE$6&\"単位\",\"\")))","v":""},{"$f":"IF(GS48=1,\"１学年履修単位数 \"&EF$6&\"単位\",IF(LS48=1,\"2学年履修単位数 \"&JF$6&\"単位\",IF(QS48=1,\"2学年履修単位数 \"&OF$6&\"単位\",\"\")))","v":""},{"$f":"IF(GT48=1,\"１学年履修単位数 \"&EG$6&\"単位\",IF(LT48=1,\"2学年履修単位数 \"&JG$6&\"単位\",IF(QT48=1,\"2学年履修単位数 \"&OG$6&\"単位\",\"\")))","v":""},{"$f":"IF(GU48=1,\"１学年履修単位数 \"&EH$6&\"単位\",IF(LU48=1,\"2学年履修単位数 \"&JH$6&\"単位\",IF(QU48=1,\"2学年履修単位数 \"&OH$6&\"単位\",\"\")))","v":""},{"$f":"IF(GV48=1,\"１学年履修単位数 \"&EI$6&\"単位\",IF(LV48=1,\"2学年履修単位数 \"&JI$6&\"単位\",IF(QV48=1,\"2学年履修単位数 \"&OI$6&\"単位\",\"\")))","v":""},{"$f":"IF(GW48=1,\"１学年履修単位数 \"&EJ$6&\"単位\",IF(LW48=1,\"2学年履修単位数 \"&JJ$6&\"単位\",IF(QW48=1,\"2学年履修単位数 \"&OJ$6&\"単位\",\"\")))","v":""},{"$f":"IF(GX48=1,\"１学年履修単位数 \"&EK$6&\"単位\",IF(LX48=1,\"2学年履修単位数 \"&JK$6&\"単位\",IF(QX48=1,\"2学年履修単位数 \"&OK$6&\"単位\",\"\")))","v":""},{"$f":"IF(GY48=1,\"１学年履修単位数 \"&EL$6&\"単位\",IF(LY48=1,\"2学年履修単位数 \"&JL$6&\"単位\",IF(QY48=1,\"2学年履修単位数 \"&OL$6&\"単位\",\"\")))","v":""},{"$f":"IF(GZ48=1,\"１学年履修単位数 \"&EM$6&\"単位\",IF(LZ48=1,\"2学年履修単位数 \"&JM$6&\"単位\",IF(QZ48=1,\"2学年履修単位数 \"&OM$6&\"単位\",\"\")))","v":""},{"$f":"IF(HA48=1,\"１学年履修単位数 \"&EN$6&\"単位\",IF(MA48=1,\"2学年履修単位数 \"&JN$6&\"単位\",IF(RA48=1,\"2学年履修単位数 \"&ON$6&\"単位\",\"\")))","v":""},null,null,null,null,null,null,null,1201,null,null,null,null,null,null,null,null,"",null,null,null,null,null,null,null,null,null,null,null,null,null,null,null,null,"","",null,1201,null,null,null,null,null,null,null,null,null,null,null,null,null,null,null,null,null,null,null,null,null,null,null,null,null,null,null,1201,null,null,null,null,null,null,null,null,null,null,null,null,null,null,null,null,null,null,null,null,null,null,null,null,null,null,null,1201]
[1206,null,null,null,null,null,null,null,null,null,null,null,null,"生徒欄と同様",24,3,null,null,24,4,1,1206,null,"","","","","","","","","","","","","","","","","","","","","","","","","","","","","","","","","","","","","","","","","","","","","","","","","","","","","","","","","","","","",1,0,null,1206,0,"","","","","","","","","","","","","","","","","","","","","","","","","","","","","","","","","","","","","","","","","","","","","","","","","","","","","","","","",null,null,null,null,1,0,null,1206,0,null,null,null,null,null,null,null,null,null,null,null,null,null,null,null,null,null,null,null,null,null,null,null,null,null,null,null,null,null,null,null,null,null,null,null,null,null,null,null,null,null,null,null,null,null,null,null,null,null,null,null,null,null,null,null,null,null,null,null,null,null,null,null,1206,0,"","","","","","","","","","","","","","","","","","","","","","","","","","","","","","","","","","","","","","","","","","","","","","","","","","","","","","","","",null,null,null,null,null,null,null,1206,0,null,null,null,null,null,null,null,null,null,null,null,null,null,null,null,null,null,null,null,null,null,null,null,null,null,null,null,null,null,null,null,null,null,null,null,null,null,null,null,null,null,null,null,null,null,null,null,null,null,null,null,null,null,null,null,null,null,null,null,null,null,null,null,1206,0,"","","","","","","","","","","","","","","","","","","","","","","","","","","","","","","","","","","","","","","","","","","","","","","","","","","","","","","","",null,null,null,null,null,null,null,1206,0,null,null,null,null,null,null,null,null,null,null,null,null,null,null,null,null,null,null,null,null,null,null,null,null,null,null,null,null,null,null,null,null,null,null,null,null,null,null,null,null,null,null,null,null,null,null,null,null,null,null,null,null,null,null,null,null,null,null,null,null,null,null,null,1206,0,"","","","","","","","","","","","","","","","","","","","","","","","","","","","","","","","","","","","","","","","","","","","","","","","","","","","","","","","",null,null,null,null,null,null,null,1206,0,null,null,null,null,null,null,null,null,null,null,null,null,null,null,null,null,null,null,null,null,null,null,null,null,null,null,null,null,null,null,null,null,null,null,null,null,null,null,null,null,null,null,null,null,null,null,null,null,null,null,null,null,null,null,null,null,null,null,null,null,null,null,null,1206,0,"","","","","","","","","","","","","","","","","","","","","","","","","","","","","","","","","","","","","","","","","","","","","","","","","","","","","","","","",null,null,null,null,null,null,null,1206,null,null,null,null,null,null,null,null,"",null,null,null,null,null,null,null,null,null,null,null,null,null,null,null,null,"","",null,1206,null,null,null,null,null,null,null,null,null,null,null,null,null,null,null,null,null,null,null,null,null,null,null,null,null,null,null,1206,null,null,null,null,null,null,null,null,null,null,null,null,null,null,null,null,null,null,null,null,null,null,null,null,null,null,null,1206]
[1214,null,null,null,null,null,null,null,null,null,null,null,null,"生徒欄と同様",24,3,null,null,24,4,1,1214,null,"","","","","","","","","","","","","","","","","","","","","","","","","","","","","","","","","","","","","","","","","","","","","","","","","","","","","","","","","","","","",1,0,null,1214,0,"","","","","","","","","","","","","","","","","","","","","","","","","","","","","","","","","","","","","","","","","","","","","","","","","","","","","","","","",null,null,null,null,1,0,null,1214,0,null,null,null,null,null,null,null,null,null,null,null,null,null,null,null,null,null,null,null,null,null,null,null,null,null,null,null,null,null,null,null,null,null,null,null,null,null,null,null,null,null,null,null,null,null,null,null,null,null,null,null,null,null,null,null,null,null,null,null,null,null,null,null,1214,0,"","","","","","","","","","","","","","","","","","","","","","","","","","","","","","","","","","","","","","","","","","","","","","","","","","","","","","","","",null,null,null,null,null,null,null,1214,0,null,null,null,null,null,null,null,null,null,null,null,null,null,null,null,null,null,null,null,null,null,null,null,null,null,null,null,null,null,null,null,null,null,null,null,null,null,null,null,null,null,null,null,null,null,null,null,null,null,null,null,null,null,null,null,null,null,null,null,null,null,null,null,1214,0,"","","","","","","","","","","","","","","","","","","","","","","","","","","","","","","","","","","","","","","","","","","","","","","","","","","","","","","","",null,null,null,null,null,null,null,1214,0,null,null,null,null,null,null,null,null,null,null,null,null,null,null,null,null,null,null,null,null,null,null,null,null,null,null,null,null,null,null,null,null,null,null,null,null,null,null,null,null,null,null,null,null,null,null,null,null,null,null,null,null,null,null,null,null,null,null,null,null,null,null,null,1214,0,"","","","","","","","","","","","","","","","","","","","","","","","","","","","","","","","","","","","","","","","","","","","","","","","","","","","","","","","",null,null,null,null,null,null,null,1214,0,null,null,null,null,null,null,null,null,null,null,null,null,null,null,null,null,null,null,null,null,null,null,null,null,null,null,null,null,null,null,null,null,null,null,null,null,null,null,null,null,null,null,null,null,null,null,null,null,null,null,null,null,null,null,null,null,null,null,null,null,null,null,null,1214,0,"","","","","","","","","","","","","","","","","","","","","","","","","","","","","","","","","","","","","","","","","","","","","","","","","","","","","","","","",null,null,null,null,null,null,null,1214,null,null,null,null,null,null,null,null,"",null,null,null,null,null,null,null,null,null,null,null,null,null,null,null,null,"","",null,1214,null,null,null,null,null,null,null,null,null,null,null,null,null,null,null,null,null,null,null,null,null,null,null,null,null,null,null,1214,null,null,null,null,null,null,null,null,null,null,null,null,null,null,null,null,null,null,null,null,null,null,null,null,null,null,null,1214]
[1222,null,null,null,null,null,null,null,null,null,null,null,null,"生徒欄と同様",24,3,null,null,24,4,1,1222,null,"","","","","","","","","","","","","","","","","","","","","","","","","","","","","","","","","","","","","","","","","","","","","","","","","","","","","","","","","","","","",1,0,null,1222,0,"","","","","","","","","","","","","","","","","","","","","","","","","","","","","","","","","","","","","","","","","","","","","","","","","","","","","","","","",null,null,null,null,1,0,null,1222,0,null,null,null,null,null,null,null,null,null,null,null,null,null,null,null,null,null,null,null,null,null,null,null,null,null,null,null,null,null,null,null,null,null,null,null,null,null,null,null,null,null,null,null,null,null,null,null,null,null,null,null,null,null,null,null,null,null,null,null,null,null,null,null,1222,0,"","","","","","","","","","","","","","","","","","","","","","","","","","","","","","","","","","","","","","","","","","","","","","","","","","","","","","","","",null,null,null,null,null,null,null,1222,0,null,null,null,null,null,null,null,null,null,null,null,null,null,null,null,null,null,null,null,null,null,null,null,null,null,null,null,null,null,null,null,null,null,null,null,null,null,null,null,null,null,null,null,null,null,null,null,null,null,null,null,null,null,null,null,null,null,null,null,null,null,null,null,1222,0,"","","","","","","","","","","","","","","","","","","","","","","","","","","","","","","","","","","","","","","","","","","","","","","","","","","","","","","","",null,null,null,null,null,null,null,1222,0,null,null,null,null,null,null,null,null,null,null,null,null,null,null,null,null,null,null,null,null,null,null,null,null,null,null,null,null,null,null,null,null,null,null,null,null,null,null,null,null,null,null,null,null,null,null,null,null,null,null,null,null,null,null,null,null,null,null,null,null,null,null,null,1222,0,"","","","","","","","","","","","","","","","","","","","","","","","","","","","","","","","","","","","","","","","","","","","","","","","","","","","","","","","",null,null,null,null,null,null,null,1222,0,null,null,null,null,null,null,null,null,null,null,null,null,null,null,null,null,null,null,null,null,null,null,null,null,null,null,null,null,null,null,null,null,null,null,null,null,null,null,null,null,null,null,null,null,null,null,null,null,null,null,null,null,null,null,null,null,null,null,null,null,null,null,null,1222,0,"","","","","","","","","","","","","","","","","","","","","","","","","","","","","","","","","","","","","","","","","","","","","","","","","","","","","","","","",null,null,null,null,null,null,null,1222,null,null,null,null,null,null,null,null,"",null,null,null,null,null,null,null,null,null,null,null,null,null,null,null,null,"","",null,1222,null,null,null,null,null,null,null,null,null,null,null,null,null,null,null,null,null,null,null,null,null,null,null,null,null,null,null,1222,null,null,null,null,null,null,null,null,null,null,null,null,null,null,null,null,null,null,null,null,null,null,null,null,null,null,null,1222]
[1229,null,null,null,null,null,null,null,null,null,null,null,null,"生徒欄と同様",24,3,null,null,24,4,1,1229,null,"","","","","","","","","","","","","","","","","","","","","","","","","","","","","","","","","","","","","","","","","","","","","","","","","","","","","","","","","","","","",1,0,null,1229,0,"","","","","","","","","","","","","","","","","","","","","","","","","","","","","","","","","","","","","","","","","","","","","","","","","","","","","","","","",null,null,null,null,1,0,null,1229,0,null,null,null,null,null,null,null,null,null,null,null,null,null,null,null,null,null,null,null,null,null,null,null,null,null,null,null,null,null,null,null,null,null,null,null,null,null,null,null,null,null,null,null,null,null,null,null,null,null,null,null,null,null,null,null,null,null,null,null,null,null,null,null,1229,0,"","","","","","","","","","","","","","","","","","","","","","","","","","","","","","","","","","","","","","","","","","","","","","","","","","","","","","","","",null,null,null,null,null,null,null,1229,0,null,null,null,null,null,null,null,null,null,null,null,null,null,null,null,null,null,null,null,null,null,null,null,null,null,null,null,null,null,null,null,null,null,null,null,null,null,null,null,null,null,null,null,null,null,null,null,null,null,null,null,null,null,null,null,null,null,null,null,null,null,null,null,1229,0,"","","","","","","","","","","","","","","","","","","","","","","","","","","","","","","","","","","","","","","","","","","","","","","","","","","","","","","","",null,null,null,null,null,null,null,1229,0,null,null,null,null,null,null,null,null,null,null,null,null,null,null,null,null,null,null,null,null,null,null,null,null,null,null,null,null,null,null,null,null,null,null,null,null,null,null,null,null,null,null,null,null,null,null,null,null,null,null,null,null,null,null,null,null,null,null,null,null,null,null,null,1229,0,"","","","","","","","","","","","","","","","","","","","","","","","","","","","","","","","","","","","","","","","","","","","","","","","","","","","","","","","",null,null,null,null,null,null,null,1229,0,null,null,null,null,null,null,null,null,null,null,null,null,null,null,null,null,null,null,null,null,null,null,null,null,null,null,null,null,null,null,null,null,null,null,null,null,null,null,null,null,null,null,null,null,null,null,null,null,null,null,null,null,null,null,null,null,null,null,null,null,null,null,null,1229,0,"","","","","","","","","","","","","","","","","","","","","","","","","","","","","","","","","","","","","","","","","","","","","","","","","","","","","","","","",null,null,null,null,null,null,null,1229,null,null,null,null,null,null,null,null,"",null,null,null,null,null,null,null,null,null,null,null,null,null,null,null,null,"","",null,1229,null,null,null,null,null,null,null,null,null,null,null,null,null,null,null,null,null,null,null,null,null,null,null,null,null,null,null,1229,null,null,null,null,null,null,null,null,null,null,null,null,null,null,null,null,null,null,null,null,null,null,null,null,null,null,null,1229]
[1234,null,null,null,null,null,null,null,null,null,null,null,null,"生徒欄と同様",24,3,null,null,24,4,1,1234,null,"","","","","","","","","","","","","","","","","","","","","","","","","","","","","","","","","","","","","","","","","","","","","","","","","","","","","","","","","","","","",1,0,null,1234,0,"","","","","","","","","","","","","","","","","","","","","","","","","","","","","","","","","","","","","","","","","","","","","","","","","","","","","","","","",null,null,null,null,1,0,null,1234,0,null,null,null,null,null,null,null,null,null,null,null,null,null,null,null,null,null,null,null,null,null,null,null,null,null,null,null,null,null,null,null,null,null,null,null,null,null,null,null,null,null,null,null,null,null,null,null,null,null,null,null,null,null,null,null,null,null,null,null,null,null,null,null,1234,0,"","","","","","","","","","","","","","","","","","","","","","","","","","","","","","","","","","","","","","","","","","","","","","","","","","","","","","","","",null,null,null,null,null,null,null,1234,0,null,null,null,null,null,null,null,null,null,null,null,null,null,null,null,null,null,null,null,null,null,null,null,null,null,null,null,null,null,null,null,null,null,null,null,null,null,null,null,null,null,null,null,null,null,null,null,null,null,null,null,null,null,null,null,null,null,null,null,null,null,null,null,1234,0,"","","","","","","","","","","","","","","","","","","","","","","","","","","","","","","","","","","","","","","","","","","","","","","","","","","","","","","","",null,null,null,null,null,null,null,1234,0,null,null,null,null,null,null,null,null,null,null,null,null,null,null,null,null,null,null,null,null,null,null,null,null,null,null,null,null,null,null,null,null,null,null,null,null,null,null,null,null,null,null,null,null,null,null,null,null,null,null,null,null,null,null,null,null,null,null,null,null,null,null,null,1234,0,"","","","","","","","","","","","","","","","","","","","","","","","","","","","","","","","","","","","","","","","","","","","","","","","","","","","","","","","",null,null,null,null,null,null,null,1234,0,null,null,null,null,null,null,null,null,null,null,null,null,null,null,null,null,null,null,null,null,null,null,null,null,null,null,null,null,null,null,null,null,null,null,null,null,null,null,null,null,null,null,null,null,null,null,null,null,null,null,null,null,null,null,null,null,null,null,null,null,null,null,null,1234,0,"","","","","","","","","","","","","","","","","","","","","","","","","","","","","","","","","","","","","","","","","","","","","","","","","","","","","","","","",null,null,null,null,null,null,null,1234,null,null,null,null,null,null,null,null,"",null,null,null,null,null,null,null,null,null,null,null,null,null,null,null,null,"","",null,1234,null,null,null,null,null,null,null,null,null,null,null,null,null,null,null,null,null,null,null,null,null,null,null,null,null,null,null,1234,null,null,null,null,null,null,null,null,null,null,null,null,null,null,null,null,null,null,null,null,null,null,null,null,null,null,null,1234]
[1305,null,null,null,null,null,null,null,null,null,null,null,null,"生徒欄と同様",24,3,null,null,24,4,1,1305,null,"","","","","","","","","","","","","","","","","","","","","","","","","","","","","","","","","","","","","","","","","","","","","","","","","","","","","","","","","","","","",1,0,null,1305,0,"","","","","","","","","","","","","","","","","","","","","","","","","","","","","","","","","","","","","","","","","","","","","","","","","","","","","","","","",null,null,null,null,1,0,null,1305,0,null,null,null,null,null,null,null,null,null,null,null,null,null,null,null,null,null,null,null,null,null,null,null,null,null,null,null,null,null,null,null,null,null,null,null,null,null,null,null,null,null,null,null,null,null,null,null,null,null,null,null,null,null,null,null,null,null,null,null,null,null,null,null,1305,0,"","","","","","","","","","","","","","","","","","","","","","","","","","","","","","","","","","","","","","","","","","","","","","","","","","","","","","","","",null,null,null,null,null,null,null,1305,0,null,null,null,null,null,null,null,null,null,null,null,null,null,null,null,null,null,null,null,null,null,null,null,null,null,null,null,null,null,null,null,null,null,null,null,null,null,null,null,null,null,null,null,null,null,null,null,null,null,null,null,null,null,null,null,null,null,null,null,null,null,null,null,1305,0,"","","","","","","","","","","","","","","","","","","","","","","","","","","","","","","","","","","","","","","","","","","","","","","","","","","","","","","","",null,null,null,null,null,null,null,1305,0,null,null,null,null,null,null,null,null,null,null,null,null,null,null,null,null,null,null,null,null,null,null,null,null,null,null,null,null,null,null,null,null,null,null,null,null,null,null,null,null,null,null,null,null,null,null,null,null,null,null,null,null,null,null,null,null,null,null,null,null,null,null,null,1305,0,"","","","","","","","","","","","","","","","","","","","","","","","","","","","","","","","","","","","","","","","","","","","","","","","","","","","","","","","",null,null,null,null,null,null,null,1305,0,null,null,null,null,null,null,null,null,null,null,null,null,null,null,null,null,null,null,null,null,null,null,null,null,null,null,null,null,null,null,null,null,null,null,null,null,null,null,null,null,null,null,null,null,null,null,null,null,null,null,null,null,null,null,null,null,null,null,null,null,null,null,null,1305,0,"","","","","","","","","","","","","","","","","","","","","","","","","","","","","","","","","","","","","","","","","","","","","","","","","","","","","","","","",null,null,null,null,null,null,null,1305,null,null,null,null,null,null,null,null,"",null,null,null,null,null,null,null,null,null,null,null,null,null,null,null,null,"","",null,1305,null,null,null,null,null,null,null,null,null,null,null,null,null,null,null,null,null,null,null,null,null,null,null,null,null,null,null,1305,null,null,null,null,null,null,null,null,null,null,null,null,null,null,null,null,null,null,null,null,null,null,null,null,null,null,null,1305]
[1313,null,null,null,null,null,null,null,null,null,null,null,null,"生徒欄と同様",24,3,null,null,24,4,1,1313,null,"","","","","","","","","","","","","","","","","","","","","","","","","","","","","","","","","","","","","","","","","","","","","","","","","","","","","","","","","","","","",1,0,null,1313,0,"","","","","","","","","","","","","","","","","","","","","","","","","","","","","","","","","","","","","","","","","","","","","","","","","","","","","","","","",null,null,null,null,1,0,null,1313,0,null,null,null,null,null,null,null,null,null,null,null,null,null,null,null,null,null,null,null,null,null,null,null,null,null,null,null,null,null,null,null,null,null,null,null,null,null,null,null,null,null,null,null,null,null,null,null,null,null,null,null,null,null,null,null,null,null,null,null,null,null,null,null,1313,0,"","","","","","","","","","","","","","","","","","","","","","","","","","","","","","","","","","","","","","","","","","","","","","","","","","","","","","","","",null,null,null,null,null,null,null,1313,0,null,null,null,null,null,null,null,null,null,null,null,null,null,null,null,null,null,null,null,null,null,null,null,null,null,null,null,null,null,null,null,null,null,null,null,null,null,null,null,null,null,null,null,null,null,null,null,null,null,null,null,null,null,null,null,null,null,null,null,null,null,null,null,1313,0,"","","","","","","","","","","","","","","","","","","","","","","","","","","","","","","","","","","","","","","","","","","","","","","","","","","","","","","","",null,null,null,null,null,null,null,1313,0,null,null,null,null,null,null,null,null,null,null,null,null,null,null,null,null,null,null,null,null,null,null,null,null,null,null,null,null,null,null,null,null,null,null,null,null,null,null,null,null,null,null,null,null,null,null,null,null,null,null,null,null,null,null,null,null,null,null,null,null,null,null,null,1313,0,"","","","","","","","","","","","","","","","","","","","","","","","","","","","","","","","","","","","","","","","","","","","","","","","","","","","","","","","",null,null,null,null,null,null,null,1313,0,null,null,null,null,null,null,null,null,null,null,null,null,null,null,null,null,null,null,null,null,null,null,null,null,null,null,null,null,null,null,null,null,null,null,null,null,null,null,null,null,null,null,null,null,null,null,null,null,null,null,null,null,null,null,null,null,null,null,null,null,null,null,null,1313,0,"","","","","","","","","","","","","","","","","","","","","","","","","","","","","","","","","","","","","","","","","","","","","","","","","","","","","","","","",null,null,null,null,null,null,null,1313,null,null,null,null,null,null,null,null,"",null,null,null,null,null,null,null,null,null,null,null,null,null,null,null,null,"","",null,1313,null,null,null,null,null,null,null,null,null,null,null,null,null,null,null,null,null,null,null,null,null,null,null,null,null,null,null,1313,null,null,null,null,null,null,null,null,null,null,null,null,null,null,null,null,null,null,null,null,null,null,null,null,null,null,null,1313]
[1321,null,null,null,null,null,null,null,null,null,null,null,null,"生徒欄と同様",24,3,null,null,24,4,1,1321,null,"","","","","","","","","","","","","","","","","","","","","","","","","","","","","","","","","","","","","","","","","","","","","","","","","","","","","","","","","","","","",1,0,null,1321,0,"","","","","","","","","","","","","","","","","","","","","","","","","","","","","","","","","","","","","","","","","","","","","","","","","","","","","","","","",null,null,null,null,1,0,null,1321,0,null,null,null,null,null,null,null,null,null,null,null,null,null,null,null,null,null,null,null,null,null,null,null,null,null,null,null,null,null,null,null,null,null,null,null,null,null,null,null,null,null,null,null,null,null,null,null,null,null,null,null,null,null,null,null,null,null,null,null,null,null,null,null,1321,0,"","","","","","","","","","","","","","","","","","","","","","","","","","","","","","","","","","","","","","","","","","","","","","","","","","","","","","","","",null,null,null,null,null,null,null,1321,0,null,null,null,null,null,null,null,null,null,null,null,null,null,null,null,null,null,null,null,null,null,null,null,null,null,null,null,null,null,null,null,null,null,null,null,null,null,null,null,null,null,null,null,null,null,null,null,null,null,null,null,null,null,null,null,null,null,null,null,null,null,null,null,1321,0,"","","","","","","","","","","","","","","","","","","","","","","","","","","","","","","","","","","","","","","","","","","","","","","","","","","","","","","","",null,null,null,null,null,null,null,1321,0,null,null,null,null,null,null,null,null,null,null,null,null,null,null,null,null,null,null,null,null,null,null,null,null,null,null,null,null,null,null,null,null,null,null,null,null,null,null,null,null,null,null,null,null,null,null,null,null,null,null,null,null,null,null,null,null,null,null,null,null,null,null,null,1321,0,"","","","","","","","","","","","","","","","","","","","","","","","","","","","","","","","","","","","","","","","","","","","","","","","","","","","","","","","",null,null,null,null,null,null,null,1321,0,null,null,null,null,null,null,null,null,null,null,null,null,null,null,null,null,null,null,null,null,null,null,null,null,null,null,null,null,null,null,null,null,null,null,null,null,null,null,null,null,null,null,null,null,null,null,null,null,null,null,null,null,null,null,null,null,null,null,null,null,null,null,null,1321,0,"","","","","","","","","","","","","","","","","","","","","","","","","","","","","","","","","","","","","","","","","","","","","","","","","","","","","","","","",null,null,null,null,null,null,null,1321,null,null,null,null,null,null,null,null,"",null,null,null,null,null,null,null,null,null,null,null,null,null,null,null,null,"","",null,1321,null,null,null,null,null,null,null,null,null,null,null,null,null,null,null,null,null,null,null,null,null,null,null,null,null,null,null,1321,null,null,null,null,null,null,null,null,null,null,null,null,null,null,null,null,null,null,null,null,null,null,null,null,null,null,null,1321]
[1326,null,null,null,null,null,null,null,null,null,null,null,null,"生徒欄と同様",24,3,null,null,24,4,1,1326,null,"","","","","","","","","","","","","","","","","","","","","","","","","","","","","","","","","","","","","","","","","","","","","","","","","","","","","","","","","","","","",1,0,null,1326,0,"","","","","","","","","","","","","","","","","","","","","","","","","","","","","","","","","","","","","","","","","","","","","","","","","","","","","","","","",null,null,null,null,1,0,null,1326,0,null,null,null,null,null,null,null,null,null,null,null,null,null,null,null,null,null,null,null,null,null,null,null,null,null,null,null,null,null,null,null,null,null,null,null,null,null,null,null,null,null,null,null,null,null,null,null,null,null,null,null,null,null,null,null,null,null,null,null,null,null,null,null,1326,0,"","","","","","","","","","","","","","","","","","","","","","","","","","","","","","","","","","","","","","","","","","","","","","","","","","","","","","","","",null,null,null,null,null,null,null,1326,0,null,null,null,null,null,null,null,null,null,null,null,null,null,null,null,null,null,null,null,null,null,null,null,null,null,null,null,null,null,null,null,null,null,null,null,null,null,null,null,null,null,null,null,null,null,null,null,null,null,null,null,null,null,null,null,null,null,null,null,null,null,null,null,1326,0,"","","","","","","","","","","","","","","","","","","","","","","","","","","","","","","","","","","","","","","","","","","","","","","","","","","","","","","","",null,null,null,null,null,null,null,1326,0,null,null,null,null,null,null,null,null,null,null,null,null,null,null,null,null,null,null,null,null,null,null,null,null,null,null,null,null,null,null,null,null,null,null,null,null,null,null,null,null,null,null,null,null,null,null,null,null,null,null,null,null,null,null,null,null,null,null,null,null,null,null,null,1326,0,"","","","","","","","","","","","","","","","","","","","","","","","","","","","","","","","","","","","","","","","","","","","","","","","","","","","","","","","",null,null,null,null,null,null,null,1326,0,null,null,null,null,null,null,null,null,null,null,null,null,null,null,null,null,null,null,null,null,null,null,null,null,null,null,null,null,null,null,null,null,null,null,null,null,null,null,null,null,null,null,null,null,null,null,null,null,null,null,null,null,null,null,null,null,null,null,null,null,null,null,null,1326,0,"","","","","","","","","","","","","","","","","","","","","","","","","","","","","","","","","","","","","","","","","","","","","","","","","","","","","","","","",null,null,null,null,null,null,null,1326,null,null,null,null,null,null,null,null,"",null,null,null,null,null,null,null,null,null,null,null,null,null,null,null,null,"","",null,1326,null,null,null,null,null,null,null,null,null,null,null,null,null,null,null,null,null,null,null,null,null,null,null,null,null,null,null,1326,null,null,null,null,null,null,null,null,null,null,null,null,null,null,null,null,null,null,null,null,null,null,null,null,null,null,null,1326]
[1404,null,null,null,null,null,null,null,null,null,null,null,null,"生徒欄と同様",24,3,null,null,24,4,1,1404,null,"","","","","","","","","","","","","","","","","","","","","","","","","","","","","","","","","","","","","","","","","","","","","","","","","","","","","","","","","","","","",1,0,null,1404,0,"","","","","","","","","","","","","","","","","","","","","","","","","","","","","","","","","","","","","","","","","","","","","","","","","","","","","","","","",null,null,null,null,1,0,null,1404,0,null,null,null,null,null,null,null,null,null,null,null,null,null,null,null,null,null,null,null,null,null,null,null,null,null,null,null,null,null,null,null,null,null,null,null,null,null,null,null,null,null,null,null,null,null,null,null,null,null,null,null,null,null,null,null,null,null,null,null,null,null,null,null,1404,0,"","","","","","","","","","","","","","","","","","","","","","","","","","","","","","","","","","","","","","","","","","","","","","","","","","","","","","","","",null,null,null,null,null,null,null,1404,0,null,null,null,null,null,null,null,null,null,null,null,null,null,null,null,null,null,null,null,null,null,null,null,null,null,null,null,null,null,null,null,null,null,null,null,null,null,null,null,null,null,null,null,null,null,null,null,null,null,null,null,null,null,null,null,null,null,null,null,null,null,null,null,1404,0,"","","","","","","","","","","","","","","","","","","","","","","","","","","","","","","","","","","","","","","","","","","","","","","","","","","","","","","","",null,null,null,null,null,null,null,1404,0,null,null,null,null,null,null,null,null,null,null,null,null,null,null,null,null,null,null,null,null,null,null,null,null,null,null,null,null,null,null,null,null,null,null,null,null,null,null,null,null,null,null,null,null,null,null,null,null,null,null,null,null,null,null,null,null,null,null,null,null,null,null,null,1404,0,"","","","","","","","","","","","","","","","","","","","","","","","","","","","","","","","","","","","","","","","","","","","","","","","","","","","","","","","",null,null,null,null,null,null,null,1404,0,null,null,null,null,null,null,null,null,null,null,null,null,null,null,null,null,null,null,null,null,null,null,null,null,null,null,null,null,null,null,null,null,null,null,null,null,null,null,null,null,null,null,null,null,null,null,null,null,null,null,null,null,null,null,null,null,null,null,null,null,null,null,null,1404,0,"","","","","","","","","","","","","","","","","","","","","","","","","","","","","","","","","","","","","","","","","","","","","","","","","","","","","","","","",null,null,null,null,null,null,null,1404,null,null,null,null,null,null,null,null,"",null,null,null,null,null,null,null,null,null,null,null,null,null,null,null,null,"","",null,1404,null,null,null,null,null,null,null,null,null,null,null,null,null,null,null,null,null,null,null,null,null,null,null,null,null,null,null,1404,null,null,null,null,null,null,null,null,null,null,null,null,null,null,null,null,null,null,null,null,null,null,null,null,null,null,null,1404]
[1407,null,null,null,null,null,null,null,null,null,null,null,null,"生徒欄と同様",24,3,null,null,24,4,1,1407,null,"","","","","","","","","","","","","","","","","","","","","","","","","","","","","","","","","","","","","","","","","","","","","","","","","","","","","","","","","","","","",1,0,null,1407,0,"","","","","","","","","","","","","","","","","","","","","","","","","","","","","","","","","","","","","","","","","","","","","","","","","","","","","","","","",null,null,null,null,1,0,null,1407,0,null,null,null,null,null,null,null,null,null,null,null,null,null,null,null,null,null,null,null,null,null,null,null,null,null,null,null,null,null,null,null,null,null,null,null,null,null,null,null,null,null,null,null,null,null,null,null,null,null,null,null,null,null,null,null,null,null,null,null,null,null,null,null,1407,0,"","","","","","","","","","","","","","","","","","","","","","","","","","","","","","","","","","","","","","","","","","","","","","","","","","","","","","","","",null,null,null,null,null,null,null,1407,0,null,null,null,null,null,null,null,null,null,null,null,null,null,null,null,null,null,null,null,null,null,null,null,null,null,null,null,null,null,null,null,null,null,null,null,null,null,null,null,null,null,null,null,null,null,null,null,null,null,null,null,null,null,null,null,null,null,null,null,null,null,null,null,1407,0,"","","","","","","","","","","","","","","","","","","","","","","","","","","","","","","","","","","","","","","","","","","","","","","","","","","","","","","","",null,null,null,null,null,null,null,1407,0,null,null,null,null,null,null,null,null,null,null,null,null,null,null,null,null,null,null,null,null,null,null,null,null,null,null,null,null,null,null,null,null,null,null,null,null,null,null,null,null,null,null,null,null,null,null,null,null,null,null,null,null,null,null,null,null,null,null,null,null,null,null,null,1407,0,"","","","","","","","","","","","","","","","","","","","","","","","","","","","","","","","","","","","","","","","","","","","","","","","","","","","","","","","",null,null,null,null,null,null,null,1407,0,null,null,null,null,null,null,null,null,null,null,null,null,null,null,null,null,null,null,null,null,null,null,null,null,null,null,null,null,null,null,null,null,null,null,null,null,null,null,null,null,null,null,null,null,null,null,null,null,null,null,null,null,null,null,null,null,null,null,null,null,null,null,null,1407,0,"","","","","","","","","","","","","","","","","","","","","","","","","","","","","","","","","","","","","","","","","","","","","","","","","","","","","","","","",null,null,null,null,null,null,null,1407,null,null,null,null,null,null,null,null,"",null,null,null,null,null,null,null,null,null,null,null,null,null,null,null,null,"","",null,1407,null,null,null,null,null,null,null,null,null,null,null,null,null,null,null,null,null,null,null,null,null,null,null,null,null,null,null,1407,null,null,null,null,null,null,null,null,null,null,null,null,null,null,null,null,null,null,null,null,null,null,null,null,null,null,null,1407]
[1412,null,null,null,null,null,null,null,null,null,null,null,null,"生徒欄と同様",24,3,null,null,24,4,1,1412,null,"","","","","","","","","","","","","","","","","","","","","","","","","","","","","","","","","","","","","","","","","","","","","","","","","","","","","","","","","","","","",1,0,null,1412,0,"","","","","","","","","","","","","","","","","","","","","","","","","","","","","","","","","","","","","","","","","","","","","","","","","","","","","","","","",null,null,null,null,1,0,null,1412,0,null,null,null,null,null,null,null,null,null,null,null,null,null,null,null,null,null,null,null,null,null,null,null,null,null,null,null,null,null,null,null,null,null,null,null,null,null,null,null,null,null,null,null,null,null,null,null,null,null,null,null,null,null,null,null,null,null,null,null,null,null,null,null,1412,0,"","","","","","","","","","","","","","","","","","","","","","","","","","","","","","","","","","","","","","","","","","","","","","","","","","","","","","","","",null,null,null,null,null,null,null,1412,0,null,null,null,null,null,null,null,null,null,null,null,null,null,null,null,null,null,null,null,null,null,null,null,null,null,null,null,null,null,null,null,null,null,null,null,null,null,null,null,null,null,null,null,null,null,null,null,null,null,null,null,null,null,null,null,null,null,null,null,null,null,null,null,1412,0,"","","","","","","","","","","","","","","","","","","","","","","","","","","","","","","","","","","","","","","","","","","","","","","","","","","","","","","","",null,null,null,null,null,null,null,1412,0,null,null,null,null,null,null,null,null,null,null,null,null,null,null,null,null,null,null,null,null,null,null,null,null,null,null,null,null,null,null,null,null,null,null,null,null,null,null,null,null,null,null,null,null,null,null,null,null,null,null,null,null,null,null,null,null,null,null,null,null,null,null,null,1412,0,"","","","","","","","","","","","","","","","","","","","","","","","","","","","","","","","","","","","","","","","","","","","","","","","","","","","","","","","",null,null,null,null,null,null,null,1412,0,null,null,null,null,null,null,null,null,null,null,null,null,null,null,null,null,null,null,null,null,null,null,null,null,null,null,null,null,null,null,null,null,null,null,null,null,null,null,null,null,null,null,null,null,null,null,null,null,null,null,null,null,null,null,null,null,null,null,null,null,null,null,null,1412,0,"","","","","","","","","","","","","","","","","","","","","","","","","","","","","","","","","","","","","","","","","","","","","","","","","","","","","","","","",null,null,null,null,null,null,null,1412,null,null,null,null,null,null,null,null,"",null,null,null,null,null,null,null,null,null,null,null,null,null,null,null,null,"","",null,1412,null,null,null,null,null,null,null,null,null,null,null,null,null,null,null,null,null,null,null,null,null,null,null,null,null,null,null,1412,null,null,null,null,null,null,null,null,null,null,null,null,null,null,null,null,null,null,null,null,null,null,null,null,null,null,null,1412]
[1420,null,null,null,null,null,null,null,null,null,null,null,null,"生徒欄と同様",24,3,null,null,24,4,1,1420,null,"","","","","","","","","","","","","","","","","","","","","","","","","","","","","","","","","","","","","","","","","","","","","","","","","","","","","","","","","","","","",1,0,null,{"$f":"V135","v":1420},0,"","","","","","","","","","","","","","","","","","","","","","","","","","","","","","","","","","","","","","","","","","","","","","","","","","","","","","","","",null,null,null,null,1,0,null,1420,0,null,null,null,null,null,null,null,null,null,null,null,null,null,null,null,null,null,null,null,null,null,null,null,null,null,null,null,null,null,null,null,null,null,null,null,null,null,null,null,null,null,null,null,null,null,null,null,null,null,null,null,null,null,null,null,null,null,null,null,null,null,null,null,1420,0,"","","","","","","","","","","","","","","","","","","","","","","","","","","","","","","","","","","","","","","","","","","","","","","","","","","","","","","","",null,null,null,null,null,null,null,1420,0,null,null,null,null,null,null,null,null,null,null,null,null,null,null,null,null,null,null,null,null,null,null,null,null,null,null,null,null,null,null,null,null,null,null,null,null,null,null,null,null,null,null,null,null,null,null,null,null,null,null,null,null,null,null,null,null,null,null,null,null,null,null,null,1420,0,"","","","","","","","","","","","","","","","","","","","","","","","","","","","","","","","","","","","","","","","","","","","","","","","","","","","","","","","",null,null,null,null,null,null,null,1420,0,null,null,null,null,null,null,null,null,null,null,null,null,null,null,null,null,null,null,null,null,null,null,null,null,null,null,null,null,null,null,null,null,null,null,null,null,null,null,null,null,null,null,null,null,null,null,null,null,null,null,null,null,null,null,null,null,null,null,null,null,null,null,null,1420,0,"","","","","","","","","","","","","","","","","","","","","","","","","","","","","","","","","","","","","","","","","","","","","","","","","","","","","","","","",null,null,null,null,null,null,null,1420,0,null,null,null,null,null,null,null,null,null,null,null,null,null,null,null,null,null,null,null,null,null,null,null,null,null,null,null,null,null,null,null,null,null,null,null,null,null,null,null,null,null,null,null,null,null,null,null,null,null,null,null,null,null,null,null,null,null,null,null,null,null,null,null,1420,0,"","","","","","","","","","","","","","","","","","","","","","","","","","","","","","","","","","","","","","","","","","","","","","","","","","","","","","","","",null,null,null,null,null,null,null,1420,null,null,null,null,null,null,null,null,"",null,null,null,null,null,null,null,null,null,null,null,null,null,null,null,null,"","",null,1420,null,null,null,null,null,null,null,null,null,null,null,null,null,null,null,null,null,null,null,null,null,null,null,null,null,null,null,1420,null,null,null,null,null,null,null,null,null,null,null,null,null,null,null,null,null,null,null,null,null,null,null,null,null,null,null,1420]
[1432,null,null,null,null,null,null,null,null,null,null,null,null,"生徒欄と同様",24,3,null,null,24,4,1,1432,null,"","","","","","","","","","","","","","","","","","","","","","","","","","","","","","","","","","","","","","","","","","","","","","","","","","","","","","","","","","","","",1,0,null,1432,0,"","","","","","","","","","","","","","","","","","","","","","","","","","","","","","","","","","","","","","","","","","","","","","","","","","","","","","","","",null,null,null,null,1,0,null,1432,0,null,null,null,null,null,null,null,null,null,null,null,null,null,null,null,null,null,null,null,null,null,null,null,null,null,null,null,null,null,null,null,null,null,null,null,null,null,null,null,null,null,null,null,null,null,null,null,null,null,null,null,null,null,null,null,null,null,null,null,null,null,null,null,1432,0,"","","","","","","","","","","","","","","","","","","","","","","","","","","","","","","","","","","","","","","","","","","","","","","","","","","","","","","","",null,null,null,null,null,null,null,1432,0,null,null,null,null,null,null,null,null,null,null,null,null,null,null,null,null,null,null,null,null,null,null,null,null,null,null,null,null,null,null,null,null,null,null,null,null,null,null,null,null,null,null,null,null,null,null,null,null,null,null,null,null,null,null,null,null,null,null,null,null,null,null,null,1432,0,"","","","","","","","","","","","","","","","","","","","","","","","","","","","","","","","","","","","","","","","","","","","","","","","","","","","","","","","",null,null,null,null,null,null,null,1432,0,null,null,null,null,null,null,null,null,null,null,null,null,null,null,null,null,null,null,null,null,null,null,null,null,null,null,null,null,null,null,null,null,null,null,null,null,null,null,null,null,null,null,null,null,null,null,null,null,null,null,null,null,null,null,null,null,null,null,null,null,null,null,null,1432,0,"","","","","","","","","","","","","","","","","","","","","","","","","","","","","","","","","","","","","","","","","","","","","","","","","","","","","","","","",null,null,null,null,null,null,null,1432,0,null,null,null,null,null,null,null,null,null,null,null,null,null,null,null,null,null,null,null,null,null,null,null,null,null,null,null,null,null,null,null,null,null,null,null,null,null,null,null,null,null,null,null,null,null,null,null,null,null,null,null,null,null,null,null,null,null,null,null,null,null,null,null,1432,0,"","","","","","","","","","","","","","","","","","","","","","","","","","","","","","","","","","","","","","","","","","","","","","","","","","","","","","","","",null,null,null,null,null,null,null,1432,null,null,null,null,null,null,null,null,"",null,null,null,null,null,null,null,null,null,null,null,null,null,null,null,null,"","",null,1432,null,null,null,null,null,null,null,null,null,null,null,null,null,null,null,null,null,null,null,null,null,null,null,null,null,null,null,1432,null,null,null,null,null,null,null,null,null,null,null,null,null,null,null,null,null,null,null,null,null,null,null,null,null,null,null,1432]
[1433,null,null,null,null,null,null,null,null,null,null,null,null,"生徒欄と同様",24,3,null,null,24,4,1,1433,null,"","","","","","","","","","","","","","","","","","","","","","","","","","","","","","","","","","","","","","","","","","","","","","","","","","","","","","","","","","","","","",0,null,1433,0,"","","","","","","","","","","","","","","","","","","","","","","","","","","","","","","","","","","","","","","","","","","","","","","","","","","","","","","","",null,null,null,null,0,0,null,1433,0,null,null,null,null,null,null,null,null,null,null,null,null,null,null,null,null,null,null,null,null,null,null,null,null,null,null,null,null,null,null,null,null,null,null,null,null,null,null,null,null,null,null,null,null,null,null,null,null,null,null,null,null,null,null,null,null,null,null,null,null,null,null,null,1433,0,"","","","","","","","","","","","","","","","","","","","","","","","","","","","","","","","","","","","","","","","","","","","","","","","","","","","","","","","",null,null,null,null,null,null,null,1433,0,null,null,null,null,null,null,null,null,null,null,null,null,null,null,null,null,null,null,null,null,null,null,null,null,null,null,null,null,null,null,null,null,null,null,null,null,null,null,null,null,null,null,null,null,null,null,null,null,null,null,null,null,null,null,null,null,null,null,null,null,null,null,null,1433,0,"","","","","","","","","","","","","","","","","","","","","","","","","","","","","","","","","","","","","","","","","","","","","","","","","","","","","","","","",null,null,null,null,null,null,null,1433,0,null,null,null,null,null,null,null,null,null,null,null,null,null,null,null,null,null,null,null,null,null,null,null,null,null,null,null,null,null,null,null,null,null,null,null,null,null,null,null,null,null,null,null,null,null,null,null,null,null,null,null,null,null,null,null,null,null,null,null,null,null,null,null,1433,0,"","","","","","","","","","","","","","","","","","","","","","","","","","","","","","","","","","","","","","","","","","","","","","","","","","","","","","","","",null,null,null,null,null,null,null,1433,0,null,null,null,null,null,null,null,null,null,null,null,null,null,null,null,null,null,null,null,null,null,null,null,null,null,null,null,null,null,null,null,null,null,null,null,null,null,null,null,null,null,null,null,null,null,null,null,null,null,null,null,null,null,null,null,null,null,null,null,null,null,null,null,1433,0,"","","","","","","","","","","","","","","","","","","","","","","","","","","","","","","","","","","","","","","","","","","","","","","","","","","","","","","","",null,null,null,null,null,null,null,1433,null,null,null,null,null,null,null,null,"",null,null,null,null,null,null,null,null,null,null,null,null,null,null,null,null,"","",null,1433,null,null,null,null,null,null,null,null,null,null,null,null,null,null,null,null,null,null,null,null,null,null,null,null,null,null,null,1433,null,null,null,null,null,null,null,null,null,null,null,null,null,null,null,null,null,null,null,null,null,null,null,null,null,null,null,1433]
[1507,null,null,null,null,null,null,null,null,null,null,null,null,"生徒欄と同様",24,3,null,null,24,4,1,1507,null,"","","","","","","","","","","","","","","","","","","","","","","","","","","","","","","","","","","","","","","","","","","","","","","","","","","","","","","","","","","","",1,0,null,1507,0,"","","","","","","","","","","","","","","","","","","","","","","","","","","","","","","","","","","","","","","","","","","","","","","","","","","","","","","","",null,null,null,null,1,0,null,1507,0,null,null,null,null,null,null,null,null,null,null,null,null,null,null,null,null,null,null,null,null,null,null,null,null,null,null,null,null,null,null,null,null,null,null,null,null,null,null,null,null,null,null,null,null,null,null,null,null,null,null,null,null,null,null,null,null,null,null,null,null,null,null,null,1507,0,"","","","","","","","","","","","","","","","","","","","","","","","","","","","","","","","","","","","","","","","","","","","","","","","","","","","","","","","",null,null,null,null,null,null,null,1507,0,null,null,null,null,null,null,null,null,null,null,null,null,null,null,null,null,null,null,null,null,null,null,null,null,null,null,null,null,null,null,null,null,null,null,null,null,null,null,null,null,null,null,null,null,null,null,null,null,null,null,null,null,null,null,null,null,null,null,null,null,null,null,null,1507,0,"","","","","","","","","","","","","","","","","","","","","","","","","","","","","","","","","","","","","","","","","","","","","","","","","","","","","","","","",null,null,null,null,null,null,null,1507,0,null,null,null,null,null,null,null,null,null,null,null,null,null,null,null,null,null,null,null,null,null,null,null,null,null,null,null,null,null,null,null,null,null,null,null,null,null,null,null,null,null,null,null,null,null,null,null,null,null,null,null,null,null,null,null,null,null,null,null,null,null,null,null,1507,0,"","","","","","","","","","","","","","","","","","","","","","","","","","","","","","","","","","","","","","","","","","","","","","","","","","","","","","","","",null,null,null,null,null,null,null,1507,0,null,null,null,null,null,null,null,null,null,null,null,null,null,null,null,null,null,null,null,null,null,null,null,null,null,null,null,null,null,null,null,null,null,null,null,null,null,null,null,null,null,null,null,null,null,null,null,null,null,null,null,null,null,null,null,null,null,null,null,null,null,null,null,1507,0,"","","","","","","","","","","","","","","","","","","","","","","","","","","","","","","","","","","","","","","","","","","","","","","","","","","","","","","","",null,null,null,null,null,null,null,1507,null,null,null,null,null,null,null,null,"",null,null,null,null,null,null,null,null,null,null,null,null,null,null,null,null,"","",null,1507,null,null,null,null,null,null,null,null,null,null,null,null,null,null,null,null,null,null,null,null,null,null,null,null,null,null,null,1507,null,null,null,null,null,null,null,null,null,null,null,null,null,null,null,null,null,null,null,null,null,null,null,null,null,null,null,1507]
[1518,null,null,null,null,null,null,null,null,null,null,null,null,"生徒欄と同様",24,3,null,null,24,4,1,1518,null,"","","","","","","","","","","","","","","","","","","","","","","","","","","","","","","","","","","","","","","","","","","","","","","","","","","","","","","","","","","","",1,0,null,1518,0,"","","","","","","","","","","","","","","","","","","","","","","","","","","","","","","","","","","","","","","","","","","","","","","","","","","","","","","","",null,null,null,null,1,0,null,1518,0,null,null,null,null,null,null,null,null,null,null,null,null,null,null,null,null,null,null,null,null,null,null,null,null,null,null,null,null,null,null,null,null,null,null,null,null,null,null,null,null,null,null,null,null,null,null,null,null,null,null,null,null,null,null,null,null,null,null,null,null,null,null,null,1518,0,"","","","","","","","","","","","","","","","","","","","","","","","","","","","","","","","","","","","","","","","","","","","","","","","","","","","","","","","",null,null,null,null,null,null,null,1518,0,null,null,null,null,null,null,null,null,null,null,null,null,null,null,null,null,null,null,null,null,null,null,null,null,null,null,null,null,null,null,null,null,null,null,null,null,null,null,null,null,null,null,null,null,null,null,null,null,null,null,null,null,null,null,null,null,null,null,null,null,null,null,null,1518,0,"","","","","","","","","","","","","","","","","","","","","","","","","","","","","","","","","","","","","","","","","","","","","","","","","","","","","","","","",null,null,null,null,null,null,null,1518,0,null,null,null,null,null,null,null,null,null,null,null,null,null,null,null,null,null,null,null,null,null,null,null,null,null,null,null,null,null,null,null,null,null,null,null,null,null,null,null,null,null,null,null,null,null,null,null,null,null,null,null,null,null,null,null,null,null,null,null,null,null,null,null,1518,0,"","","","","","","","","","","","","","","","","","","","","","","","","","","","","","","","","","","","","","","","","","","","","","","","","","","","","","","","",null,null,null,null,null,null,null,1518,0,null,null,null,null,null,null,null,null,null,null,null,null,null,null,null,null,null,null,null,null,null,null,null,null,null,null,null,null,null,null,null,null,null,null,null,null,null,null,null,null,null,null,null,null,null,null,null,null,null,null,null,null,null,null,null,null,null,null,null,null,null,null,null,1518,0,"","","","","","","","","","","","","","","","","","","","","","","","","","","","","","","","","","","","","","","","","","","","","","","","","","","","","","","","",null,null,null,null,null,null,null,1518,null,null,null,null,null,null,null,null,"",null,null,null,null,null,null,null,null,null,null,null,null,null,null,null,null,"","",null,1518,null,null,null,null,null,null,null,null,null,null,null,null,null,null,null,null,null,null,null,null,null,null,null,null,null,null,null,1518,null,null,null,null,null,null,null,null,null,null,null,null,null,null,null,null,null,null,null,null,null,null,null,null,null,null,null,1518]
[1519,null,null,null,null,null,null,null,null,null,null,null,null,"生徒欄と同様",24,3,null,null,24,4,1,1519,null,"","","","","","","","","","","","","","","","","","","","","","","","","","","","","","","","","","","","","","","","","","","","","","","","","","","","","","","","","","","","",1,0,null,1519,0,"","","","","","","","","","","","","","","","","","","","","","","","","","","","","","","","","","","","","","","","","","","","","","","","","","","","","","","","",null,null,null,null,1,0,null,1519,0,null,null,null,null,null,null,null,null,null,null,null,null,null,null,null,null,null,null,null,null,null,null,null,null,null,null,null,null,null,null,null,null,null,null,null,null,null,null,null,null,null,null,null,null,null,null,null,null,null,null,null,null,null,null,null,null,null,null,null,null,null,null,null,1519,0,"","","","","","","","","","","","","","","","","","","","","","","","","","","","","","","","","","","","","","","","","","","","","","","","","","","","","","","","",null,null,null,null,null,null,null,1519,0,null,null,null,null,null,null,null,null,null,null,null,null,null,null,null,null,null,null,null,null,null,null,null,null,null,null,null,null,null,null,null,null,null,null,null,null,null,null,null,null,null,null,null,null,null,null,null,null,null,null,null,null,null,null,null,null,null,null,null,null,null,null,null,1519,0,"","","","","","","","","","","","","","","","","","","","","","","","","","","","","","","","","","","","","","","","","","","","","","","","","","","","","","","","",null,null,null,null,null,null,null,1519,0,null,null,null,null,null,null,null,null,null,null,null,null,null,null,null,null,null,null,null,null,null,null,null,null,null,null,null,null,null,null,null,null,null,null,null,null,null,null,null,null,null,null,null,null,null,null,null,null,null,null,null,null,null,null,null,null,null,null,null,null,null,null,null,1519,0,"","","","","","","","","","","","","","","","","","","","","","","","","","","","","","","","","","","","","","","","","","","","","","","","","","","","","","","","",null,null,null,null,null,null,null,1519,0,null,null,null,null,null,null,null,null,null,null,null,null,null,null,null,null,null,null,null,null,null,null,null,null,null,null,null,null,null,null,null,null,null,null,null,null,null,null,null,null,null,null,null,null,null,null,null,null,null,null,null,null,null,null,null,null,null,null,null,null,null,null,null,1519,0,"","","","","","","","","","","","","","","","","","","","","","","","","","","","","","","","","","","","","","","","","","","","","","","","","","","","","","","","",null,null,null,null,null,null,null,1519,null,null,null,null,null,null,null,null,"",null,null,null,null,null,null,null,null,null,null,null,null,null,null,null,null,"","",null,1519,null,null,null,null,null,null,null,null,null,null,null,null,null,null,null,null,null,null,null,null,null,null,null,null,null,null,null,1519,null,null,null,null,null,null,null,null,null,null,null,null,null,null,null,null,null,null,null,null,null,null,null,null,null,null,null,1519]
[1531,null,null,null,null,null,null,null,null,null,null,null,null,"生徒欄と同様",24,3,null,null,24,4,1,1531,null,"","","","","","","","","","","","","","","","","","","","","","","","","","","","","","","","","","","","","","","","","","","","","","","","","","","","","","","","","","","","",1,0,null,1531,0,"","","","","","","","","","","","","","","","","","","","","","","","","","","","","","","","","","","","","","","","","","","","","","","","","","","","","","","","",null,null,null,null,1,0,null,1531,0,null,null,null,null,null,null,null,null,null,null,null,null,null,null,null,null,null,null,null,null,null,null,null,null,null,null,null,null,null,null,null,null,null,null,null,null,null,null,null,null,null,null,null,null,null,null,null,null,null,null,null,null,null,null,null,null,null,null,null,null,null,null,null,1531,0,"","","","","","","","","","","","","","","","","","","","","","","","","","","","","","","","","","","","","","","","","","","","","","","","","","","","","","","","",null,null,null,null,null,null,null,1531,0,null,null,null,null,null,null,null,null,null,null,null,null,null,null,null,null,null,null,null,null,null,null,null,null,null,null,null,null,null,null,null,null,null,null,null,null,null,null,null,null,null,null,null,null,null,null,null,null,null,null,null,null,null,null,null,null,null,null,null,null,null,null,null,1531,0,"","","","","","","","","","","","","","","","","","","","","","","","","","","","","","","","","","","","","","","","","","","","","","","","","","","","","","","","",null,null,null,null,null,null,null,1531,0,null,null,null,null,null,null,null,null,null,null,null,null,null,null,null,null,null,null,null,null,null,null,null,null,null,null,null,null,null,null,null,null,null,null,null,null,null,null,null,null,null,null,null,null,null,null,null,null,null,null,null,null,null,null,null,null,null,null,null,null,null,null,null,1531,0,"","","","","","","","","","","","","","","","","","","","","","","","","","","","","","","","","","","","","","","","","","","","","","","","","","","","","","","","",null,null,null,null,null,null,null,1531,0,null,null,null,null,null,null,null,null,null,null,null,null,null,null,null,null,null,null,null,null,null,null,null,null,null,null,null,null,null,null,null,null,null,null,null,null,null,null,null,null,null,null,null,null,null,null,null,null,null,null,null,null,null,null,null,null,null,null,null,null,null,null,null,1531,0,"","","","","","","","","","","","","","","","","","","","","","","","","","","","","","","","","","","","","","","","","","","","","","","","","","","","","","","","",null,null,null,null,null,null,null,1531,null,null,null,null,null,null,null,null,"",null,null,null,null,null,null,null,null,null,null,null,null,null,null,null,null,"","",null,1531,null,null,null,null,null,null,null,null,null,null,null,null,null,null,null,null,null,null,null,null,null,null,null,null,null,null,null,1531,null,null,null,null,null,null,null,null,null,null,null,null,null,null,null,null,null,null,null,null,null,null,null,null,null,null,null,1531]
[1605,null,null,null,null,null,null,null,null,null,null,null,null,"生徒欄と同様",24,3,null,null,24,4,1,1605,null,"","","","","","","","","","","","","","","","","","","","","","","","","","","","","","","","","","","","","","","","","","","","","","","","","","","","","","","","","","","","",1,0,null,1605,0,"","","","","","","","","","","","","","","","","","","","","","","","","","","","","","","","","","","","","","","","","","","","","","","","","","","","","","","","",null,null,null,null,1,0,null,1605,0,null,null,null,null,null,null,null,null,null,null,null,null,null,null,null,null,null,null,null,null,null,null,null,null,null,null,null,null,null,null,null,null,null,null,null,null,null,null,null,null,null,null,null,null,null,null,null,null,null,null,null,null,null,null,null,null,null,null,null,null,null,null,null,1605,0,"","","","","","","","","","","","","","","","","","","","","","","","","","","","","","","","","","","","","","","","","","","","","","","","","","","","","","","","",null,null,null,null,null,null,null,1605,0,null,null,null,null,null,null,null,null,null,null,null,null,null,null,null,null,null,null,null,null,null,null,null,null,null,null,null,null,null,null,null,null,null,null,null,null,null,null,null,null,null,null,null,null,null,null,null,null,null,null,null,null,null,null,null,null,null,null,null,null,null,null,null,1605,0,"","","","","","","","","","","","","","","","","","","","","","","","","","","","","","","","","","","","","","","","","","","","","","","","","","","","","","","","",null,null,null,null,null,null,null,1605,0,null,null,null,null,null,null,null,null,null,null,null,null,null,null,null,null,null,null,null,null,null,null,null,null,null,null,null,null,null,null,null,null,null,null,null,null,null,null,null,null,null,null,null,null,null,null,null,null,null,null,null,null,null,null,null,null,null,null,null,null,null,null,null,1605,0,"","","","","","","","","","","","","","","","","","","","","","","","","","","","","","","","","","","","","","","","","","","","","","","","","","","","","","","","",null,null,null,null,null,null,null,1605,0,null,null,null,null,null,null,null,null,null,null,null,null,null,null,null,null,null,null,null,null,null,null,null,null,null,null,null,null,null,null,null,null,null,null,null,null,null,null,null,null,null,null,null,null,null,null,null,null,null,null,null,null,null,null,null,null,null,null,null,null,null,null,null,1605,0,"","","","","","","","","","","","","","","","","","","","","","","","","","","","","","","","","","","","","","","","","","","","","","","","","","","","","","","","",null,null,null,null,null,null,null,1605,null,null,null,null,null,null,null,null,"",null,null,null,null,null,null,null,null,null,null,null,null,null,null,null,null,"","",null,1605,null,null,null,null,null,null,null,null,null,null,null,null,null,null,null,null,null,null,null,null,null,null,null,null,null,null,null,1605,null,null,null,null,null,null,null,null,null,null,null,null,null,null,null,null,null,null,null,null,null,null,null,null,null,null,null,1605]
[1606,null,null,null,null,null,null,null,null,null,null,null,null,"生徒欄と同様",24,3,null,null,24,4,1,1606,null,"","","","","","","","","","","","","","","","","","","","","","","","","","","","","","","","","","","","","","","","","","","","","","","","","","","","","","","","","","","","",1,0,null,1606,0,"","","","","","","","","","","","","","","","","","","","","","","","","","","","","","","","","","","","","","","","","","","","","","","","","","","","","","","","",null,null,null,null,1,0,null,1606,0,null,null,null,null,null,null,null,null,null,null,null,null,null,null,null,null,null,null,null,null,null,null,null,null,null,null,null,null,null,null,null,null,null,null,null,null,null,null,null,null,null,null,null,null,null,null,null,null,null,null,null,null,null,null,null,null,null,null,null,null,null,null,null,1606,0,"","","","","","","","","","","","","","","","","","","","","","","","","","","","","","","","","","","","","","","","","","","","","","","","","","","","","","","","",null,null,null,null,null,null,null,1606,0,null,null,null,null,null,null,null,null,null,null,null,null,null,null,null,null,null,null,null,null,null,null,null,null,null,null,null,null,null,null,null,null,null,null,null,null,null,null,null,null,null,null,null,null,null,null,null,null,null,null,null,null,null,null,null,null,null,null,null,null,null,null,null,1606,0,"","","","","","","","","","","","","","","","","","","","","","","","","","","","","","","","","","","","","","","","","","","","","","","","","","","","","","","","",null,null,null,null,null,null,null,1606,0,null,null,null,null,null,null,null,null,null,null,null,null,null,null,null,null,null,null,null,null,null,null,null,null,null,null,null,null,null,null,null,null,null,null,null,null,null,null,null,null,null,null,null,null,null,null,null,null,null,null,null,null,null,null,null,null,null,null,null,null,null,null,null,1606,0,"","","","","","","","","","","","","","","","","","","","","","","","","","","","","","","","","","","","","","","","","","","","","","","","","","","","","","","","",null,null,null,null,null,null,null,1606,0,null,null,null,null,null,null,null,null,null,null,null,null,null,null,null,null,null,null,null,null,null,null,null,null,null,null,null,null,null,null,null,null,null,null,null,null,null,null,null,null,null,null,null,null,null,null,null,null,null,null,null,null,null,null,null,null,null,null,null,null,null,null,null,1606,0,"","","","","","","","","","","","","","","","","","","","","","","","","","","","","","","","","","","","","","","","","","","","","","","","","","","","","","","","",null,null,null,null,null,null,null,1606,null,null,null,null,null,null,null,null,"",null,null,null,null,null,null,null,null,null,null,null,null,null,null,null,null,"","",null,1606,null,null,null,null,null,null,null,null,null,null,null,null,null,null,null,null,null,null,null,null,null,null,null,null,null,null,null,1606,null,null,null,null,null,null,null,null,null,null,null,null,null,null,null,null,null,null,null,null,null,null,null,null,null,null,null,1606]
[1614,null,null,null,null,null,null,null,null,null,null,null,null,"生徒欄と同様",24,3,null,null,24,4,1,1614,null,"","","","","","","","","","","","","","","","","","","","","","","","","","","","","","","","","","","","","","","","","","","","","","","","","","","","","","","","","","","","",1,0,null,1614,0,"","","","","","","","","","","","","","","","","","","","","","","","","","","","","","","","","","","","","","","","","","","","","","","","","","","","","","","","",null,null,null,null,1,0,null,1614,0,null,null,null,null,null,null,null,null,null,null,null,null,null,null,null,null,null,null,null,null,null,null,null,null,null,null,null,null,null,null,null,null,null,null,null,null,null,null,null,null,null,null,null,null,null,null,null,null,null,null,null,null,null,null,null,null,null,null,null,null,null,null,null,1614,0,"","","","","","","","","","","","","","","","","","","","","","","","","","","","","","","","","","","","","","","","","","","","","","","","","","","","","","","","",null,null,null,null,null,null,null,1614,0,null,null,null,null,null,null,null,null,null,null,null,null,null,null,null,null,null,null,null,null,null,null,null,null,null,null,null,null,null,null,null,null,null,null,null,null,null,null,null,null,null,null,null,null,null,null,null,null,null,null,null,null,null,null,null,null,null,null,null,null,null,null,null,1614,0,"","","","","","","","","","","","","","","","","","","","","","","","","","","","","","","","","","","","","","","","","","","","","","","","","","","","","","","","",null,null,null,null,null,null,null,1614,0,null,null,null,null,null,null,null,null,null,null,null,null,null,null,null,null,null,null,null,null,null,null,null,null,null,null,null,null,null,null,null,null,null,null,null,null,null,null,null,null,null,null,null,null,null,null,null,null,null,null,null,null,null,null,null,null,null,null,null,null,null,null,null,1614,0,"","","","","","","","","","","","","","","","","","","","","","","","","","","","","","","","","","","","","","","","","","","","","","","","","","","","","","","","",null,null,null,null,null,null,null,1614,0,null,null,null,null,null,null,null,null,null,null,null,null,null,null,null,null,null,null,null,null,null,null,null,null,null,null,null,null,null,null,null,null,null,null,null,null,null,null,null,null,null,null,null,null,null,null,null,null,null,null,null,null,null,null,null,null,null,null,null,null,null,null,null,1614,0,"","","","","","","","","","","","","","","","","","","","","","","","","","","","","","","","","","","","","","","","","","","","","","","","","","","","","","","","",null,null,null,null,null,null,null,1614,null,null,null,null,null,null,null,null,"",null,null,null,null,null,null,null,null,null,null,null,null,null,null,null,null,"","",null,1614,null,null,null,null,null,null,null,null,null,null,null,null,null,null,null,null,null,null,null,null,null,null,null,null,null,null,null,1614,null,null,null,null,null,null,null,null,null,null,null,null,null,null,null,null,null,null,null,null,null,null,null,null,null,null,null,1614]
[1625,null,null,null,null,null,null,null,null,null,null,null,null,"生徒欄と同様",24,3,null,null,24,4,1,1625,null,"","","","","","","","","","","","","","","","","","","","","","","","","","","","","","","","","","","","","","","","","","","","","","","","","","","","","","","","","","","","",1,0,null,1625,0,"","","","","","","","","","","","","","","","","","","","","","","","","","","","","","","","","","","","","","","","","","","","","","","","","","","","","","","","",null,null,null,null,1,0,null,1625,0,null,null,null,null,null,null,null,null,null,null,null,null,null,null,null,null,null,null,null,null,null,null,null,null,null,null,null,null,null,null,null,null,null,null,null,null,null,null,null,null,null,null,null,null,null,null,null,null,null,null,null,null,null,null,null,null,null,null,null,null,null,null,null,1625,0,"","","","","","","","","","","","","","","","","","","","","","","","","","","","","","","","","","","","","","","","","","","","","","","","","","","","","","","","",null,null,null,null,null,null,null,1625,0,null,null,null,null,null,null,null,null,null,null,null,null,null,null,null,null,null,null,null,null,null,null,null,null,null,null,null,null,null,null,null,null,null,null,null,null,null,null,null,null,null,null,null,null,null,null,null,null,null,null,null,null,null,null,null,null,null,null,null,null,null,null,null,1625,0,"","","","","","","","","","","","","","","","","","","","","","","","","","","","","","","","","","","","","","","","","","","","","","","","","","","","","","","","",null,null,null,null,null,null,null,1625,0,null,null,null,null,null,null,null,null,null,null,null,null,null,null,null,null,null,null,null,null,null,null,null,null,null,null,null,null,null,null,null,null,null,null,null,null,null,null,null,null,null,null,null,null,null,null,null,null,null,null,null,null,null,null,null,null,null,null,null,null,null,null,null,1625,0,"","","","","","","","","","","","","","","","","","","","","","","","","","","","","","","","","","","","","","","","","","","","","","","","","","","","","","","","",null,null,null,null,null,null,null,1625,0,null,null,null,null,null,null,null,null,null,null,null,null,null,null,null,null,null,null,null,null,null,null,null,null,null,null,null,null,null,null,null,null,null,null,null,null,null,null,null,null,null,null,null,null,null,null,null,null,null,null,null,null,null,null,null,null,null,null,null,null,null,null,null,1625,0,"","","","","","","","","","","","","","","","","","","","","","","","","","","","","","","","","","","","","","","","","","","","","","","","","","","","","","","","",null,null,null,null,null,null,null,1625,null,null,null,null,null,null,null,null,"",null,null,null,null,null,null,null,null,null,null,null,null,null,null,null,null,"","",null,1625,null,null,null,null,null,null,null,null,null,null,null,null,null,null,null,null,null,null,null,null,null,null,null,null,null,null,null,1625,null,null,null,null,null,null,null,null,null,null,null,null,null,null,null,null,null,null,null,null,null,null,null,null,null,null,null,1625]
[1626,null,null,null,null,null,null,null,null,null,null,null,null,"生徒欄と同様",24,3,null,null,24,4,1,1626,null,"","","","","","","","","","","","","","","","","","","","","","","","","","","","","","","","","","","","","","","","","","","","","","","","","","","","","","","","","","","","",1,0,null,1626,0,"","","","","","","","","","","","","","","","","","","","","","","","","","","","","","","","","","","","","","","","","","","","","","","","","","","","","","","","",null,null,null,null,1,0,null,1626,0,null,null,null,null,null,null,null,null,null,null,null,null,null,null,null,null,null,null,null,null,null,null,null,null,null,null,null,null,null,null,null,null,null,null,null,null,null,null,null,null,null,null,null,null,null,null,null,null,null,null,null,null,null,null,null,null,null,null,null,null,null,null,null,1626,0,"","","","","","","","","","","","","","","","","","","","","","","","","","","","","","","","","","","","","","","","","","","","","","","","","","","","","","","","",null,null,null,null,null,null,null,1626,0,null,null,null,null,null,null,null,null,null,null,null,null,null,null,null,null,null,null,null,null,null,null,null,null,null,null,null,null,null,null,null,null,null,null,null,null,null,null,null,null,null,null,null,null,null,null,null,null,null,null,null,null,null,null,null,null,null,null,null,null,null,null,null,1626,0,"","","","","","","","","","","","","","","","","","","","","","","","","","","","","","","","","","","","","","","","","","","","","","","","","","","","","","","","",null,null,null,null,null,null,null,1626,0,null,null,null,null,null,null,null,null,null,null,null,null,null,null,null,null,null,null,null,null,null,null,null,null,null,null,null,null,null,null,null,null,null,null,null,null,null,null,null,null,null,null,null,null,null,null,null,null,null,null,null,null,null,null,null,null,null,null,null,null,null,null,null,1626,0,"","","","","","","","","","","","","","","","","","","","","","","","","","","","","","","","","","","","","","","","","","","","","","","","","","","","","","","","",null,null,null,null,null,null,null,1626,0,null,null,null,null,null,null,null,null,null,null,null,null,null,null,null,null,null,null,null,null,null,null,null,null,null,null,null,null,null,null,null,null,null,null,null,null,null,null,null,null,null,null,null,null,null,null,null,null,null,null,null,null,null,null,null,null,null,null,null,null,null,null,null,1626,0,"","","","","","","","","","","","","","","","","","","","","","","","","","","","","","","","","","","","","","","","","","","","","","","","","","","","","","","","",null,null,null,null,null,null,null,1626,null,null,null,null,null,null,null,null,"",null,null,null,null,null,null,null,null,null,null,null,null,null,null,null,null,"","",null,1626,null,null,null,null,null,null,null,null,null,null,null,null,null,null,null,null,null,null,null,null,null,null,null,null,null,null,null,1626,null,null,null,null,null,null,null,null,null,null,null,null,null,null,null,null,null,null,null,null,null,null,null,null,null,null,null,1626]
[1705,null,null,null,null,null,null,null,null,null,null,null,null,"生徒欄と同様",24,3,null,null,24,4,1,1705,null,"","","","","","","","","","","","","","","","","","","","","","","","","","","","","","","","","","","","","","","","","","","","","","","","","","","","","","","","","","","","",1,0,null,1705,0,"","","","","","","","","","","","","","","","","","","","","","","","","","","","","","","","","","","","","","","","","","","","","","","","","","","","","","","","",null,null,null,null,1,0,null,1705,0,null,null,null,null,null,null,null,null,null,null,null,null,null,null,null,null,null,null,null,null,null,null,null,null,null,null,null,null,null,null,null,null,null,null,null,null,null,null,null,null,null,null,null,null,null,null,null,null,null,null,null,null,null,null,null,null,null,null,null,null,null,null,null,1705,0,"","","","","","","","","","","","","","","","","","","","","","","","","","","","","","","","","","","","","","","","","","","","","","","","","","","","","","","","",null,null,null,null,null,null,null,1705,0,null,null,null,null,null,null,null,null,null,null,null,null,null,null,null,null,null,null,null,null,null,null,null,null,null,null,null,null,null,null,null,null,null,null,null,null,null,null,null,null,null,null,null,null,null,null,null,null,null,null,null,null,null,null,null,null,null,null,null,null,null,null,null,1705,0,"","","","","","","","","","","","","","","","","","","","","","","","","","","","","","","","","","","","","","","","","","","","","","","","","","","","","","","","",null,null,null,null,null,null,null,1705,0,null,null,null,null,null,null,null,null,null,null,null,null,null,null,null,null,null,null,null,null,null,null,null,null,null,null,null,null,null,null,null,null,null,null,null,null,null,null,null,null,null,null,null,null,null,null,null,null,null,null,null,null,null,null,null,null,null,null,null,null,null,null,null,1705,0,"","","","","","","","","","","","","","","","","","","","","","","","","","","","","","","","","","","","","","","","","","","","","","","","","","","","","","","","",null,null,null,null,null,null,null,1705,0,null,null,null,null,null,null,null,null,null,null,null,null,null,null,null,null,null,null,null,null,null,null,null,null,null,null,null,null,null,null,null,null,null,null,null,null,null,null,null,null,null,null,null,null,null,null,null,null,null,null,null,null,null,null,null,null,null,null,null,null,null,null,null,1705,0,"","","","","","","","","","","","","","","","","","","","","","","","","","","","","","","","","","","","","","","","","","","","","","","","","","","","","","","","",null,null,null,null,null,null,null,1705,null,null,null,null,null,null,null,null,"",null,null,null,null,null,null,null,null,null,null,null,null,null,null,null,null,"","",null,1705,null,null,null,null,null,null,null,null,null,null,null,null,null,null,null,null,null,null,null,null,null,null,null,null,null,null,null,1705,null,null,null,null,null,null,null,null,null,null,null,null,null,null,null,null,null,null,null,null,null,null,null,null,null,null,null,1705]
[1713,null,null,null,null,null,null,null,null,null,null,null,null,"生徒欄と同様",24,3,null,null,24,4,1,1713,null,"","","","","","","","","","","","","","","","","","","","","","","","","","","","","","","","","","","","","","","","","","","","","","","","","","","","","","","","","","","","",1,0,null,1713,0,"","","","","","","","","","","","","","","","","","","","","","","","","","","","","","","","","","","","","","","","","","","","","","","","","","","","","","","","",null,null,null,null,1,0,null,1713,0,null,null,null,null,null,null,null,null,null,null,null,null,null,null,null,null,null,null,null,null,null,null,null,null,null,null,null,null,null,null,null,null,null,null,null,null,null,null,null,null,null,null,null,null,null,null,null,null,null,null,null,null,null,null,null,null,null,null,null,null,null,null,null,1713,0,"","","","","","","","","","","","","","","","","","","","","","","","","","","","","","","","","","","","","","","","","","","","","","","","","","","","","","","","",null,null,null,null,null,null,null,1713,0,null,null,null,null,null,null,null,null,null,null,null,null,null,null,null,null,null,null,null,null,null,null,null,null,null,null,null,null,null,null,null,null,null,null,null,null,null,null,null,null,null,null,null,null,null,null,null,null,null,null,null,null,null,null,null,null,null,null,null,null,null,null,null,1713,0,"","","","","","","","","","","","","","","","","","","","","","","","","","","","","","","","","","","","","","","","","","","","","","","","","","","","","","","","",null,null,null,null,null,null,null,1713,0,null,null,null,null,null,null,null,null,null,null,null,null,null,null,null,null,null,null,null,null,null,null,null,null,null,null,null,null,null,null,null,null,null,null,null,null,null,null,null,null,null,null,null,null,null,null,null,null,null,null,null,null,null,null,null,null,null,null,null,null,null,null,null,1713,0,"","","","","","","","","","","","","","","","","","","","","","","","","","","","","","","","","","","","","","","","","","","","","","","","","","","","","","","","",null,null,null,null,null,null,null,1713,0,null,null,null,null,null,null,null,null,null,null,null,null,null,null,null,null,null,null,null,null,null,null,null,null,null,null,null,null,null,null,null,null,null,null,null,null,null,null,null,null,null,null,null,null,null,null,null,null,null,null,null,null,null,null,null,null,null,null,null,null,null,null,null,1713,0,"","","","","","","","","","","","","","","","","","","","","","","","","","","","","","","","","","","","","","","","","","","","","","","","","","","","","","","","",null,null,null,null,null,null,null,1713,null,null,null,null,null,null,null,null,"",null,null,null,null,null,null,null,null,null,null,null,null,null,null,null,null,"","",null,1713,null,null,null,null,null,null,null,null,null,null,null,null,null,null,null,null,null,null,null,null,null,null,null,null,null,null,null,1713,null,null,null,null,null,null,null,null,null,null,null,null,null,null,null,null,null,null,null,null,null,null,null,null,null,null,null,1713]
[1718,null,null,null,null,null,null,null,null,null,null,null,null,"生徒欄と同様",24,3,null,null,24,4,1,1718,null,"","","","","","","","","","","","","","","","","","","","","","","","","","","","","","","","","","","","","","","","","","","","","","","","","","","","","","","","","","","","",1,0,null,1718,0,"","","","","","","","","","","","","","","","","","","","","","","","","","","","","","","","","","","","","","","","","","","","","","","","","","","","","","","","",null,null,null,null,1,0,null,1718,0,null,null,null,null,null,null,null,null,null,null,null,null,null,null,null,null,null,null,null,null,null,null,null,null,null,null,null,null,null,null,null,null,null,null,null,null,null,null,null,null,null,null,null,null,null,null,null,null,null,null,null,null,null,null,null,null,null,null,null,null,null,null,null,1718,0,"","","","","","","","","","","","","","","","","","","","","","","","","","","","","","","","","","","","","","","","","","","","","","","","","","","","","","","","",null,null,null,null,null,null,null,1718,0,null,null,null,null,null,null,null,null,null,null,null,null,null,null,null,null,null,null,null,null,null,null,null,null,null,null,null,null,null,null,null,null,null,null,null,null,null,null,null,null,null,null,null,null,null,null,null,null,null,null,null,null,null,null,null,null,null,null,null,null,null,null,null,1718,0,"","","","","","","","","","","","","","","","","","","","","","","","","","","","","","","","","","","","","","","","","","","","","","","","","","","","","","","","",null,null,null,null,null,null,null,1718,0,null,null,null,null,null,null,null,null,null,null,null,null,null,null,null,null,null,null,null,null,null,null,null,null,null,null,null,null,null,null,null,null,null,null,null,null,null,null,null,null,null,null,null,null,null,null,null,null,null,null,null,null,null,null,null,null,null,null,null,null,null,null,null,1718,0,"","","","","","","","","","","","","","","","","","","","","","","","","","","","","","","","","","","","","","","","","","","","","","","","","","","","","","","","",null,null,null,null,null,null,null,1718,0,null,null,null,null,null,null,null,null,null,null,null,null,null,null,null,null,null,null,null,null,null,null,null,null,null,null,null,null,null,null,null,null,null,null,null,null,null,null,null,null,null,null,null,null,null,null,null,null,null,null,null,null,null,null,null,null,null,null,null,null,null,null,null,1718,0,"","","","","","","","","","","","","","","","","","","","","","","","","","","","","","","","","","","","","","","","","","","","","","","","","","","","","","","","",null,null,null,null,null,null,null,1718,null,null,null,null,null,null,null,null,"",null,null,null,null,null,null,null,null,null,null,null,null,null,null,null,null,"","",null,1718,null,null,null,null,null,null,null,null,null,null,null,null,null,null,null,null,null,null,null,null,null,null,null,null,null,null,null,1718,null,null,null,null,null,null,null,null,null,null,null,null,null,null,null,null,null,null,null,null,null,null,null,null,null,null,null,1718]
[1726,null,null,null,null,null,null,null,null,null,null,null,null,"生徒欄と同様",24,3,null,null,24,4,1,1726,null,"","","","","","","","","","","","","","","","","","","","","","","","","","","","","","","","","","","","","","","","","","","","","","","","","","","","","","","","","","","","",1,0,null,1726,0,"","","","","","","","","","","","","","","","","","","","","","","","","","","","","","","","","","","","","","","","","","","","","","","","","","","","","","","","",null,null,null,null,1,0,null,1726,0,null,null,null,null,null,null,null,null,null,null,null,null,null,null,null,null,null,null,null,null,null,null,null,null,null,null,null,null,null,null,null,null,null,null,null,null,null,null,null,null,null,null,null,null,null,null,null,null,null,null,null,null,null,null,null,null,null,null,null,null,null,null,null,1726,0,"","","","","","","","","","","","","","","","","","","","","","","","","","","","","","","","","","","","","","","","","","","","","","","","","","","","","","","","",null,null,null,null,null,null,null,1726,0,null,null,null,null,null,null,null,null,null,null,null,null,null,null,null,null,null,null,null,null,null,null,null,null,null,null,null,null,null,null,null,null,null,null,null,null,null,null,null,null,null,null,null,null,null,null,null,null,null,null,null,null,null,null,null,null,null,null,null,null,null,null,null,1726,0,"","","","","","","","","","","","","","","","","","","","","","","","","","","","","","","","","","","","","","","","","","","","","","","","","","","","","","","","",null,null,null,null,null,null,null,1726,0,null,null,null,null,null,null,null,null,null,null,null,null,null,null,null,null,null,null,null,null,null,null,null,null,null,null,null,null,null,null,null,null,null,null,null,null,null,null,null,null,null,null,null,null,null,null,null,null,null,null,null,null,null,null,null,null,null,null,null,null,null,null,null,1726,0,"","","","","","","","","","","","","","","","","","","","","","","","","","","","","","","","","","","","","","","","","","","","","","","","","","","","","","","","",null,null,null,null,null,null,null,1726,0,null,null,null,null,null,null,null,null,null,null,null,null,null,null,null,null,null,null,null,null,null,null,null,null,null,null,null,null,null,null,null,null,null,null,null,null,null,null,null,null,null,null,null,null,null,null,null,null,null,null,null,null,null,null,null,null,null,null,null,null,null,null,null,1726,0,"","","","","","","","","","","","","","","","","","","","","","","","","","","","","","","","","","","","","","","","","","","","","","","","","","","","","","","","",null,null,null,null,null,null,null,1726,null,null,null,null,null,null,null,null,"",null,null,null,null,null,null,null,null,null,null,null,null,null,null,null,null,"","",null,1726,null,null,null,null,null,null,null,null,null,null,null,null,null,null,null,null,null,null,null,null,null,null,null,null,null,null,null,1726,null,null,null,null,null,null,null,null,null,null,null,null,null,null,null,null,null,null,null,null,null,null,null,null,null,null,null,1726]
[1728,null,null,null,null,null,null,null,null,null,null,null,null,"生徒欄と同様",24,3,null,null,24,4,1,1728,null,"","","","","","","","","","","","","","","","","","","","","","","","","","","","","","","","","","","","","","","","","","","","","","","","","","","","","","","","","","","","",1,0,null,1728,0,"","","","","","","","","","","","","","","","","","","","","","","","","","","","","","","","","","","","","","","","","","","","","","","","","","","","","","","","",null,null,null,null,1,0,null,1728,0,null,null,null,null,null,null,null,null,null,null,null,null,null,null,null,null,null,null,null,null,null,null,null,null,null,null,null,null,null,null,null,null,null,null,null,null,null,null,null,null,null,null,null,null,null,null,null,null,null,null,null,null,null,null,null,null,null,null,null,null,null,null,null,1728,0,"","","","","","","","","","","","","","","","","","","","","","","","","","","","","","","","","","","","","","","","","","","","","","","","","","","","","","","","",null,null,null,null,null,null,null,1728,0,null,null,null,null,null,null,null,null,null,null,null,null,null,null,null,null,null,null,null,null,null,null,null,null,null,null,null,null,null,null,null,null,null,null,null,null,null,null,null,null,null,null,null,null,null,null,null,null,null,null,null,null,null,null,null,null,null,null,null,null,null,null,null,1728,0,"","","","","","","","","","","","","","","","","","","","","","","","","","","","","","","","","","","","","","","","","","","","","","","","","","","","","","","","",null,null,null,null,null,null,null,1728,0,null,null,null,null,null,null,null,null,null,null,null,null,null,null,null,null,null,null,null,null,null,null,null,null,null,null,null,null,null,null,null,null,null,null,null,null,null,null,null,null,null,null,null,null,null,null,null,null,null,null,null,null,null,null,null,null,null,null,null,null,null,null,null,1728,0,"","","","","","","","","","","","","","","","","","","","","","","","","","","","","","","","","","","","","","","","","","","","","","","","","","","","","","","","",null,null,null,null,null,null,null,1728,0,null,null,null,null,null,null,null,null,null,null,null,null,null,null,null,null,null,null,null,null,null,null,null,null,null,null,null,null,null,null,null,null,null,null,null,null,null,null,null,null,null,null,null,null,null,null,null,null,null,null,null,null,null,null,null,null,null,null,null,null,null,null,null,1728,0,"","","","","","","","","","","","","","","","","","","","","","","","","","","","","","","","","","","","","","","","","","","","","","","","","","","","","","","","",null,null,null,null,null,null,null,1728,null,null,null,null,null,null,null,null,"",null,null,null,null,null,null,null,null,null,null,null,null,null,null,null,null,"","",null,1728,null,null,null,null,null,null,null,null,null,null,null,null,null,null,null,null,null,null,null,null,null,null,null,null,null,null,null,1728,null,null,null,null,null,null,null,null,null,null,null,null,null,null,null,null,null,null,null,null,null,null,null,null,null,null,null,1728]
[1729,null,null,null,null,null,null,null,null,null,null,null,null,"生徒欄と同様",24,3,null,null,24,4,1,1729,null,"","","","","","","","","","","","","","","","","","","","","","","","","","","","","","","","","","","","","","","","","","","","","","","","","","","","","","","","","","","","",1,0,null,1729,0,"","","","","","","","","","","","","","","","","","","","","","","","","","","","","","","","","","","","","","","","","","","","","","","","","","","","","","","","",null,null,null,null,1,0,null,1729,0,null,null,null,null,null,null,null,null,null,null,null,null,null,null,null,null,null,null,null,null,null,null,null,null,null,null,null,null,null,null,null,null,null,null,null,null,null,null,null,null,null,null,null,null,null,null,null,null,null,null,null,null,null,null,null,null,null,null,null,null,null,null,null,1729,0,"","","","","","","","","","","","","","","","","","","","","","","","","","","","","","","","","","","","","","","","","","","","","","","","","","","","","","","","",null,null,null,null,null,null,null,1729,0,null,null,null,null,null,null,null,null,null,null,null,null,null,null,null,null,null,null,null,null,null,null,null,null,null,null,null,null,null,null,null,null,null,null,null,null,null,null,null,null,null,null,null,null,null,null,null,null,null,null,null,null,null,null,null,null,null,null,null,null,null,null,null,1729,0,"","","","","","","","","","","","","","","","","","","","","","","","","","","","","","","","","","","","","","","","","","","","","","","","","","","","","","","","",null,null,null,null,null,null,null,1729,0,null,null,null,null,null,null,null,null,null,null,null,null,null,null,null,null,null,null,null,null,null,null,null,null,null,null,null,null,null,null,null,null,null,null,null,null,null,null,null,null,null,null,null,null,null,null,null,null,null,null,null,null,null,null,null,null,null,null,null,null,null,null,null,1729,0,"","","","","","","","","","","","","","","","","","","","","","","","","","","","","","","","","","","","","","","","","","","","","","","","","","","","","","","","",null,null,null,null,null,null,null,1729,0,null,null,null,null,null,null,null,null,null,null,null,null,null,null,null,null,null,null,null,null,null,null,null,null,null,null,null,null,null,null,null,null,null,null,null,null,null,null,null,null,null,null,null,null,null,null,null,null,null,null,null,null,null,null,null,null,null,null,null,null,null,null,null,1729,0,"","","","","","","","","","","","","","","","","","","","","","","","","","","","","","","","","","","","","","","","","","","","","","","","","","","","","","","","",null,null,null,null,null,null,null,1729,null,null,null,null,null,null,null,null,"",null,null,null,null,null,null,null,null,null,null,null,null,null,null,null,null,"","",null,1729,null,null,null,null,null,null,null,null,null,null,null,null,null,null,null,null,null,null,null,null,null,null,null,null,null,null,null,1729,null,null,null,null,null,null,null,null,null,null,null,null,null,null,null,null,null,null,null,null,null,null,null,null,null,null,null,1729]
[1730,null,null,null,null,null,null,null,null,null,null,null,null,"生徒欄と同様",24,3,null,null,24,4,1,1730,null,"","","","","","","","","","","","","","","","","","","","","","","","","","","","","","","","","","","","","","","","","","","","","","","","","","","","","","","","","","","","",1,0,null,1730,0,"","","","","","","","","","","","","","","","","","","","","","","","","","","","","","","","","","","","","","","","","","","","","","","","","","","","","","","","",null,null,null,null,1,0,null,1730,0,null,null,null,null,null,null,null,null,null,null,null,null,null,null,null,null,null,null,null,null,null,null,null,null,null,null,null,null,null,null,null,null,null,null,null,null,null,null,null,null,null,null,null,null,null,null,null,null,null,null,null,null,null,null,null,null,null,null,null,null,null,null,null,1730,0,"","","","","","","","","","","","","","","","","","","","","","","","","","","","","","","","","","","","","","","","","","","","","","","","","","","","","","","","",null,null,null,null,null,null,null,1730,0,null,null,null,null,null,null,null,null,null,null,null,null,null,null,null,null,null,null,null,null,null,null,null,null,null,null,null,null,null,null,null,null,null,null,null,null,null,null,null,null,null,null,null,null,null,null,null,null,null,null,null,null,null,null,null,null,null,null,null,null,null,null,null,1730,0,"","","","","","","","","","","","","","","","","","","","","","","","","","","","","","","","","","","","","","","","","","","","","","","","","","","","","","","","",null,null,null,null,null,null,null,1730,0,null,null,null,null,null,null,null,null,null,null,null,null,null,null,null,null,null,null,null,null,null,null,null,null,null,null,null,null,null,null,null,null,null,null,null,null,null,null,null,null,null,null,null,null,null,null,null,null,null,null,null,null,null,null,null,null,null,null,null,null,null,null,null,1730,0,"","","","","","","","","","","","","","","","","","","","","","","","","","","","","","","","","","","","","","","","","","","","","","","","","","","","","","","","",null,null,null,null,null,null,null,1730,0,null,null,null,null,null,null,null,null,null,null,null,null,null,null,null,null,null,null,null,null,null,null,null,null,null,null,null,null,null,null,null,null,null,null,null,null,null,null,null,null,null,null,null,null,null,null,null,null,null,null,null,null,null,null,null,null,null,null,null,null,null,null,null,1730,0,"","","","","","","","","","","","","","","","","","","","","","","","","","","","","","","","","","","","","","","","","","","","","","","","","","","","","","","","",null,null,null,null,null,null,null,1730,null,null,null,null,null,null,null,null,"",null,null,null,null,null,null,null,null,null,null,null,null,null,null,null,null,"","",null,1730,null,null,null,null,null,null,null,null,null,null,null,null,null,null,null,null,null,null,null,null,null,null,null,null,null,null,null,1730,null,null,null,null,null,null,null,null,null,null,null,null,null,null,null,null,null,null,null,null,null,null,null,null,null,null,null,1730]
[1731,null,null,null,null,null,null,null,null,null,null,null,null,"生徒欄と同様",24,3,null,null,24,4,1,1731,null,"","","","","","","","","","","","","","","","","","","","","","","","","","","","","","","","","","","","","","","","","","","","","","","","","","","","","","","","","","","","",1,0,null,1731,0,"","","","","","","","","","","","","","","","","","","","","","","","","","","","","","","","","","","","","","","","","","","","","","","","","","","","","","","","",null,null,null,null,1,0,null,1731,0,null,null,null,null,null,null,null,null,null,null,null,null,null,null,null,null,null,null,null,null,null,null,null,null,null,null,null,null,null,null,null,null,null,null,null,null,null,null,null,null,null,null,null,null,null,null,null,null,null,null,null,null,null,null,null,null,null,null,null,null,null,null,null,1731,0,"","","","","","","","","","","","","","","","","","","","","","","","","","","","","","","","","","","","","","","","","","","","","","","","","","","","","","","","",null,null,null,null,null,null,null,1731,0,null,null,null,null,null,null,null,null,null,null,null,null,null,null,null,null,null,null,null,null,null,null,null,null,null,null,null,null,null,null,null,null,null,null,null,null,null,null,null,null,null,null,null,null,null,null,null,null,null,null,null,null,null,null,null,null,null,null,null,null,null,null,null,1731,0,"","","","","","","","","","","","","","","","","","","","","","","","","","","","","","","","","","","","","","","","","","","","","","","","","","","","","","","","",null,null,null,null,null,null,null,1731,0,null,null,null,null,null,null,null,null,null,null,null,null,null,null,null,null,null,null,null,null,null,null,null,null,null,null,null,null,null,null,null,null,null,null,null,null,null,null,null,null,null,null,null,null,null,null,null,null,null,null,null,null,null,null,null,null,null,null,null,null,null,null,null,1731,0,"","","","","","","","","","","","","","","","","","","","","","","","","","","","","","","","","","","","","","","","","","","","","","","","","","","","","","","","",null,null,null,null,null,null,null,1731,0,null,null,null,null,null,null,null,null,null,null,null,null,null,null,null,null,null,null,null,null,null,null,null,null,null,null,null,null,null,null,null,null,null,null,null,null,null,null,null,null,null,null,null,null,null,null,null,null,null,null,null,null,null,null,null,null,null,null,null,null,null,null,null,1731,0,"","","","","","","","","","","","","","","","","","","","","","","","","","","","","","","","","","","","","","","","","","","","","","","","","","","","","","","","",null,null,null,null,null,null,null,1731,null,null,null,null,null,null,null,null,"",null,null,null,null,null,null,null,null,null,null,null,null,null,null,null,null,"","",null,1731,null,null,null,null,null,null,null,null,null,null,null,null,null,null,null,null,null,null,null,null,null,null,null,null,null,null,null,1731,null,null,null,null,null,null,null,null,null,null,null,null,null,null,null,null,null,null,null,null,null,null,null,null,null,null,null,1731]
[1732,null,null,null,null,null,null,null,null,null,null,null,null,"生徒欄と同様",24,3,null,null,24,4,1,1732,null,"","","","","","","","","","","","","","","","","","","","","","","","","","","","","","","","","","","","","","","","","","","","","","","","","","","","","","","","","","","","",1,0,null,1732,0,"","","","","","","","","","","","","","","","","","","","","","","","","","","","","","","","","","","","","","","","","","","","","","","","","","","","","","","","",null,null,null,null,1,0,null,1732,0,null,null,null,null,null,null,null,null,null,null,null,null,null,null,null,null,null,null,null,null,null,null,null,null,null,null,null,null,null,null,null,null,null,null,null,null,null,null,null,null,null,null,null,null,null,null,null,null,null,null,null,null,null,null,null,null,null,null,null,null,null,null,null,1732,0,"","","","","","","","","","","","","","","","","","","","","","","","","","","","","","","","","","","","","","","","","","","","","","","","","","","","","","","","",null,null,null,null,null,null,null,1732,0,null,null,null,null,null,null,null,null,null,null,null,null,null,null,null,null,null,null,null,null,null,null,null,null,null,null,null,null,null,null,null,null,null,null,null,null,null,null,null,null,null,null,null,null,null,null,null,null,null,null,null,null,null,null,null,null,null,null,null,null,null,null,null,1732,0,"","","","","","","","","","","","","","","","","","","","","","","","","","","","","","","","","","","","","","","","","","","","","","","","","","","","","","","","",null,null,null,null,null,null,null,1732,0,null,null,null,null,null,null,null,null,null,null,null,null,null,null,null,null,null,null,null,null,null,null,null,null,null,null,null,null,null,null,null,null,null,null,null,null,null,null,null,null,null,null,null,null,null,null,null,null,null,null,null,null,null,null,null,null,null,null,null,null,null,null,null,1732,0,"","","","","","","","","","","","","","","","","","","","","","","","","","","","","","","","","","","","","","","","","","","","","","","","","","","","","","","","",null,null,null,null,null,null,null,1732,0,null,null,null,null,null,null,null,null,null,null,null,null,null,null,null,null,null,null,null,null,null,null,null,null,null,null,null,null,null,null,null,null,null,null,null,null,null,null,null,null,null,null,null,null,null,null,null,null,null,null,null,null,null,null,null,null,null,null,null,null,null,null,null,1732,0,"","","","","","","","","","","","","","","","","","","","","","","","","","","","","","","","","","","","","","","","","","","","","","","","","","","","","","","","",null,null,null,null,null,null,null,1732,null,null,null,null,null,null,null,null,"",null,null,null,null,null,null,null,null,null,null,null,null,null,null,null,null,"","",null,1732,null,null,null,null,null,null,null,null,null,null,null,null,null,null,null,null,null,null,null,null,null,null,null,null,null,null,null,1732,null,null,null,null,null,null,null,null,null,null,null,null,null,null,null,null,null,null,null,null,null,null,null,null,null,null,null,1732]
[1733,null,null,null,null,null,null,null,null,null,null,null,null,"生徒欄と同様",24,3,null,null,24,4,1,1733,null,"","","","","","","","","","","","","","","","","","","","","","","","","","","","","","","","","","","","","","","","","","","","","","","","","","","","","","","","","","","","",1,0,null,1733,0,"","","","","","","","","","","","","","","","","","","","","","","","","","","","","","","","","","","","","","","","","","","","","","","","","","","","","","","","",null,null,null,null,1,0,null,1733,0,null,null,null,null,null,null,null,null,null,null,null,null,null,null,null,null,null,null,null,null,null,null,null,null,null,null,null,null,null,null,null,null,null,null,null,null,null,null,null,null,null,null,null,null,null,null,null,null,null,null,null,null,null,null,null,null,null,null,null,null,null,null,null,1733,0,"","","","","","","","","","","","","","","","","","","","","","","","","","","","","","","","","","","","","","","","","","","","","","","","","","","","","","","","",null,null,null,null,null,null,null,1733,0,null,null,null,null,null,null,null,null,null,null,null,null,null,null,null,null,null,null,null,null,null,null,null,null,null,null,null,null,null,null,null,null,null,null,null,null,null,null,null,null,null,null,null,null,null,null,null,null,null,null,null,null,null,null,null,null,null,null,null,null,null,null,null,1733,0,"","","","","","","","","","","","","","","","","","","","","","","","","","","","","","","","","","","","","","","","","","","","","","","","","","","","","","","","",null,null,null,null,null,null,null,1733,0,null,null,null,null,null,null,null,null,null,null,null,null,null,null,null,null,null,null,null,null,null,null,null,null,null,null,null,null,null,null,null,null,null,null,null,null,null,null,null,null,null,null,null,null,null,null,null,null,null,null,null,null,null,null,null,null,null,null,null,null,null,null,null,1733,0,"","","","","","","","","","","","","","","","","","","","","","","","","","","","","","","","","","","","","","","","","","","","","","","","","","","","","","","","",null,null,null,null,null,null,null,1733,0,null,null,null,null,null,null,null,null,null,null,null,null,null,null,null,null,null,null,null,null,null,null,null,null,null,null,null,null,null,null,null,null,null,null,null,null,null,null,null,null,null,null,null,null,null,null,null,null,null,null,null,null,null,null,null,null,null,null,null,null,null,null,null,1733,0,"","","","","","","","","","","","","","","","","","","","","","","","","","","","","","","","","","","","","","","","","","","","","","","","","","","","","","","","",null,null,null,null,null,null,null,1733,null,null,null,null,null,null,null,null,"",null,null,null,null,null,null,null,null,null,null,null,null,null,null,null,null,"","",null,1733,null,null,null,null,null,null,null,null,null,null,null,null,null,null,null,null,null,null,null,null,null,null,null,null,null,null,null,1733,null,null,null,null,null,null,null,null,null,null,null,null,null,null,null,null,null,null,null,null,null,null,null,null,null,null,null,1733]
[null,null,null,null,null,null,null,null,null,null,null,null,null,null,null,null,null,null,null,null,null,null,null,"","","","","","","","","","","","","","","","","","","","","","","","","","","","","","","","","","","","","","","","","","","","","","","","","","","","","","","","","","","","",null,null,null,null,null,null,null,null,null,null,null,null,null,null,null,null,null,null,null,null,null,null,null,null,null,null,null,null,null,null,null,null,null,null,null,null,null,null,null,null,null,null,null,null,null,null,null,null,null,null,null,null,null,null,null,null,null,null,null,null,null,null,null,null,null,null,null,null,null,null,null,null,null,null,null,null,null,null,null,null,null,null,null,null,null,null,null,null,null,null,null,null,null,null,null,null,null,null,null,null,null,null,null,null,null,null,null,null,null,null,null,null,null,null,null,null,null,null,null,null,null,null,null,null,null,null,null,null,null,null,null,null,null,null,null,null,null,null,null,null,null,null,null,null,null,null,null,null,null,null,null,null,null,null,null,null,null,null,null,null,null,null,null,null,null,null,null,null,null,null,null,null,null,null,null,null,null,null,null,null,null,null,null,null,null,null,null,null,null,null,null,null,null,null,null,null,null,null,null,null,null,null,null,null,null,null,null,null,null,null,null,null,null,null,null,null,null,null,null,null,null,null,null,null,null,null,null,null,null,null,null,null,null,null,null,null,null,null,null,null,null,null,null,null,null,null,null,null,null,null,null,null,null,null,null,null,null,null,null,null,null,null,null,null,null,null,null,null,null,null,null,null,null,null,null,null,null,null,null,null,null,null,null,null,null,null,null,null,null,null,null,null,null,null,null,null,null,null,null,null,null,null,null,null,null,null,null,null,null,null,null,null,null,null,null,null,null,null,null,null,null,null,null,null,null,null,null,null,null,null,null,null,null,null,null,null,null,null,null,null,null,null,null,null,null,null,null,null,null,null,null,null,null,null,null,null,null,null,null,null,null,null,null,null,null,null,null,null,null,null,null,null,null,null,null,null,null,null,null,null,null,null,null,null,null,null,null,null,null,null,null,null,null,null,null,null,null,null,null,null,null,null,null,null,null,null,null,null,null,null,null,null,null,null,null,null,null,null,null,null,null,null,null,null,null,null,null,null,null,null,null,null,null,null,null,null,null,null,null,null,null,null,null,null,null,null,null,null,null,null,null,null,null,null,null,null,null,null,null,null,null,null,null,null,null,null,null,null,null,null,null,null,null,null,null,null,null,null,null,null,null,null,null,null,null,null,null,null,null,null,null,null,null,null,null,null,null,null,null,null,null,null,null,null,null,null,null,null,null,null,null,null,null,null,null,null,null,null,null,null,null,null,null,null,null,null,null,null,null,null,null,null,null,null,null,null,null,null,null,null,null,null,null,null,null,null,null,null,null,null,null,null,null,null,null,null,null,null,null,null,null,null,null,{"$f":"IF(GJ250=1,\"１学年履修単位数 \"&XW$6&\"単位\",\"\")","v":""},"","","","","","","","","","","","","","","","",""]

{"sheet":"学籍の記録","index":2,"n_rows":33,"n_cols":25,"rows_kept":33,"cut":false,"hidden":false,"merged":[[22,4,22,12],[2,2,2,24],[4,24,5,24],[4,13,5,14],[21,3,24,3],[10,13,12,14],[13,22,13,24],[23,15,24,15],[23,19,24,19],[23,4,23,12],[6,13,6,14],[7,13,7,14],[19,13,22,14],[23,13,24,14],[19,4,20,12],[10,4,10,10],[14,4,14,12],[25,2,27,3],[28,4,28,12],[28,15,28,19],[28,20,28,24],[28,2,28,3],[25,4,25,12],[25,13,27,14],[26,10,26,12],[25,15,26,24],[27,4,27,12],[26,4,26,9],[27,17,27,24],[27,15,27,16],[23,22,24,24],[21,15,21,24],[31,20,31,24],[32,20,32,24],[29,15,29,19],[31,15,31,19],[32,15,32,19],[30,15,30,19],[29,20,29,24],[30,20,30,24],[29,2,29,3],[32,2,32,3],[30,2,31,3],[29,4,29,12],[31,4,31,6],[31,7,31,12],[30,4,30,12],[32,4,32,12],[23,21,24,21],[23,20,24,20],[20,16,20,17],[18,2,24,2],[9,2,9,24],[14,3,17,3],[10,2,17,2],[10,11,13,11],[10,12,13,12],[11,3,12,3],[11,15,11,21],[22,15,22,24],[15,4,15,12],[16,22,16,24],[15,15,15,24],[18,15,18,24],[19,3,20,3],[17,15,17,24],[13,13,15,14],[7,21,7,23],[24,4,24,12],[23,17,24,17],[23,16,24,16],[23,18,24,18],[21,4,21,12],[12,15,12,24],[14,15,14,24],[11,4,12,10],[18,4,18,12],[16,4,16,12],[17,4,17,12],[7,15,7,17],[7,18,7,20],[16,13,18,14],[19,22,19,24],[4,21,5,23],[4,18,5,20],[4,15,5,17],[6,15,6,17],[6,18,6,20],[6,21,6,23]]}
[]
[null,null,"様式１（学籍に関する記録）"]
[null,null,"埼玉県高等学校 （全日制の課程・定時制の課程） 生徒指導要録"]
[]
[null,null,null,null,null,null,null,null,null,null,null,null,null,"                 学年\n  区分",null,1,null,null,2,null,null,3,null,null,4]
[]
[null,null,null,null,null,null,null,null,null,null,null,null,null,"ホームルーム",null,{"$f":"MID(P8,2,1)*1","v":1},null,null,{"$f":"IFERROR((MID(S8,2,1)*1),\"\")","v":""},{"$f":"IFERROR((MID(T8,2,1)*1),\"\")","v":""},{"$f":"IFERROR((MID(U8,2,1)*1),\"\")","v":""},{"$f":"IFERROR((MID(V8,2,1)*1),\"\")","v":""},null,null,{"$f":"IFERROR((MID(Y8,2,1)*1),\"\")","v":""}]
[null,null,null,null,null,null,null,null,null,null,null,null,null,"整理番号",null,1101,null,null,{"$f":"INDEX(生徒データ!A8:C247,MATCH(学籍の記録!P8,_1年,0),2)","v":0}]
[]
[null,null,"学籍の記録"]
[null,null,"生徒","ふりがな",{"$f":"VLOOKUP(P8,生徒データリスト,MATCH(\"生徒ふりがな\",生徒データ!7:7,0),FALSE)","v":"せいとふりがな"},null,null,null,null,null,null,"性別",{"$f":"VLOOKUP(P8,生徒データリスト,MATCH(\"性別\",生徒データ!7:7,0),FALSE)","v":"男"},"入学・編入学",null,"平成",{"$f":"VLOOKUP(P8,生徒データリスト,MATCH(\"入学年\",生徒データ!7:7,0),FALSE)","v":24},"年",{"$f":"VLOOKUP(P8,生徒データリスト,MATCH(\"入学月\",生徒データ!7:7,0),FALSE)","v":4},"月",{"$f":"VLOOKUP(P8,生徒データリスト,MATCH(\"入学日\",生徒データ!7:7,0),FALSE)","v":1},"日","第",1,"学年　入学"]
[null,null,null,"氏　名",{"$f":"VLOOKUP(P8,生徒データリスト,MATCH(\"生徒氏名\",生徒データ!7:7,0),FALSE)","v":"生徒氏名"},null,null,null,null,null,null,null,null,null,null,null,null,null,null,null,null,null,"第",null,"学年編入学"]
[]
[null,null,null,null,"平成",{"$f":"VLOOKUP(P8,生徒データリスト,MATCH(\"生徒誕生年\",生徒データ!7:7,0),FALSE)","v":12},"年",{"$f":"VLOOKUP(P8,生徒データリスト,MATCH(\"生徒誕生月\",生徒データ!7:7,0),FALSE)","v":1},"月",{"$f":"VLOOKUP(P8,生徒データリスト,MATCH(\"生徒誕生日\",生徒データ!7:7,0),FALSE)","v":1},"日生",null,null,"転  入  学",null,"平成",null,"年",null,"月",null,"日"]
[null,null,null,"現住所",{"$f":"VLOOKUP(P8,生徒データリスト,MATCH(\"生徒現住所市\",生徒データ!7:7,0),FALSE)","v":"住所 ～市"}]
[null,null,null,null,{"$f":"VLOOKUP(P8,生徒データリスト,MATCH(\"生徒現住所番地\",生徒データ!7:7,0),FALSE)","v":"住所 ～番地"}]
[null,null,null,null,null,null,null,null,null,null,null,null,null,"転学 ・ 退学",null,"平成",null,"年",null,"月",null,"日"]
[null,null,null,null,null,null,null,null,null,null,null,null,null,null,null," （理由・転学先）"]
[null,null,"保護者","ふりがな",{"$f":"VLOOKUP(P8,生徒データリスト,MATCH(\"保護者ふりがな\",生徒データ!7:7,0),FALSE)","v":"ほごしゃふりがな"}]
[null,null,null,"氏　名",{"$f":"VLOOKUP(P8,生徒データリスト,MATCH(\"保護者氏名\",生徒データ!7:7,0),FALSE)","v":"保護者氏名"},null,null,null,null,null,null,null,null,"留　 学 　等",null,"平成",null,"年",null,"月",null,"日"]
[null,null,null,null,null,null,null,null,null,null,null,null,null,null,null,"～","平成",null,null,"年",null,"月",null,"日"]
[null,null,null,"現住所",{"$f":"VLOOKUP(P8,生徒データリスト,MATCH(\"保護者現住所\",生徒データ!7:7,0),FALSE)","v":"生徒欄と同様"},null,null,null,null,null,null,null,null,null,null,"（留学先学校名・学年・国名）"]
[]
[null,null,null,null,null,null,null,null,null,null,null,null,null,"卒 　  　　業",null,"平成",null,"年",null,"月",null,"日"]
[]
[null,null,"入学前の経歴",null," 平成24年3月",null,null,null,null,null,null,null,null,"進 学 先  ・ \n 就 職 先 等"]
[null,null,null,null,{"$f":"VLOOKUP(P8,生徒データリスト,MATCH(\"出身中市名\",生徒データ!7:7,0),FALSE)","v":"～市立第一"},null,null,null,null,null,"中学校卒業"]
[null,null,null,null,null,null,null,null,null,null,null,null,null,null,null,"所在地："]
[null,null,"学校名",null,"　～県立～高等学校",null,null,null,null,null,null,null,null,"年度","学年","校長氏名印",null,null,null,null,"ホームルーム\n担任者氏名印"]
[null,null,"所在地",null,"　～県○○",null,null,null,null,null,null,null,null,{"$f":"\"平成\"&Q11&\"年度\"","v":"平成24年度"},1,"校長名",null,null,null,null,{"$f":"VLOOKUP(P7,教員データ!$A$3:$B$9,2)","v":"担任名１"}]
[null,null,"課程名・\n　学科名",null,"　全日制の課程",null,null,null,null,null,null,null,null,{"$f":"\"平成\"&Q11+1&\"年度\"","v":"平成25年度"},2]
[null,null,null,null,"　普通科",null,null,{"$f":"IF(VLOOKUP(P8,生徒データリスト,MATCH(\"～コース\",生徒データ!7:7,0),FALSE)=0,\"\",VLOOKUP(P8,生徒データリスト,MATCH(\"～コース\",生徒データ!7:7,0),FALSE))","v":"( ～ コース)"},null,null,null,null,null,{"$f":"\"平成\"&Q11+2&\"年度\"","v":"平成26年度"},3]
[null,null,null,null,null,null,null,null,null,null,null,null,null,"平成　 年度",4]

{"sheet":"総学ほか","index":3,"n_rows":53,"n_cols":21,"rows_kept":53,"cut":false,"hidden":false,"merged":[[37,8,37,12],[37,13,37,20],[38,8,38,12],[38,13,38,20],[28,8,28,12],[28,13,28,20],[29,8,29,20],[30,8,30,20],[31,8,31,12],[31,13,31,20],[32,8,32,12],[32,13,32,20],[33,8,33,12],[33,13,33,20],[50,1,52,3],[50,4,52,4],[50,5,52,7],[50,8,52,8],[50,13,52,15],[51,16,51,20],[47,13,49,15],[48,16,48,20],[50,9,52,11],[50,12,52,12],[47,1,49,3],[47,4,49,4],[47,5,49,7],[47,8,49,8],[47,16,47,17],[47,18,47,20],[50,16,50,17],[50,18,50,20],[44,13,46,15],[44,16,44,20],[45,16,45,20],[44,9,46,11],[44,12,46,12],[47,9,49,11],[47,12,49,12],[44,1,46,3],[44,4,46,4],[44,5,46,7],[44,8,46,8],[41,13,43,15],[42,16,42,20],[41,1,43,3],[41,4,43,4],[41,5,43,7],[41,8,43,8],[41,9,43,11],[41,12,43,12],[41,16,41,17],[41,18,41,20],[39,1,39,20],[40,1,40,3],[40,5,40,7],[40,9,40,11],[40,13,40,15],[40,16,40,20],[35,1,38,2],[29,1,34,2],[23,1,28,2],[23,8,23,20],[24,8,24,20],[25,8,25,12],[25,13,25,20],[26,8,26,12],[26,13,26,20],[27,8,27,12],[27,13,27,20],[34,8,34,12],[34,13,34,20],[23,3,28,7],[29,3,34,7],[35,3,38,7],[35,8,35,20],[36,8,36,20],[16,1,16,20],[17,1,22,2],[14,2,14,4],[14,7,14,8],[14,11,14,12],[14,18,14,20],[15,1,15,5],[15,6,15,9],[15,10,15,13],[15,14,15,20],[19,13,19,20],[21,8,21,12],[21,13,21,20],[22,8,22,12],[22,13,22,20],[18,8,18,20],[19,8,19,12],[17,8,17,20],[17,3,22,7],[20,8,20,12],[20,13,20,20],[14,15,14,17],[13,2,13,4],[13,7,13,8],[13,11,13,12],[11,18,11,20],[12,2,12,4],[12,7,12,8],[12,11,12,12],[12,18,12,20],[13,18,13,20],[11,15,11,17],[12,15,12,17],[13,15,13,17],[9,1,9,20],[6,8,6,9],[6,12,6,13],[7,4,7,5],[7,8,7,9],[11,2,11,4],[11,7,11,8],[11,11,11,12],[10,1,10,5],[10,6,10,9],[10,10,10,13],[10,14,10,20],[7,12,7,13],[4,1,7,2],[4,4,4,5],[8,1,8,2],[8,3,8,6],[8,7,8,10],[8,11,8,14],[8,15,8,20],[5,8,5,9],[5,12,5,13],[5,16,5,20],[4,16,4,20],[6,16,6,20],[7,16,7,20],[6,4,6,5],[1,1,1,3],[1,4,1,7],[1,8,1,20],[2,1,2,20],[4,8,4,9],[4,12,4,13],[5,4,5,5],[3,1,3,2],[3,3,3,6],[3,7,3,10],[3,11,3,14],[3,15,3,20]]}
[]
[null,"生徒氏名",null,null,{"$f":"VLOOKUP(学籍の記録!P8,生徒データリスト,MATCH(\"生徒氏名\",生徒データ!7:7,0),FALSE)","v":"生徒氏名"}]
[null,"総合的な学習の時間の記録"]
[null,null,null,"第1学年",null,null,null,"第2学年",null,null,null,"第3学年",null,null,null,"第4学年"]
[null,"評価の観点",null,"①","関心・意欲・態度",null,null,"①","関心・意欲・態度",null,null,"①","関心・意欲・態度",null,null,"①","関心・意欲・態度"]
[null,null,null,"②","思考・判断",null,null,"②","思考・判断",null,null,"②","思考・判断",null,null,"②","思考・判断"]
[null,null,null,"③","技能・表現",null,null,"③","技能・表現",null,null,"③","技能・表現",null,null,"③","技能・表現"]
[null,null,null,"④","知識・理解",null,null,"④","知識・理解",null,null,"④","知識・理解",null,null,"④","知識・理解"]
[null,"評価",null,{"$f":"VLOOKUP(学籍の記録!$P$8,一年総学,MATCH(\"評価\",総学順,0),FALSE)","v":"自己の特性を生かし、進路学習について積極的に取り組んだ。"},null,null,null,{"$f":"VLOOKUP(学籍の記録!$P$8,二年総学,MATCH(\"評価\",総学順,0),FALSE)","v":0},null,null,null,{"$f":"VLOOKUP(学籍の記録!$P$8,三年総学,MATCH(\"評価\",総学順,0),FALSE)","v":0},null,null,null,{"$f":"VLOOKUP(学籍の記録!$P$8,四年総学,MATCH(\"評価\",総学順,0),FALSE)","v":0}]
[null,"特別活動の記録"]
[null,"第1学年",null,null,null,null,"第2学年",null,null,null,"第3学年",null,null,null,"第4学年"]
[null,null,{"$f":"VLOOKUP(学籍の記録!$P$8,一年総学,MATCH(\"部活\",総学順,0),FALSE)","v":"バドミントン"},null,null,"部",null,{"$f":"VLOOKUP(学籍の記録!$P$8,二年総学,MATCH(\"部活\",総学順,0),FALSE)","v":0},null,"部",null,{"$f":"VLOOKUP(学籍の記録!$P$8,三年総学,MATCH(\"部活\",総学順,0),FALSE)","v":0},null,"部",null,{"$f":"VLOOKUP(学籍の記録!$P$8,四年総学,MATCH(\"部活\",総学順,0),FALSE)","v":0},null,null,"部"]
[null,null,{"$f":"VLOOKUP(学籍の記録!$P$8,一年総学,MATCH(\"部活２\",総学順,0),FALSE)","v":0},null,null,null,null,{"$f":"VLOOKUP(学籍の記録!$P$8,二年総学,MATCH(\"部活２\",総学順,0),FALSE)","v":0},null,null,null,{"$f":"VLOOKUP(学籍の記録!$P$8,三年総学,MATCH(\"部活２\",総学順,0),FALSE)","v":0},null,null,null,{"$f":"VLOOKUP(学籍の記録!$P$8,四年総学,MATCH(\"部活２\",総学順,0),FALSE)","v":0}]
[null,null,{"$f":"VLOOKUP(学籍の記録!$P$8,一年総学,MATCH(\"委員会\",総学順,0),FALSE)","v":"体育行事実行"},null,null,{"$f":"IF(VLOOKUP(学籍の記録!$P$8,一年総学,MATCH(\"委員長\",総学順,0),FALSE)<>\"\",\"委員長\",\"委員\")","v":"委員"},null,{"$f":"VLOOKUP(学籍の記録!$P$8,二年総学,MATCH(\"委員会\",総学順,0),FALSE)","v":0},null,{"$f":"IF(VLOOKUP(学籍の記録!$P$8,二年総学,MATCH(\"委員長\",総学順,0),FALSE)<>\"\",VLOOKUP(学籍の記録!$P$8,二年総学,MATCH(\"委員長\",総学順,0),FALSE),\"委員\")","v":"委員"},null,{"$f":"VLOOKUP(学籍の記録!$P$8,三年総学,MATCH(\"委員会\",総学順,0),FALSE)","v":0},null,{"$f":"IF(VLOOKUP(学籍の記録!$P$8,三年総学,MATCH(\"委員長\",総学順,0),FALSE)<>\"\",VLOOKUP(学籍の記録!$P$8,三年総学,MATCH(\"委員長\",総学順,0),FALSE),\"委員\")","v":"委員"},null,{"$f":"VLOOKUP(学籍の記録!$P$8,四年総学,MATCH(\"委員会\",総学順,0),FALSE)","v":0},null,null,{"$f":"IF(VLOOKUP(学籍の記録!$P$8,四年総学,MATCH(\"委員長\",総学順,0),FALSE)<>\"\",VLOOKUP(学籍の記録!$P$8,四年総学,MATCH(\"委員長\",総学順,0),FALSE),\"委員\")","v":"委員"}]
[null,null,{"$f":"VLOOKUP(学籍の記録!$P$8,一年総学,MATCH(\"係\",総学順,0),FALSE)","v":0},null,null,"係",null,{"$f":"VLOOKUP(学籍の記録!$P$8,二年総学,MATCH(\"係\",総学順,0),FALSE)","v":0},null,"係",null,{"$f":"VLOOKUP(学籍の記録!$P$8,三年総学,MATCH(\"係\",総学順,0),FALSE)","v":0},null,"係",null,{"$f":"VLOOKUP(学籍の記録!$P$8,四年総学,MATCH(\"係\",総学順,0),FALSE)","v":0},null,null,"係"]
[null,{"$f":"VLOOKUP(学籍の記録!$P$8,一年総学,MATCH(\"内容\",総学順,0),FALSE)","v":"体育祭や体育の授業でクラスをまとめ、中心となって活躍した。"},null,null,null,null,{"$f":"VLOOKUP(学籍の記録!$P$8,二年総学,MATCH(\"内容\",総学順,0),FALSE)","v":0},null,null,null,{"$f":"VLOOKUP(学籍の記録!$P$8,三年総学,MATCH(\"内容\",総学順,0),FALSE)","v":0},null,null,null,{"$f":"VLOOKUP(学籍の記録!$P$8,四年総学,MATCH(\"内容\",総学順,0),FALSE)","v":0}]
[null,"総合所見及び指導上参考となる諸事項"]
[null,"第1学年",null,{"$f":"VLOOKUP(学籍の記録!$P$8,一年総学,MATCH(\"所見\",総学順,0),FALSE)","v":"好奇心旺盛で色々なことに興味を持ち、明朗活発でクラスでも友人が多い。地道な努力家であり、集団の中でリーダーシップをとり、やりはじめたことは積極的に最後までやりぬくことができる。"},null,null,null,null," 1　進路希望"]
[null,null,null,null,null,null,null,null,{"$f":"VLOOKUP(学籍の記録!$P$8,一年総学,MATCH(\"進路希望\",総学順,0),FALSE)","v":"進学希望（専門学校）"}]
[null,null,null,null,null,null,null,null," 2　取得資格",null,null,null,null,{"$f":"VLOOKUP(学籍の記録!$P$8,一年総学,MATCH(\"取得資格４\",総学順,0),FALSE)","v":0}]
[null,null,null,null,null,null,null,null,{"$f":"VLOOKUP(学籍の記録!$P$8,一年総学,MATCH(\"取得資格１\",総学順,0),FALSE)","v":"ワープロ実務検定○級(H20/12/1)"},null,null,null,null,{"$f":"VLOOKUP(学籍の記録!$P$8,一年総学,MATCH(\"取得資格５\",総学順,0),FALSE)","v":0}]
[null,null,null,null,null,null,null,null,{"$f":"VLOOKUP(学籍の記録!$P$8,一年総学,MATCH(\"取得資格２\",総学順,0),FALSE)","v":"情報処理検定(ビジネス情報部門)○級(H21/1/20)"},null,null,null,null,{"$f":"VLOOKUP(学籍の記録!$P$8,一年総学,MATCH(\"取得資格６\",総学順,0),FALSE)","v":0}]
[null,null,null,null,null,null,null,null,{"$f":"VLOOKUP(学籍の記録!$P$8,一年総学,MATCH(\"取得資格３\",総学順,0),FALSE)","v":0},null,null,null,null,{"$f":"VLOOKUP(学籍の記録!$P$8,一年総学,MATCH(\"取得資格７\",総学順,0),FALSE)","v":0}]
[null,"第2学年",null,{"$f":"VLOOKUP(学籍の記録!$P$8,二年総学,MATCH(\"所見\",総学順,0),FALSE)","v":0},null,null,null,null," 1　進路希望"]
[null,null,null,null,null,null,null,null,{"$f":"VLOOKUP(学籍の記録!$P$8,二年総学,MATCH(\"進路希望\",総学順,0),FALSE)","v":0}]
[null,null,null,null,null,null,null,null," 2　取得資格",null,null,null,null,{"$f":"VLOOKUP(学籍の記録!$P$8,二年総学,MATCH(\"取得資格４\",総学順,0),FALSE)","v":0}]
[null,null,null,null,null,null,null,null,{"$f":"VLOOKUP(学籍の記録!$P$8,二年総学,MATCH(\"取得資格１\",総学順,0),FALSE)","v":0},null,null,null,null,{"$f":"VLOOKUP(学籍の記録!$P$8,二年総学,MATCH(\"取得資格５\",総学順,0),FALSE)","v":0}]
[null,null,null,null,null,null,null,null,{"$f":"VLOOKUP(学籍の記録!$P$8,二年総学,MATCH(\"取得資格２\",総学順,0),FALSE)","v":0},null,null,null,null,{"$f":"VLOOKUP(学籍の記録!$P$8,二年総学,MATCH(\"取得資格６\",総学順,0),FALSE)","v":0}]
[null,null,null,null,null,null,null,null,{"$f":"VLOOKUP(学籍の記録!$P$8,二年総学,MATCH(\"取得資格３\",総学順,0),FALSE)","v":0},null,null,null,null,{"$f":"VLOOKUP(学籍の記録!$P$8,二年総学,MATCH(\"取得資格７\",総学順,0),FALSE)","v":0}]
[null,"第3学年",null,{"$f":"VLOOKUP(学籍の記録!$P$8,三年総学,MATCH(\"所見\",総学順,0),FALSE)","v":0},null,null,null,null," 1　進路希望"]
[null,null,null,null,null,null,null,null,{"$f":"VLOOKUP(学籍の記録!$P$8,三年総学,MATCH(\"進路希望\",総学順,0),FALSE)","v":0}]
[null,null,null,null,null,null,null,null," 2　取得資格",null,null,null,null,{"$f":"VLOOKUP(学籍の記録!$P$8,三年総学,MATCH(\"取得資格４\",総学順,0),FALSE)","v":0}]
[null,null,null,null,null,null,null,null,{"$f":"VLOOKUP(学籍の記録!$P$8,三年総学,MATCH(\"取得資格１\",総学順,0),FALSE)","v":0},null,null,null,null,{"$f":"VLOOKUP(学籍の記録!$P$8,三年総学,MATCH(\"取得資格５\",総学順,0),FALSE)","v":0}]
[null,null,null,null,null,null,null,null,{"$f":"VLOOKUP(学籍の記録!$P$8,三年総学,MATCH(\"取得資格２\",総学順,0),FALSE)","v":0},null,null,null,null,{"$f":"VLOOKUP(学籍の記録!$P$8,三年総学,MATCH(\"取得資格６\",総学順,0),FALSE)","v":0}]
[null,null,null,null,null,null,null,null,{"$f":"VLOOKUP(学籍の記録!$P$8,三年総学,MATCH(\"取得資格３\",総学順,0),FALSE)","v":0},null,null,null,null,{"$f":"VLOOKUP(学籍の記録!$P$8,三年総学,MATCH(\"取得資格７\",総学順,0),FALSE)","v":0}]
[null,"第4学年",null,{"$f":"VLOOKUP(学籍の記録!$P$8,四年総学,MATCH(\"所見\",総学順,0),FALSE)","v":0},null,null,null,null," 1　進路希望"]
[null,null,null,null,null,null,null,null,{"$f":"VLOOKUP(学籍の記録!$P$8,四年総学,MATCH(\"進路希望\",総学順,0),FALSE)","v":0}]
[null,null,null,null,null,null,null,null," 2　取得資格",null,null,null,null,{"$f":"VLOOKUP(学籍の記録!$P$8,四年総学,MATCH(\"取得資格２\",総学順,0),FALSE)","v":0}]
[null,null,null,null,null,null,null,null,{"$f":"VLOOKUP(学籍の記録!$P$8,四年総学,MATCH(\"取得資格１\",総学順,0),FALSE)","v":0},null,null,null,null,{"$f":"VLOOKUP(学籍の記録!$P$8,四年総学,MATCH(\"取得資格３\",総学順,0),FALSE)","v":0}]
[null,"出欠の記録"]
[null,"        区分\n学年",null,null,"授業日数","出席停止・\n忌引等の日数",null,null,"　留学中の\n　授業日数","出席しなければ\nならない日数",null,null,"欠席日数","出席日数",null,null,"備考"]
[null,1,null,null,{"$f":"VLOOKUP(学籍の記録!$P$8,一年総学,MATCH(\"授業日数\",総学順,0),FALSE)&\"\"","v":"193"},{"$f":"VLOOKUP(学籍の記録!$P$8,一年総学,MATCH(\"出停\",総学順,0),FALSE)&\"\"","v":"2"},null,null,{"$f":"VLOOKUP(学籍の記録!$P$8,一年総学,MATCH(\"留学\",総学順,0),FALSE)&\"\"","v":"0"},{"$f":"VLOOKUP(学籍の記録!$P$8,一年総学,MATCH(\"出席しなければ\",総学順,0),FALSE)&\"\"","v":"193"},null,null,{"$f":"VLOOKUP(学籍の記録!$P$8,一年総学,MATCH(\"欠席\",総学順,0),FALSE)&\"\"","v":"22"},{"$f":"VLOOKUP(学籍の記録!$P$8,一年総学,MATCH(\"出席\",総学順,0),FALSE)&\"\"","v":"187"},null,null,"欠席理由",null,{"$f":"VLOOKUP(学籍の記録!$P$8,一年総学,MATCH(\"欠席理由\",総学順,0),FALSE)&\"\"","v":"風邪、体調不良"}]
[null,null,null,null,null,null,null,null,null,null,null,null,null,null,null,null,{"$f":"VLOOKUP(学籍の記録!$P$8,一年総学,MATCH(\"出停理由\",総学順,0),FALSE)&\"\"","v":"インフルエンザ2日 "}]
[null,null,null,null,null,null,null,null,null,null,null,null,null,null,null,null,"遅刻",{"$f":"VLOOKUP(学籍の記録!$P$8,一年総学,MATCH(\"遅刻\",総学順,0),FALSE)&\"\"","v":"38"},"回・早退",{"$f":"VLOOKUP(学籍の記録!$P$8,一年総学,MATCH(\"早退\",総学順,0),FALSE)&\"\"","v":"1"},"回"]
[null,2,null,null,{"$f":"VLOOKUP(学籍の記録!$P$8,二年総学,MATCH(\"授業日数\",総学順,0),FALSE)&\"\"","v":""},{"$f":"VLOOKUP(学籍の記録!$P$8,二年総学,MATCH(\"出停\",総学順,0),FALSE)&\"\"","v":""},null,null,{"$f":"VLOOKUP(学籍の記録!$P$8,二年総学,MATCH(\"留学\",総学順,0),FALSE)&\"\"","v":""},{"$f":"VLOOKUP(学籍の記録!$P$8,二年総学,MATCH(\"出席しなければ\",総学順,0),FALSE)&\"\"","v":""},null,null,{"$f":"VLOOKUP(学籍の記録!$P$8,二年総学,MATCH(\"欠席\",総学順,0),FALSE)&\"\"","v":""},{"$f":"VLOOKUP(学籍の記録!$P$8,二年総学,MATCH(\"出席\",総学順,0),FALSE)&\"\"","v":""},null,null,"欠席理由"]
[null,null,null,null,null,null,null,null,null,null,null,null,null,null,null,null,{"$f":"VLOOKUP(学籍の記録!$P$8,二年総学,MATCH(\"欠席理由\",総学順,0),FALSE)&\"\"","v":{"$error":"#REF!"}}]
[null,null,null,null,null,null,null,null,null,null,null,null,null,null,null,null,"遅刻",{"$f":"VLOOKUP(学籍の記録!$P$8,二年総学,MATCH(\"遅刻\",総学順,0),FALSE)&\"\"","v":""},"回・早退",{"$f":"VLOOKUP(学籍の記録!$P$8,二年総学,MATCH(\"早退\",総学順,0),FALSE)&\"\"","v":""},"回"]
[null,3,null,null,{"$f":"VLOOKUP(学籍の記録!$P$8,三年総学,MATCH(\"授業日数\",総学順,0),FALSE)&\"\"","v":""},{"$f":"VLOOKUP(学籍の記録!$P$8,三年総学,MATCH(\"出停\",総学順,0),FALSE)&\"\"","v":""},null,null,{"$f":"VLOOKUP(学籍の記録!$P$8,三年総学,MATCH(\"留学\",総学順,0),FALSE)&\"\"","v":""},{"$f":"VLOOKUP(学籍の記録!$P$8,三年総学,MATCH(\"出席しなければ\",総学順,0),FALSE)&\"\"","v":""},null,null,{"$f":"VLOOKUP(学籍の記録!$P$8,三年総学,MATCH(\"欠席\",総学順,0),FALSE)&\"\"","v":""},{"$f":"VLOOKUP(学籍の記録!$P$8,三年総学,MATCH(\"出席\",総学順,0),FALSE)&\"\"","v":""},null,null,"欠席理由"]
[null,null,null,null,null,null,null,null,null,null,null,null,null,null,null,null,{"$f":"VLOOKUP(学籍の記録!$P$8,三年総学,MATCH(\"欠席理由\",総学順,0),FALSE)&\"\"","v":{"$error":"#REF!"}}]
[null,null,null,null,null,null,null,null,null,null,null,null,null,null,null,null,"遅刻",{"$f":"VLOOKUP(学籍の記録!$P$8,三年総学,MATCH(\"遅刻\",総学順,0),FALSE)&\"\"","v":""},"回・早退",{"$f":"VLOOKUP(学籍の記録!$P$8,三年総学,MATCH(\"早退\",総学順,0),FALSE)&\"\"","v":""},"回"]
[null,4,null,null,{"$f":"VLOOKUP(学籍の記録!$P$8,四年総学,MATCH(\"授業日数\",総学順,0),FALSE)&\"\"","v":""},{"$f":"VLOOKUP(学籍の記録!$P$8,四年総学,MATCH(\"出停\",総学順,0),FALSE)&\"\"","v":""},null,null,{"$f":"VLOOKUP(学籍の記録!$P$8,四年総学,MATCH(\"留学\",総学順,0),FALSE)&\"\"","v":""},{"$f":"VLOOKUP(学籍の記録!$P$8,四年総学,MATCH(\"出席しなければ\",総学順,0),FALSE)&\"\"","v":""},null,null,{"$f":"VLOOKUP(学籍の記録!$P$8,四年総学,MATCH(\"欠席\",総学順,0),FALSE)&\"\"","v":""},{"$f":"VLOOKUP(学籍の記録!$P$8,四年総学,MATCH(\"出席\",総学順,0),FALSE)&\"\"","v":""},null,null,"欠席理由"]
[null,null,null,null,null,null,null,null,null,null,null,null,null,null,null,null,{"$f":"VLOOKUP(学籍の記録!$P$8,四年総学,MATCH(\"欠席理由\",総学順,0),FALSE)&\"\"","v":{"$error":"#REF!"}}]
[null,null,null,null,null,null,null,null,null,null,null,null,null,null,null,null,"遅刻",{"$f":"VLOOKUP(学籍の記録!$P$8,四年総学,MATCH(\"遅刻\",総学順,0),FALSE)&\"\"","v":""},"回・早退",{"$f":"VLOOKUP(学籍の記録!$P$8,四年総学,MATCH(\"早退\",総学順,0),FALSE)&\"\"","v":""},"回"]

{"sheet":"学習の記録","index":4,"n_rows":70,"n_cols":20,"rows_kept":70,"cut":false,"hidden":false,"merged":[[69,1,69,5],[69,15,69,19],[64,3,64,5],[64,15,64,19],[65,3,65,5],[65,15,65,19],[66,1,66,5],[66,15,66,19],[62,2,64,2],[62,3,62,5],[67,1,67,5],[67,15,67,19],[68,1,68,5],[68,15,68,19],[62,15,62,19],[63,3,63,5],[63,15,63,19],[50,3,50,5],[50,15,50,19],[51,3,51,5],[51,15,51,19],[55,3,55,5],[55,15,55,19],[56,3,56,5],[56,15,56,19],[54,3,54,5],[57,3,57,5],[57,15,57,19],[58,3,58,5],[58,15,58,19],[59,3,59,5],[59,15,59,19],[60,3,60,5],[60,15,60,19],[61,3,61,5],[61,15,61,19],[46,15,46,19],[47,3,47,5],[47,15,47,19],[48,3,48,5],[48,15,48,19],[46,3,46,5],[42,3,42,5],[42,15,42,19],[43,1,64,1],[43,2,51,2],[43,3,43,5],[43,15,43,19],[44,3,44,5],[44,15,44,19],[45,3,45,5],[45,15,45,19],[54,15,54,19],[49,3,49,5],[49,15,49,19],[52,3,52,5],[52,15,52,19],[53,3,53,5],[53,15,53,19],[57,2,61,2],[41,3,41,5],[41,15,41,19],[36,15,36,19],[37,2,38,2],[37,3,37,5],[37,15,37,19],[38,3,38,5],[38,15,38,19],[39,2,40,2],[39,3,39,5],[39,15,39,19],[40,3,40,5],[40,15,40,19],[34,2,36,2],[34,3,34,5],[34,15,34,19],[35,3,35,5],[35,15,35,19],[36,3,36,5],[28,3,28,5],[28,15,28,19],[31,2,33,2],[31,15,31,19],[32,15,32,19],[33,15,33,19],[19,2,23,2],[19,3,19,5],[19,15,19,19],[20,3,20,5],[20,15,20,19],[21,3,21,5],[29,2,30,2],[29,3,29,5],[29,15,29,19],[30,3,30,5],[30,15,30,19],[21,15,21,19],[23,15,23,19],[24,2,28,2],[24,3,24,5],[24,15,24,19],[25,3,25,5],[25,15,25,19],[17,3,17,5],[27,3,27,5],[17,15,17,19],[18,3,18,5],[18,15,18,19],[13,2,16,2],[13,3,13,5],[13,15,13,19],[27,15,27,19],[26,3,26,5],[26,15,26,19],[7,12,8,12],[9,15,9,19],[10,3,10,5],[10,15,10,19],[11,3,11,5],[11,15,11,19],[8,1,8,2],[8,3,8,5],[9,2,12,2],[9,3,9,5],[9,1,42,1],[7,13,8,13],[12,3,12,5],[12,15,12,19],[22,3,22,5],[22,15,22,19],[14,3,14,5],[14,15,14,19],[15,3,15,5],[15,15,15,19],[16,3,16,5],[23,3,23,5],[16,15,16,19],[17,2,18,2],[31,3,31,5],[32,3,32,5],[33,3,33,5],[2,14,2,15],[3,14,3,15],[6,1,7,5],[6,6,6,7],[6,8,6,9],[6,10,6,11],[1,1,3,2],[1,7,3,8],[1,3,3,6],[5,1,5,19],[1,9,3,13],[1,14,1,15],[6,12,6,13],[6,14,8,14],[6,15,8,19],[7,6,8,6],[7,7,8,7],[7,8,8,8],[7,9,8,9],[7,10,8,10],[7,11,8,11]]}
[null,"様式2（指導に関する記録）"]
[null,"生徒氏名",null,{"$f":"VLOOKUP(Q4,生徒データリスト,MATCH(\"生徒氏名\",生徒データ!7:7,0),FALSE)","v":"生徒氏名"},null,null,null,"学校名",null,"埼玉県立○○高等学校",null,null,null,null,"区分＼学年",null,1,2,3,4]
[null,null,null,null,null,null,null,null,null,null,null,null,null,null,"ホームルーム",null,{"$f":"IFERROR((MID(Q4,2,1)),\"\")","v":"1"},{"$f":"IFERROR((MID(R4,2,1)),\"\")","v":""},{"$f":"IFERROR((MID(S4,2,1)),\"\")","v":""},{"$f":"IFERROR((MID(T4,2,1)),\"\")","v":""}]
[null,null,null,null,null,null,null,null,null,null,null,null,null,null,"整理番号",null,{"$f":"学籍の記録!P8","v":1101},{"$f":"IF(学籍の記録!S8=0,\"\",学籍の記録!S8)","v":""},{"$f":"IF(学籍の記録!V8=0,\"\",学籍の記録!V8)","v":""},{"$f":"IF(学籍の記録!Y8=0,\"\",学籍の記録!Y8)","v":""}]
[]
[null,"各教科・科目等の学習の記録"]
[null,"各教科・科目等",null,null,null,null,"第1学年",null,"第2学年",null,"第3学年",null,"第4学年",null,"修得単位数の計","備考"]
[null,null,null,null,null,null,"評  定","修得単位数","評　　定","修得単位数","評　　定","修得単位数","評　　定","修得単位数"]
[null,"教科等",null,"科目等"]
[null,"普通教育に関する各教科・科目","国語","国語表現Ⅰ",null,null,{"$f":"VLOOKUP(学籍の記録!$P$8,一年評定,MATCH(D10,科目順,0),FALSE)","v":0},{"$f":"VLOOKUP(学籍の記録!$P$8,一年単位数,MATCH(D10,科目順,0),FALSE)","v":""},{"$f":"VLOOKUP(学籍の記録!$P$8,二年評定,MATCH(D10,科目順,0),FALSE)","v":0},{"$f":"VLOOKUP(学籍の記録!$P$8,二年単位数,MATCH(D10,科目順,0),FALSE)","v":""},{"$f":"VLOOKUP(学籍の記録!$P$8,三年評定,MATCH(D10,科目順,0),FALSE)","v":0},{"$f":"VLOOKUP(学籍の記録!$P$8,三年単位数,MATCH(D10,科目順,0),FALSE)","v":""},{"$f":"VLOOKUP(学籍の記録!$P$8,四年評定,MATCH(D10,科目順,0),FALSE)","v":0},{"$f":"VLOOKUP(学籍の記録!$P$8,四年単位数,MATCH(D10,科目順,0),FALSE)","v":""},{"$f":"IF(OR(H10<>\"\",J10<>\"\",L10<>\"\",N10<>\"\"),SUM(H10,J10,L10,N10),\"\")","v":""},{"$f":"VLOOKUP(学籍の記録!$P$8,学習の記録備考,MATCH(D10,科目順,0),FALSE)","v":""}]
[null,null,null,"国語総合",null,null,{"$f":"VLOOKUP(学籍の記録!$P$8,一年評定,MATCH(D11,科目順,0),FALSE)","v":3},{"$f":"VLOOKUP(学籍の記録!$P$8,一年単位数,MATCH(D11,科目順,0),FALSE)","v":3},{"$f":"VLOOKUP(学籍の記録!$P$8,二年評定,MATCH(D11,科目順,0),FALSE)","v":0},{"$f":"VLOOKUP(学籍の記録!$P$8,二年単位数,MATCH(D11,科目順,0),FALSE)","v":""},{"$f":"VLOOKUP(学籍の記録!$P$8,三年評定,MATCH(D11,科目順,0),FALSE)","v":0},{"$f":"VLOOKUP(学籍の記録!$P$8,三年単位数,MATCH(D11,科目順,0),FALSE)","v":""},{"$f":"VLOOKUP(学籍の記録!$P$8,四年評定,MATCH(D11,科目順,0),FALSE)","v":0},{"$f":"VLOOKUP(学籍の記録!$P$8,四年単位数,MATCH(D11,科目順,0),FALSE)","v":""},{"$f":"IF(OR(H11<>\"\",J11<>\"\",L11<>\"\",N11<>\"\"),SUM(H11,J11,L11,N11),\"\")","v":3},{"$f":"VLOOKUP(学籍の記録!$P$8,学習の記録備考,MATCH(D11,科目順,0),FALSE)","v":""}]
[null,null,null,"現代文",null,null,{"$f":"VLOOKUP(学籍の記録!$P$8,一年評定,MATCH(D12,科目順,0),FALSE)","v":0},{"$f":"VLOOKUP(学籍の記録!$P$8,一年単位数,MATCH(D12,科目順,0),FALSE)","v":""},{"$f":"VLOOKUP(学籍の記録!$P$8,二年評定,MATCH(D12,科目順,0),FALSE)","v":0},{"$f":"VLOOKUP(学籍の記録!$P$8,二年単位数,MATCH(D12,科目順,0),FALSE)","v":""},{"$f":"VLOOKUP(学籍の記録!$P$8,三年評定,MATCH(D12,科目順,0),FALSE)","v":0},{"$f":"VLOOKUP(学籍の記録!$P$8,三年単位数,MATCH(D12,科目順,0),FALSE)","v":""},{"$f":"VLOOKUP(学籍の記録!$P$8,四年評定,MATCH(D12,科目順,0),FALSE)","v":0},{"$f":"VLOOKUP(学籍の記録!$P$8,四年単位数,MATCH(D12,科目順,0),FALSE)","v":""},"",{"$f":"VLOOKUP(学籍の記録!$P$8,学習の記録備考,MATCH(D12,科目順,0),FALSE)","v":""}]
[null,null,null,"古典",null,null,{"$f":"VLOOKUP(学籍の記録!$P$8,一年評定,MATCH(D13,科目順,0),FALSE)","v":0},{"$f":"VLOOKUP(学籍の記録!$P$8,一年単位数,MATCH(D13,科目順,0),FALSE)","v":""},{"$f":"VLOOKUP(学籍の記録!$P$8,二年評定,MATCH(D13,科目順,0),FALSE)","v":0},{"$f":"VLOOKUP(学籍の記録!$P$8,二年単位数,MATCH(D13,科目順,0),FALSE)","v":""},{"$f":"VLOOKUP(学籍の記録!$P$8,三年評定,MATCH(D13,科目順,0),FALSE)","v":0},{"$f":"VLOOKUP(学籍の記録!$P$8,三年単位数,MATCH(D13,科目順,0),FALSE)","v":""},{"$f":"VLOOKUP(学籍の記録!$P$8,四年評定,MATCH(D13,科目順,0),FALSE)","v":0},{"$f":"VLOOKUP(学籍の記録!$P$8,四年単位数,MATCH(D13,科目順,0),FALSE)","v":""},"",{"$f":"VLOOKUP(学籍の記録!$P$8,学習の記録備考,MATCH(D13,科目順,0),FALSE)","v":""}]
[null,null,"地理歴史","地理Ａ",null,null,{"$f":"VLOOKUP(学籍の記録!$P$8,一年評定,MATCH(D14,科目順,0),FALSE)","v":0},{"$f":"VLOOKUP(学籍の記録!$P$8,一年単位数,MATCH(D14,科目順,0),FALSE)","v":""},{"$f":"VLOOKUP(学籍の記録!$P$8,二年評定,MATCH(D14,科目順,0),FALSE)","v":0},{"$f":"VLOOKUP(学籍の記録!$P$8,二年単位数,MATCH(D14,科目順,0),FALSE)","v":""},{"$f":"VLOOKUP(学籍の記録!$P$8,三年評定,MATCH(D14,科目順,0),FALSE)","v":0},{"$f":"VLOOKUP(学籍の記録!$P$8,三年単位数,MATCH(D14,科目順,0),FALSE)","v":""},{"$f":"VLOOKUP(学籍の記録!$P$8,四年評定,MATCH(D14,科目順,0),FALSE)","v":0},{"$f":"VLOOKUP(学籍の記録!$P$8,四年単位数,MATCH(D14,科目順,0),FALSE)","v":""},"",{"$f":"VLOOKUP(学籍の記録!$P$8,学習の記録備考,MATCH(D14,科目順,0),FALSE)","v":""}]
[null,null,null,"世界史Ｂ",null,null,{"$f":"VLOOKUP(学籍の記録!$P$8,一年評定,MATCH(D15,科目順,0),FALSE)","v":0},{"$f":"VLOOKUP(学籍の記録!$P$8,一年単位数,MATCH(D15,科目順,0),FALSE)","v":""},{"$f":"VLOOKUP(学籍の記録!$P$8,二年評定,MATCH(D15,科目順,0),FALSE)","v":0},{"$f":"VLOOKUP(学籍の記録!$P$8,二年単位数,MATCH(D15,科目順,0),FALSE)","v":""},{"$f":"VLOOKUP(学籍の記録!$P$8,三年評定,MATCH(D15,科目順,0),FALSE)","v":0},{"$f":"VLOOKUP(学籍の記録!$P$8,三年単位数,MATCH(D15,科目順,0),FALSE)","v":""},{"$f":"VLOOKUP(学籍の記録!$P$8,四年評定,MATCH(D15,科目順,0),FALSE)","v":0},{"$f":"VLOOKUP(学籍の記録!$P$8,四年単位数,MATCH(D15,科目順,0),FALSE)","v":""},"",{"$f":"VLOOKUP(学籍の記録!$P$8,学習の記録備考,MATCH(D15,科目順,0),FALSE)","v":""}]
[null,null,null,"日本史Ａ",null,null,{"$f":"VLOOKUP(学籍の記録!$P$8,一年評定,MATCH(D16,科目順,0),FALSE)","v":0},{"$f":"VLOOKUP(学籍の記録!$P$8,一年単位数,MATCH(D16,科目順,0),FALSE)","v":""},{"$f":"VLOOKUP(学籍の記録!$P$8,二年評定,MATCH(D16,科目順,0),FALSE)","v":0},{"$f":"VLOOKUP(学籍の記録!$P$8,二年単位数,MATCH(D16,科目順,0),FALSE)","v":""},{"$f":"VLOOKUP(学籍の記録!$P$8,三年評定,MATCH(D16,科目順,0),FALSE)","v":0},{"$f":"VLOOKUP(学籍の記録!$P$8,三年単位数,MATCH(D16,科目順,0),FALSE)","v":""},{"$f":"VLOOKUP(学籍の記録!$P$8,四年評定,MATCH(D16,科目順,0),FALSE)","v":0},{"$f":"VLOOKUP(学籍の記録!$P$8,四年単位数,MATCH(D16,科目順,0),FALSE)","v":""},"",{"$f":"VLOOKUP(学籍の記録!$P$8,学習の記録備考,MATCH(D16,科目順,0),FALSE)","v":""}]
[null,null,null,"日本史Ｂ",null,null,{"$f":"VLOOKUP(学籍の記録!$P$8,一年評定,MATCH(D17,科目順,0),FALSE)","v":0},{"$f":"VLOOKUP(学籍の記録!$P$8,一年単位数,MATCH(D17,科目順,0),FALSE)","v":""},{"$f":"VLOOKUP(学籍の記録!$P$8,二年評定,MATCH(D17,科目順,0),FALSE)","v":0},{"$f":"VLOOKUP(学籍の記録!$P$8,二年単位数,MATCH(D17,科目順,0),FALSE)","v":""},{"$f":"VLOOKUP(学籍の記録!$P$8,三年評定,MATCH(D17,科目順,0),FALSE)","v":0},{"$f":"VLOOKUP(学籍の記録!$P$8,三年単位数,MATCH(D17,科目順,0),FALSE)","v":""},{"$f":"VLOOKUP(学籍の記録!$P$8,四年評定,MATCH(D17,科目順,0),FALSE)","v":0},{"$f":"VLOOKUP(学籍の記録!$P$8,四年単位数,MATCH(D17,科目順,0),FALSE)","v":""},"",{"$f":"VLOOKUP(学籍の記録!$P$8,学習の記録備考,MATCH(D17,科目順,0),FALSE)","v":""}]
[null,null,"公民","現代社会",null,null,{"$f":"VLOOKUP(学籍の記録!$P$8,一年評定,MATCH(D18,科目順,0),FALSE)","v":2},{"$f":"VLOOKUP(学籍の記録!$P$8,一年単位数,MATCH(D18,科目順,0),FALSE)","v":3},{"$f":"VLOOKUP(学籍の記録!$P$8,二年評定,MATCH(D18,科目順,0),FALSE)","v":0},{"$f":"VLOOKUP(学籍の記録!$P$8,二年単位数,MATCH(D18,科目順,0),FALSE)","v":""},{"$f":"VLOOKUP(学籍の記録!$P$8,三年評定,MATCH(D18,科目順,0),FALSE)","v":0},{"$f":"VLOOKUP(学籍の記録!$P$8,三年単位数,MATCH(D18,科目順,0),FALSE)","v":""},{"$f":"VLOOKUP(学籍の記録!$P$8,四年評定,MATCH(D18,科目順,0),FALSE)","v":0},{"$f":"VLOOKUP(学籍の記録!$P$8,四年単位数,MATCH(D18,科目順,0),FALSE)","v":""},3,{"$f":"VLOOKUP(学籍の記録!$P$8,学習の記録備考,MATCH(D18,科目順,0),FALSE)","v":""}]
[null,null,null,"政治・経済",null,null,{"$f":"VLOOKUP(学籍の記録!$P$8,一年評定,MATCH(D19,科目順,0),FALSE)","v":0},{"$f":"VLOOKUP(学籍の記録!$P$8,一年単位数,MATCH(D19,科目順,0),FALSE)","v":""},{"$f":"VLOOKUP(学籍の記録!$P$8,二年評定,MATCH(D19,科目順,0),FALSE)","v":0},{"$f":"VLOOKUP(学籍の記録!$P$8,二年単位数,MATCH(D19,科目順,0),FALSE)","v":""},{"$f":"VLOOKUP(学籍の記録!$P$8,三年評定,MATCH(D19,科目順,0),FALSE)","v":0},{"$f":"VLOOKUP(学籍の記録!$P$8,三年単位数,MATCH(D19,科目順,0),FALSE)","v":""},{"$f":"VLOOKUP(学籍の記録!$P$8,四年評定,MATCH(D19,科目順,0),FALSE)","v":0},{"$f":"VLOOKUP(学籍の記録!$P$8,四年単位数,MATCH(D19,科目順,0),FALSE)","v":""},"",{"$f":"VLOOKUP(学籍の記録!$P$8,学習の記録備考,MATCH(D19,科目順,0),FALSE)","v":""}]
[null,null,"数学","数学Ⅰ",null,null,{"$f":"VLOOKUP(学籍の記録!$P$8,一年評定,MATCH(D20,科目順,0),FALSE)","v":2},{"$f":"VLOOKUP(学籍の記録!$P$8,一年単位数,MATCH(D20,科目順,0),FALSE)","v":3},{"$f":"VLOOKUP(学籍の記録!$P$8,二年評定,MATCH(D20,科目順,0),FALSE)","v":0},{"$f":"VLOOKUP(学籍の記録!$P$8,二年単位数,MATCH(D20,科目順,0),FALSE)","v":""},{"$f":"VLOOKUP(学籍の記録!$P$8,三年評定,MATCH(D20,科目順,0),FALSE)","v":0},{"$f":"VLOOKUP(学籍の記録!$P$8,三年単位数,MATCH(D20,科目順,0),FALSE)","v":""},{"$f":"VLOOKUP(学籍の記録!$P$8,四年評定,MATCH(D20,科目順,0),FALSE)","v":0},{"$f":"VLOOKUP(学籍の記録!$P$8,四年単位数,MATCH(D20,科目順,0),FALSE)","v":""},3,{"$f":"VLOOKUP(学籍の記録!$P$8,学習の記録備考,MATCH(D20,科目順,0),FALSE)","v":""}]
[null,null,null,"数学Ⅱ",null,null,{"$f":"VLOOKUP(学籍の記録!$P$8,一年評定,MATCH(D21,科目順,0),FALSE)","v":0},{"$f":"VLOOKUP(学籍の記録!$P$8,一年単位数,MATCH(D21,科目順,0),FALSE)","v":""},{"$f":"VLOOKUP(学籍の記録!$P$8,二年評定,MATCH(D21,科目順,0),FALSE)","v":0},{"$f":"VLOOKUP(学籍の記録!$P$8,二年単位数,MATCH(D21,科目順,0),FALSE)","v":""},{"$f":"VLOOKUP(学籍の記録!$P$8,三年評定,MATCH(D21,科目順,0),FALSE)","v":0},{"$f":"VLOOKUP(学籍の記録!$P$8,三年単位数,MATCH(D21,科目順,0),FALSE)","v":""},{"$f":"VLOOKUP(学籍の記録!$P$8,四年評定,MATCH(D21,科目順,0),FALSE)","v":0},{"$f":"VLOOKUP(学籍の記録!$P$8,四年単位数,MATCH(D21,科目順,0),FALSE)","v":""},"",{"$f":"VLOOKUP(学籍の記録!$P$8,学習の記録備考,MATCH(D21,科目順,0),FALSE)","v":""}]
[null,null,null,"数学Ⅲ",null,null,{"$f":"VLOOKUP(学籍の記録!$P$8,一年評定,MATCH(D22,科目順,0),FALSE)","v":0},{"$f":"VLOOKUP(学籍の記録!$P$8,一年単位数,MATCH(D22,科目順,0),FALSE)","v":""},{"$f":"VLOOKUP(学籍の記録!$P$8,二年評定,MATCH(D22,科目順,0),FALSE)","v":0},{"$f":"VLOOKUP(学籍の記録!$P$8,二年単位数,MATCH(D22,科目順,0),FALSE)","v":""},{"$f":"VLOOKUP(学籍の記録!$P$8,三年評定,MATCH(D22,科目順,0),FALSE)","v":0},{"$f":"VLOOKUP(学籍の記録!$P$8,三年単位数,MATCH(D22,科目順,0),FALSE)","v":""},{"$f":"VLOOKUP(学籍の記録!$P$8,四年評定,MATCH(D22,科目順,0),FALSE)","v":0},{"$f":"VLOOKUP(学籍の記録!$P$8,四年単位数,MATCH(D22,科目順,0),FALSE)","v":""},"",{"$f":"VLOOKUP(学籍の記録!$P$8,学習の記録備考,MATCH(D22,科目順,0),FALSE)","v":""}]
[null,null,null,"数学Ａ",null,null,{"$f":"VLOOKUP(学籍の記録!$P$8,一年評定,MATCH(D23,科目順,0),FALSE)","v":0},{"$f":"VLOOKUP(学籍の記録!$P$8,一年単位数,MATCH(D23,科目順,0),FALSE)","v":""},{"$f":"VLOOKUP(学籍の記録!$P$8,二年評定,MATCH(D23,科目順,0),FALSE)","v":0},{"$f":"VLOOKUP(学籍の記録!$P$8,二年単位数,MATCH(D23,科目順,0),FALSE)","v":""},{"$f":"VLOOKUP(学籍の記録!$P$8,三年評定,MATCH(D23,科目順,0),FALSE)","v":0},{"$f":"VLOOKUP(学籍の記録!$P$8,三年単位数,MATCH(D23,科目順,0),FALSE)","v":""},{"$f":"VLOOKUP(学籍の記録!$P$8,四年評定,MATCH(D23,科目順,0),FALSE)","v":0},{"$f":"VLOOKUP(学籍の記録!$P$8,四年単位数,MATCH(D23,科目順,0),FALSE)","v":""},"",{"$f":"VLOOKUP(学籍の記録!$P$8,学習の記録備考,MATCH(D23,科目順,0),FALSE)","v":""}]
[null,null,null,"数学Ｂ",null,null,{"$f":"VLOOKUP(学籍の記録!$P$8,一年評定,MATCH(D24,科目順,0),FALSE)","v":0},{"$f":"VLOOKUP(学籍の記録!$P$8,一年単位数,MATCH(D24,科目順,0),FALSE)","v":""},{"$f":"VLOOKUP(学籍の記録!$P$8,二年評定,MATCH(D24,科目順,0),FALSE)","v":0},{"$f":"VLOOKUP(学籍の記録!$P$8,二年単位数,MATCH(D24,科目順,0),FALSE)","v":""},{"$f":"VLOOKUP(学籍の記録!$P$8,三年評定,MATCH(D24,科目順,0),FALSE)","v":0},{"$f":"VLOOKUP(学籍の記録!$P$8,三年単位数,MATCH(D24,科目順,0),FALSE)","v":""},{"$f":"VLOOKUP(学籍の記録!$P$8,四年評定,MATCH(D24,科目順,0),FALSE)","v":0},{"$f":"VLOOKUP(学籍の記録!$P$8,四年単位数,MATCH(D24,科目順,0),FALSE)","v":""},"",{"$f":"VLOOKUP(学籍の記録!$P$8,学習の記録備考,MATCH(D24,科目順,0),FALSE)","v":""}]
[null,null,"理科","科学と人間生活",null,null,{"$f":"VLOOKUP(学籍の記録!$P$8,一年評定,MATCH(D25,科目順,0),FALSE)","v":0},{"$f":"VLOOKUP(学籍の記録!$P$8,一年単位数,MATCH(D25,科目順,0),FALSE)","v":""},{"$f":"VLOOKUP(学籍の記録!$P$8,二年評定,MATCH(D25,科目順,0),FALSE)","v":0},{"$f":"VLOOKUP(学籍の記録!$P$8,二年単位数,MATCH(D25,科目順,0),FALSE)","v":""},{"$f":"VLOOKUP(学籍の記録!$P$8,三年評定,MATCH(D25,科目順,0),FALSE)","v":0},{"$f":"VLOOKUP(学籍の記録!$P$8,三年単位数,MATCH(D25,科目順,0),FALSE)","v":""},{"$f":"VLOOKUP(学籍の記録!$P$8,四年評定,MATCH(D25,科目順,0),FALSE)","v":0},{"$f":"VLOOKUP(学籍の記録!$P$8,四年単位数,MATCH(D25,科目順,0),FALSE)","v":""},"",{"$f":"VLOOKUP(学籍の記録!$P$8,学習の記録備考,MATCH(D25,科目順,0),FALSE)","v":""}]
[null,null,null,"化学基礎",null,null,{"$f":"VLOOKUP(学籍の記録!$P$8,一年評定,MATCH(D26,科目順,0),FALSE)","v":0},{"$f":"VLOOKUP(学籍の記録!$P$8,一年単位数,MATCH(D26,科目順,0),FALSE)","v":""},{"$f":"VLOOKUP(学籍の記録!$P$8,二年評定,MATCH(D26,科目順,0),FALSE)","v":0},{"$f":"VLOOKUP(学籍の記録!$P$8,二年単位数,MATCH(D26,科目順,0),FALSE)","v":""},{"$f":"VLOOKUP(学籍の記録!$P$8,三年評定,MATCH(D26,科目順,0),FALSE)","v":0},{"$f":"VLOOKUP(学籍の記録!$P$8,三年単位数,MATCH(D26,科目順,0),FALSE)","v":""},{"$f":"VLOOKUP(学籍の記録!$P$8,四年評定,MATCH(D26,科目順,0),FALSE)","v":0},{"$f":"VLOOKUP(学籍の記録!$P$8,四年単位数,MATCH(D26,科目順,0),FALSE)","v":""},"",{"$f":"VLOOKUP(学籍の記録!$P$8,学習の記録備考,MATCH(D26,科目順,0),FALSE)","v":""}]
[null,null,null,"化学",null,null,{"$f":"VLOOKUP(学籍の記録!$P$8,一年評定,MATCH(D27,科目順,0),FALSE)","v":0},{"$f":"VLOOKUP(学籍の記録!$P$8,一年単位数,MATCH(D27,科目順,0),FALSE)","v":""},{"$f":"VLOOKUP(学籍の記録!$P$8,二年評定,MATCH(D27,科目順,0),FALSE)","v":0},{"$f":"VLOOKUP(学籍の記録!$P$8,二年単位数,MATCH(D27,科目順,0),FALSE)","v":""},{"$f":"VLOOKUP(学籍の記録!$P$8,三年評定,MATCH(D27,科目順,0),FALSE)","v":0},{"$f":"VLOOKUP(学籍の記録!$P$8,三年単位数,MATCH(D27,科目順,0),FALSE)","v":""},{"$f":"VLOOKUP(学籍の記録!$P$8,四年評定,MATCH(D27,科目順,0),FALSE)","v":0},{"$f":"VLOOKUP(学籍の記録!$P$8,四年単位数,MATCH(D27,科目順,0),FALSE)","v":""},"",{"$f":"VLOOKUP(学籍の記録!$P$8,学習の記録備考,MATCH(D27,科目順,0),FALSE)","v":""}]
[null,null,null,"生物基礎",null,null,{"$f":"VLOOKUP(学籍の記録!$P$8,一年評定,MATCH(D28,科目順,0),FALSE)","v":0},{"$f":"VLOOKUP(学籍の記録!$P$8,一年単位数,MATCH(D28,科目順,0),FALSE)","v":""},{"$f":"VLOOKUP(学籍の記録!$P$8,二年評定,MATCH(D28,科目順,0),FALSE)","v":0},{"$f":"VLOOKUP(学籍の記録!$P$8,二年単位数,MATCH(D28,科目順,0),FALSE)","v":""},{"$f":"VLOOKUP(学籍の記録!$P$8,三年評定,MATCH(D28,科目順,0),FALSE)","v":0},{"$f":"VLOOKUP(学籍の記録!$P$8,三年単位数,MATCH(D28,科目順,0),FALSE)","v":""},{"$f":"VLOOKUP(学籍の記録!$P$8,四年評定,MATCH(D28,科目順,0),FALSE)","v":0},{"$f":"VLOOKUP(学籍の記録!$P$8,四年単位数,MATCH(D28,科目順,0),FALSE)","v":""},"",{"$f":"VLOOKUP(学籍の記録!$P$8,学習の記録備考,MATCH(D28,科目順,0),FALSE)","v":""}]
[null,null,null,"生物",null,null,{"$f":"VLOOKUP(学籍の記録!$P$8,一年評定,MATCH(D29,科目順,0),FALSE)","v":0},{"$f":"VLOOKUP(学籍の記録!$P$8,一年単位数,MATCH(D29,科目順,0),FALSE)","v":""},{"$f":"VLOOKUP(学籍の記録!$P$8,二年評定,MATCH(D29,科目順,0),FALSE)","v":0},{"$f":"VLOOKUP(学籍の記録!$P$8,二年単位数,MATCH(D29,科目順,0),FALSE)","v":""},{"$f":"VLOOKUP(学籍の記録!$P$8,三年評定,MATCH(D29,科目順,0),FALSE)","v":0},{"$f":"VLOOKUP(学籍の記録!$P$8,三年単位数,MATCH(D29,科目順,0),FALSE)","v":""},{"$f":"VLOOKUP(学籍の記録!$P$8,四年評定,MATCH(D29,科目順,0),FALSE)","v":0},{"$f":"VLOOKUP(学籍の記録!$P$8,四年単位数,MATCH(D29,科目順,0),FALSE)","v":""},"",{"$f":"VLOOKUP(学籍の記録!$P$8,学習の記録備考,MATCH(D29,科目順,0),FALSE)","v":""}]
[null,null,"保健\n体育","体育",null,null,{"$f":"VLOOKUP(学籍の記録!$P$8,一年評定,MATCH(D30,科目順,0),FALSE)","v":4},{"$f":"VLOOKUP(学籍の記録!$P$8,一年単位数,MATCH(D30,科目順,0),FALSE)","v":3},{"$f":"VLOOKUP(学籍の記録!$P$8,二年評定,MATCH(D30,科目順,0),FALSE)","v":0},{"$f":"VLOOKUP(学籍の記録!$P$8,二年単位数,MATCH(D30,科目順,0),FALSE)","v":""},{"$f":"VLOOKUP(学籍の記録!$P$8,三年評定,MATCH(D30,科目順,0),FALSE)","v":0},{"$f":"VLOOKUP(学籍の記録!$P$8,三年単位数,MATCH(D30,科目順,0),FALSE)","v":""},{"$f":"VLOOKUP(学籍の記録!$P$8,四年評定,MATCH(D30,科目順,0),FALSE)","v":0},{"$f":"VLOOKUP(学籍の記録!$P$8,四年単位数,MATCH(D30,科目順,0),FALSE)","v":""},3,{"$f":"VLOOKUP(学籍の記録!$P$8,学習の記録備考,MATCH(D30,科目順,0),FALSE)","v":""}]
[null,null,null,"保健",null,null,{"$f":"VLOOKUP(学籍の記録!$P$8,一年評定,MATCH(D31,科目順,0),FALSE)","v":2},{"$f":"VLOOKUP(学籍の記録!$P$8,一年単位数,MATCH(D31,科目順,0),FALSE)","v":1},{"$f":"VLOOKUP(学籍の記録!$P$8,二年評定,MATCH(D31,科目順,0),FALSE)","v":0},{"$f":"VLOOKUP(学籍の記録!$P$8,二年単位数,MATCH(D31,科目順,0),FALSE)","v":""},{"$f":"VLOOKUP(学籍の記録!$P$8,三年評定,MATCH(D31,科目順,0),FALSE)","v":0},{"$f":"VLOOKUP(学籍の記録!$P$8,三年単位数,MATCH(D31,科目順,0),FALSE)","v":""},{"$f":"VLOOKUP(学籍の記録!$P$8,四年評定,MATCH(D31,科目順,0),FALSE)","v":0},{"$f":"VLOOKUP(学籍の記録!$P$8,四年単位数,MATCH(D31,科目順,0),FALSE)","v":""},1,{"$f":"VLOOKUP(学籍の記録!$P$8,学習の記録備考,MATCH(D31,科目順,0),FALSE)","v":""}]
[null,null,"芸術",{"$f":"VLOOKUP(学籍の記録!$P$8,修得単位数データ,2,FALSE)&\"Ⅰ\"","v":"音楽Ⅰ"},null,null,{"$f":"IF(VLOOKUP(学籍の記録!$P$8,一年評定,MATCH(\"芸術Ⅰ\",科目順,0),FALSE)<>\"\",VLOOKUP(学籍の記録!$P$8,一年評定,MATCH(\"芸術Ⅰ\",科目順,0),FALSE),\"\")","v":4},{"$f":"VLOOKUP(学籍の記録!$P$8,一年単位数,MATCH(\"芸術Ⅰ\",科目順,0),FALSE)","v":2},{"$f":"VLOOKUP(学籍の記録!$P$8,二年評定,MATCH(\"芸術Ⅰ\",科目順,0),FALSE)","v":0},{"$f":"VLOOKUP(学籍の記録!$P$8,二年単位数,MATCH(\"芸術Ⅰ\",科目順,0),FALSE)","v":""},{"$f":"VLOOKUP(学籍の記録!$P$8,三年評定,MATCH(\"芸術Ⅰ\",科目順,0),FALSE)","v":0},{"$f":"VLOOKUP(学籍の記録!$P$8,三年単位数,MATCH(\"芸術Ⅰ\",科目順,0),FALSE)","v":""},{"$f":"VLOOKUP(学籍の記録!$P$8,四年評定,MATCH(\"芸術Ⅰ\",科目順,0),FALSE)","v":0},{"$f":"VLOOKUP(学籍の記録!$P$8,四年単位数,MATCH(\"芸術Ⅰ\",科目順,0),FALSE)","v":""},2,{"$f":"VLOOKUP(学籍の記録!$P$8,学習の記録備考,MATCH(\"芸術Ⅰ\",科目順,0),FALSE)","v":""}]
[null,null,null,{"$f":"VLOOKUP(学籍の記録!$P$8,修得単位数データ,2,FALSE)&\"Ⅱ\"","v":"音楽Ⅱ"},null,null,{"$f":"IF(VLOOKUP(学籍の記録!$P$8,一年評定,MATCH(\"芸術Ⅱ\",科目順,0),FALSE)<>\"\",VLOOKUP(学籍の記録!$P$8,一年評定,MATCH(\"芸術Ⅱ\",科目順,0),FALSE),\"\")","v":""},{"$f":"VLOOKUP(学籍の記録!$P$8,一年単位数,MATCH(\"芸術Ⅱ\",科目順,0),FALSE)","v":""},{"$f":"VLOOKUP(学籍の記録!$P$8,二年評定,MATCH(\"芸術Ⅱ\",科目順,0),FALSE)","v":0},{"$f":"VLOOKUP(学籍の記録!$P$8,二年単位数,MATCH(\"芸術Ⅱ\",科目順,0),FALSE)","v":""},{"$f":"VLOOKUP(学籍の記録!$P$8,三年評定,MATCH(\"芸術Ⅱ\",科目順,0),FALSE)","v":0},{"$f":"VLOOKUP(学籍の記録!$P$8,三年単位数,MATCH(\"芸術Ⅱ\",科目順,0),FALSE)","v":""},{"$f":"VLOOKUP(学籍の記録!$P$8,四年評定,MATCH(\"芸術Ⅱ\",科目順,0),FALSE)","v":0},{"$f":"VLOOKUP(学籍の記録!$P$8,四年単位数,MATCH(\"芸術Ⅱ\",科目順,0),FALSE)","v":""},"",{"$f":"VLOOKUP(学籍の記録!$P$8,学習の記録備考,MATCH(\"芸術Ⅱ\",科目順,0),FALSE)","v":""}]
[null,null,null,{"$f":"VLOOKUP(学籍の記録!$P$8,修得単位数データ,2,FALSE)&\"Ⅲ\"","v":"音楽Ⅲ"},null,null,{"$f":"IF(VLOOKUP(学籍の記録!$P$8,一年評定,MATCH(\"芸術Ⅲ\",科目順,0),FALSE)<>\"\",VLOOKUP(学籍の記録!$P$8,一年評定,MATCH(\"芸術Ⅲ\",科目順,0),FALSE),\"\")","v":""},{"$f":"VLOOKUP(学籍の記録!$P$8,一年単位数,MATCH(\"芸術Ⅲ\",科目順,0),FALSE)","v":""},{"$f":"VLOOKUP(学籍の記録!$P$8,二年評定,MATCH(\"芸術Ⅲ\",科目順,0),FALSE)","v":0},{"$f":"VLOOKUP(学籍の記録!$P$8,二年単位数,MATCH(\"芸術Ⅲ\",科目順,0),FALSE)","v":""},{"$f":"VLOOKUP(学籍の記録!$P$8,三年評定,MATCH(\"芸術Ⅲ\",科目順,0),FALSE)","v":0},{"$f":"VLOOKUP(学籍の記録!$P$8,三年単位数,MATCH(\"芸術Ⅲ\",科目順,0),FALSE)","v":""},{"$f":"VLOOKUP(学籍の記録!$P$8,四年評定,MATCH(\"芸術Ⅲ\",科目順,0),FALSE)","v":0},{"$f":"VLOOKUP(学籍の記録!$P$8,四年単位数,MATCH(\"芸術Ⅲ\",科目順,0),FALSE)","v":""},"",{"$f":"VLOOKUP(学籍の記録!$P$8,学習の記録備考,MATCH(\"芸術Ⅲ\",科目順,0),FALSE)","v":""}]
[null,null,"外国語","オーラル・コミュニケーションⅠ",null,null,{"$f":"VLOOKUP(学籍の記録!$P$8,一年評定,MATCH(D35,科目順,0),FALSE)","v":0},{"$f":"VLOOKUP(学籍の記録!$P$8,一年単位数,MATCH(D35,科目順,0),FALSE)","v":""},{"$f":"VLOOKUP(学籍の記録!$P$8,二年評定,MATCH(D35,科目順,0),FALSE)","v":0},{"$f":"VLOOKUP(学籍の記録!$P$8,二年単位数,MATCH(D35,科目順,0),FALSE)","v":""},{"$f":"VLOOKUP(学籍の記録!$P$8,三年評定,MATCH(D35,科目順,0),FALSE)","v":0},{"$f":"VLOOKUP(学籍の記録!$P$8,三年単位数,MATCH(D35,科目順,0),FALSE)","v":""},{"$f":"VLOOKUP(学籍の記録!$P$8,四年評定,MATCH(D35,科目順,0),FALSE)","v":0},{"$f":"VLOOKUP(学籍の記録!$P$8,四年単位数,MATCH(D35,科目順,0),FALSE)","v":""},"",{"$f":"VLOOKUP(学籍の記録!$P$8,学習の記録備考,MATCH(D35,科目順,0),FALSE)","v":""}]
[null,null,null,"英語Ⅰ",null,null,{"$f":"VLOOKUP(学籍の記録!$P$8,一年評定,MATCH(D36,科目順,0),FALSE)","v":1},{"$f":"VLOOKUP(学籍の記録!$P$8,一年単位数,MATCH(D36,科目順,0),FALSE)","v":0},{"$f":"VLOOKUP(学籍の記録!$P$8,二年評定,MATCH(D36,科目順,0),FALSE)","v":0},{"$f":"VLOOKUP(学籍の記録!$P$8,二年単位数,MATCH(D36,科目順,0),FALSE)","v":""},{"$f":"VLOOKUP(学籍の記録!$P$8,三年評定,MATCH(D36,科目順,0),FALSE)","v":0},{"$f":"VLOOKUP(学籍の記録!$P$8,三年単位数,MATCH(D36,科目順,0),FALSE)","v":""},{"$f":"VLOOKUP(学籍の記録!$P$8,四年評定,MATCH(D36,科目順,0),FALSE)","v":0},{"$f":"VLOOKUP(学籍の記録!$P$8,四年単位数,MATCH(D36,科目順,0),FALSE)","v":""},0,{"$f":"VLOOKUP(学籍の記録!$P$8,学習の記録備考,MATCH(D36,科目順,0),FALSE)","v":"１学年履修単位数 3単位"}]
[null,null,null,"英語Ⅱ",null,null,{"$f":"VLOOKUP(学籍の記録!$P$8,一年評定,MATCH(D37,科目順,0),FALSE)","v":0},{"$f":"VLOOKUP(学籍の記録!$P$8,一年単位数,MATCH(D37,科目順,0),FALSE)","v":""},{"$f":"VLOOKUP(学籍の記録!$P$8,二年評定,MATCH(D37,科目順,0),FALSE)","v":0},{"$f":"VLOOKUP(学籍の記録!$P$8,二年単位数,MATCH(D37,科目順,0),FALSE)","v":""},{"$f":"VLOOKUP(学籍の記録!$P$8,三年評定,MATCH(D37,科目順,0),FALSE)","v":0},{"$f":"VLOOKUP(学籍の記録!$P$8,三年単位数,MATCH(D37,科目順,0),FALSE)","v":""},{"$f":"VLOOKUP(学籍の記録!$P$8,四年評定,MATCH(D37,科目順,0),FALSE)","v":0},{"$f":"VLOOKUP(学籍の記録!$P$8,四年単位数,MATCH(D37,科目順,0),FALSE)","v":""},"",{"$f":"VLOOKUP(学籍の記録!$P$8,学習の記録備考,MATCH(D37,科目順,0),FALSE)","v":""}]
[null,null,"家庭","家庭基礎",null,null,{"$f":"VLOOKUP(学籍の記録!$P$8,一年評定,MATCH(D38,科目順,0),FALSE)","v":0},{"$f":"VLOOKUP(学籍の記録!$P$8,一年単位数,MATCH(D38,科目順,0),FALSE)","v":""},{"$f":"VLOOKUP(学籍の記録!$P$8,二年評定,MATCH(D38,科目順,0),FALSE)","v":0},{"$f":"VLOOKUP(学籍の記録!$P$8,二年単位数,MATCH(D38,科目順,0),FALSE)","v":""},{"$f":"VLOOKUP(学籍の記録!$P$8,三年評定,MATCH(D38,科目順,0),FALSE)","v":0},{"$f":"VLOOKUP(学籍の記録!$P$8,三年単位数,MATCH(D38,科目順,0),FALSE)","v":""},{"$f":"VLOOKUP(学籍の記録!$P$8,四年評定,MATCH(D38,科目順,0),FALSE)","v":0},{"$f":"VLOOKUP(学籍の記録!$P$8,四年単位数,MATCH(D38,科目順,0),FALSE)","v":""},"",{"$f":"VLOOKUP(学籍の記録!$P$8,学習の記録備考,MATCH(D38,科目順,0),FALSE)","v":""}]
[null,null,null,"家庭総合",null,null,{"$f":"VLOOKUP(学籍の記録!$P$8,一年評定,MATCH(D39,科目順,0),FALSE)","v":1},{"$f":"VLOOKUP(学籍の記録!$P$8,一年単位数,MATCH(D39,科目順,0),FALSE)","v":0},{"$f":"VLOOKUP(学籍の記録!$P$8,二年評定,MATCH(D39,科目順,0),FALSE)","v":0},{"$f":"VLOOKUP(学籍の記録!$P$8,二年単位数,MATCH(D39,科目順,0),FALSE)","v":""},{"$f":"VLOOKUP(学籍の記録!$P$8,三年評定,MATCH(D39,科目順,0),FALSE)","v":0},{"$f":"VLOOKUP(学籍の記録!$P$8,三年単位数,MATCH(D39,科目順,0),FALSE)","v":""},{"$f":"VLOOKUP(学籍の記録!$P$8,四年評定,MATCH(D39,科目順,0),FALSE)","v":0},{"$f":"VLOOKUP(学籍の記録!$P$8,四年単位数,MATCH(D39,科目順,0),FALSE)","v":""},0,{"$f":"VLOOKUP(学籍の記録!$P$8,学習の記録備考,MATCH(D39,科目順,0),FALSE)","v":"１学年履修単位数 2単位"}]
[null,null,"情報","情報Ａ",null,null,{"$f":"VLOOKUP(学籍の記録!$P$8,一年評定,MATCH(D40,科目順,0),FALSE)","v":0},{"$f":"VLOOKUP(学籍の記録!$P$8,一年単位数,MATCH(D40,科目順,0),FALSE)","v":""},{"$f":"VLOOKUP(学籍の記録!$P$8,二年評定,MATCH(D40,科目順,0),FALSE)","v":0},{"$f":"VLOOKUP(学籍の記録!$P$8,二年単位数,MATCH(D40,科目順,0),FALSE)","v":""},{"$f":"VLOOKUP(学籍の記録!$P$8,三年評定,MATCH(D40,科目順,0),FALSE)","v":0},{"$f":"VLOOKUP(学籍の記録!$P$8,三年単位数,MATCH(D40,科目順,0),FALSE)","v":""},{"$f":"VLOOKUP(学籍の記録!$P$8,四年評定,MATCH(D40,科目順,0),FALSE)","v":0},{"$f":"VLOOKUP(学籍の記録!$P$8,四年単位数,MATCH(D40,科目順,0),FALSE)","v":""},"",{"$f":"VLOOKUP(学籍の記録!$P$8,学習の記録備考,MATCH(D40,科目順,0),FALSE)","v":""}]
[null,null,null,"情報Ｃ",null,null,{"$f":"VLOOKUP(学籍の記録!$P$8,一年評定,MATCH(D41,科目順,0),FALSE)","v":0},{"$f":"VLOOKUP(学籍の記録!$P$8,一年単位数,MATCH(D41,科目順,0),FALSE)","v":""},{"$f":"VLOOKUP(学籍の記録!$P$8,二年評定,MATCH(D41,科目順,0),FALSE)","v":0},{"$f":"VLOOKUP(学籍の記録!$P$8,二年単位数,MATCH(D41,科目順,0),FALSE)","v":""},{"$f":"VLOOKUP(学籍の記録!$P$8,三年評定,MATCH(D41,科目順,0),FALSE)","v":0},{"$f":"VLOOKUP(学籍の記録!$P$8,三年単位数,MATCH(D41,科目順,0),FALSE)","v":""},{"$f":"VLOOKUP(学籍の記録!$P$8,四年評定,MATCH(D41,科目順,0),FALSE)","v":0},{"$f":"VLOOKUP(学籍の記録!$P$8,四年単位数,MATCH(D41,科目順,0),FALSE)","v":""},"",{"$f":"VLOOKUP(学籍の記録!$P$8,学習の記録備考,MATCH(D41,科目順,0),FALSE)","v":""}]
[null,null,"学校設\n定教科",null,null,null,null,null,null,null,null,null,null,null,""]
[null,null,null,null,null,null,null,null,null,null,null,null,null,null,""]
[null,"専門教育に関する各教科・科目","商業","ビジネス基礎",null,null,{"$f":"VLOOKUP(学籍の記録!$P$8,一年評定,MATCH(D44,科目順,0),FALSE)","v":0},{"$f":"VLOOKUP(学籍の記録!$P$8,一年単位数,MATCH(D44,科目順,0),FALSE)","v":""},{"$f":"VLOOKUP(学籍の記録!$P$8,二年評定,MATCH(D44,科目順,0),FALSE)","v":0},{"$f":"VLOOKUP(学籍の記録!$P$8,二年単位数,MATCH(D44,科目順,0),FALSE)","v":""},{"$f":"VLOOKUP(学籍の記録!$P$8,三年評定,MATCH(D44,科目順,0),FALSE)","v":0},{"$f":"VLOOKUP(学籍の記録!$P$8,三年単位数,MATCH(D44,科目順,0),FALSE)","v":""},{"$f":"VLOOKUP(学籍の記録!$P$8,四年評定,MATCH(D44,科目順,0),FALSE)","v":0},{"$f":"VLOOKUP(学籍の記録!$P$8,四年単位数,MATCH(D44,科目順,0),FALSE)","v":""},"",{"$f":"VLOOKUP(学籍の記録!$P$8,学習の記録備考,MATCH(D44,科目順,0),FALSE)","v":""}]
[null,null,null,"課題研究",null,null,{"$f":"VLOOKUP(学籍の記録!$P$8,一年評定,MATCH(D45,科目順,0),FALSE)","v":0},{"$f":"VLOOKUP(学籍の記録!$P$8,一年単位数,MATCH(D45,科目順,0),FALSE)","v":""},{"$f":"VLOOKUP(学籍の記録!$P$8,二年評定,MATCH(D45,科目順,0),FALSE)","v":0},{"$f":"VLOOKUP(学籍の記録!$P$8,二年単位数,MATCH(D45,科目順,0),FALSE)","v":""},{"$f":"VLOOKUP(学籍の記録!$P$8,三年評定,MATCH(D45,科目順,0),FALSE)","v":0},{"$f":"VLOOKUP(学籍の記録!$P$8,三年単位数,MATCH(D45,科目順,0),FALSE)","v":""},{"$f":"VLOOKUP(学籍の記録!$P$8,四年評定,MATCH(D45,科目順,0),FALSE)","v":0},{"$f":"VLOOKUP(学籍の記録!$P$8,四年単位数,MATCH(D45,科目順,0),FALSE)","v":""},"",{"$f":"VLOOKUP(学籍の記録!$P$8,学習の記録備考,MATCH(D45,科目順,0),FALSE)","v":""}]
[null,null,null,"商業技術",null,null,{"$f":"VLOOKUP(学籍の記録!$P$8,一年評定,MATCH(D46,科目順,0),FALSE)","v":0},{"$f":"VLOOKUP(学籍の記録!$P$8,一年単位数,MATCH(D46,科目順,0),FALSE)","v":""},{"$f":"VLOOKUP(学籍の記録!$P$8,二年評定,MATCH(D46,科目順,0),FALSE)","v":0},{"$f":"VLOOKUP(学籍の記録!$P$8,二年単位数,MATCH(D46,科目順,0),FALSE)","v":""},{"$f":"VLOOKUP(学籍の記録!$P$8,三年評定,MATCH(D46,科目順,0),FALSE)","v":0},{"$f":"VLOOKUP(学籍の記録!$P$8,三年単位数,MATCH(D46,科目順,0),FALSE)","v":""},{"$f":"VLOOKUP(学籍の記録!$P$8,四年評定,MATCH(D46,科目順,0),FALSE)","v":0},{"$f":"VLOOKUP(学籍の記録!$P$8,四年単位数,MATCH(D46,科目順,0),FALSE)","v":""},"",{"$f":"VLOOKUP(学籍の記録!$P$8,学習の記録備考,MATCH(D46,科目順,0),FALSE)","v":""}]
[null,null,null,"簿記",null,null,{"$f":"VLOOKUP(学籍の記録!$P$8,一年評定,MATCH(D47,科目順,0),FALSE)","v":2},{"$f":"VLOOKUP(学籍の記録!$P$8,一年単位数,MATCH(D47,科目順,0),FALSE)","v":4},{"$f":"VLOOKUP(学籍の記録!$P$8,二年評定,MATCH(D47,科目順,0),FALSE)","v":0},{"$f":"VLOOKUP(学籍の記録!$P$8,二年単位数,MATCH(D47,科目順,0),FALSE)","v":""},{"$f":"VLOOKUP(学籍の記録!$P$8,三年評定,MATCH(D47,科目順,0),FALSE)","v":0},{"$f":"VLOOKUP(学籍の記録!$P$8,三年単位数,MATCH(D47,科目順,0),FALSE)","v":""},{"$f":"VLOOKUP(学籍の記録!$P$8,四年評定,MATCH(D47,科目順,0),FALSE)","v":0},{"$f":"VLOOKUP(学籍の記録!$P$8,四年単位数,MATCH(D47,科目順,0),FALSE)","v":""},4,{"$f":"VLOOKUP(学籍の記録!$P$8,学習の記録備考,MATCH(D47,科目順,0),FALSE)","v":""}]
[null,null,null,"会計",null,null,{"$f":"VLOOKUP(学籍の記録!$P$8,一年評定,MATCH(D48,科目順,0),FALSE)","v":0},{"$f":"VLOOKUP(学籍の記録!$P$8,一年単位数,MATCH(D48,科目順,0),FALSE)","v":""},{"$f":"VLOOKUP(学籍の記録!$P$8,二年評定,MATCH(D48,科目順,0),FALSE)","v":0},{"$f":"VLOOKUP(学籍の記録!$P$8,二年単位数,MATCH(D48,科目順,0),FALSE)","v":""},{"$f":"VLOOKUP(学籍の記録!$P$8,三年評定,MATCH(D48,科目順,0),FALSE)","v":0},{"$f":"VLOOKUP(学籍の記録!$P$8,三年単位数,MATCH(D48,科目順,0),FALSE)","v":""},{"$f":"VLOOKUP(学籍の記録!$P$8,四年評定,MATCH(D48,科目順,0),FALSE)","v":0},{"$f":"VLOOKUP(学籍の記録!$P$8,四年単位数,MATCH(D48,科目順,0),FALSE)","v":""},"",{"$f":"VLOOKUP(学籍の記録!$P$8,学習の記録備考,MATCH(D48,科目順,0),FALSE)","v":""}]
[null,null,null,"原価計算",null,null,{"$f":"VLOOKUP(学籍の記録!$P$8,一年評定,MATCH(D49,科目順,0),FALSE)","v":0},{"$f":"VLOOKUP(学籍の記録!$P$8,一年単位数,MATCH(D49,科目順,0),FALSE)","v":""},{"$f":"VLOOKUP(学籍の記録!$P$8,二年評定,MATCH(D49,科目順,0),FALSE)","v":0},{"$f":"VLOOKUP(学籍の記録!$P$8,二年単位数,MATCH(D49,科目順,0),FALSE)","v":""},{"$f":"VLOOKUP(学籍の記録!$P$8,三年評定,MATCH(D49,科目順,0),FALSE)","v":0},{"$f":"VLOOKUP(学籍の記録!$P$8,三年単位数,MATCH(D49,科目順,0),FALSE)","v":""},{"$f":"VLOOKUP(学籍の記録!$P$8,四年評定,MATCH(D49,科目順,0),FALSE)","v":0},{"$f":"VLOOKUP(学籍の記録!$P$8,四年単位数,MATCH(D49,科目順,0),FALSE)","v":""},"",{"$f":"VLOOKUP(学籍の記録!$P$8,学習の記録備考,MATCH(D49,科目順,0),FALSE)","v":""}]
[null,null,null,"情報処理",null,null,{"$f":"VLOOKUP(学籍の記録!$P$8,一年評定,MATCH(D50,科目順,0),FALSE)","v":3},{"$f":"VLOOKUP(学籍の記録!$P$8,一年単位数,MATCH(D50,科目順,0),FALSE)","v":4},{"$f":"VLOOKUP(学籍の記録!$P$8,二年評定,MATCH(D50,科目順,0),FALSE)","v":0},{"$f":"VLOOKUP(学籍の記録!$P$8,二年単位数,MATCH(D50,科目順,0),FALSE)","v":""},{"$f":"VLOOKUP(学籍の記録!$P$8,三年評定,MATCH(D50,科目順,0),FALSE)","v":0},{"$f":"VLOOKUP(学籍の記録!$P$8,三年単位数,MATCH(D50,科目順,0),FALSE)","v":""},{"$f":"VLOOKUP(学籍の記録!$P$8,四年評定,MATCH(D50,科目順,0),FALSE)","v":0},{"$f":"VLOOKUP(学籍の記録!$P$8,四年単位数,MATCH(D50,科目順,0),FALSE)","v":""},4,{"$f":"VLOOKUP(学籍の記録!$P$8,学習の記録備考,MATCH(D50,科目順,0),FALSE)","v":""}]
[null,null,null,"ビジネス情報",null,null,{"$f":"VLOOKUP(学籍の記録!$P$8,一年評定,MATCH(D51,科目順,0),FALSE)","v":0},{"$f":"VLOOKUP(学籍の記録!$P$8,一年単位数,MATCH(D51,科目順,0),FALSE)","v":""},{"$f":"VLOOKUP(学籍の記録!$P$8,二年評定,MATCH(D51,科目順,0),FALSE)","v":0},{"$f":"VLOOKUP(学籍の記録!$P$8,二年単位数,MATCH(D51,科目順,0),FALSE)","v":""},{"$f":"VLOOKUP(学籍の記録!$P$8,三年評定,MATCH(D51,科目順,0),FALSE)","v":0},{"$f":"VLOOKUP(学籍の記録!$P$8,三年単位数,MATCH(D51,科目順,0),FALSE)","v":""},{"$f":"VLOOKUP(学籍の記録!$P$8,四年評定,MATCH(D51,科目順,0),FALSE)","v":0},{"$f":"VLOOKUP(学籍の記録!$P$8,四年単位数,MATCH(D51,科目順,0),FALSE)","v":""},"",{"$f":"VLOOKUP(学籍の記録!$P$8,学習の記録備考,MATCH(D51,科目順,0),FALSE)","v":""}]
[null,null,null,"文書デザイン",null,null,{"$f":"VLOOKUP(学籍の記録!$P$8,一年評定,MATCH(D52,科目順,0),FALSE)","v":0},{"$f":"VLOOKUP(学籍の記録!$P$8,一年単位数,MATCH(D52,科目順,0),FALSE)","v":""},{"$f":"VLOOKUP(学籍の記録!$P$8,二年評定,MATCH(D52,科目順,0),FALSE)","v":0},{"$f":"VLOOKUP(学籍の記録!$P$8,二年単位数,MATCH(D52,科目順,0),FALSE)","v":""},{"$f":"VLOOKUP(学籍の記録!$P$8,三年評定,MATCH(D52,科目順,0),FALSE)","v":0},{"$f":"VLOOKUP(学籍の記録!$P$8,三年単位数,MATCH(D52,科目順,0),FALSE)","v":""},{"$f":"VLOOKUP(学籍の記録!$P$8,四年評定,MATCH(D52,科目順,0),FALSE)","v":0},{"$f":"VLOOKUP(学籍の記録!$P$8,四年単位数,MATCH(D52,科目順,0),FALSE)","v":""},"",{"$f":"VLOOKUP(学籍の記録!$P$8,学習の記録備考,MATCH(D52,科目順,0),FALSE)","v":""}]
[null,null,"公民","国際関係",null,null,{"$f":"VLOOKUP(学籍の記録!$P$8,一年評定,MATCH(D53,科目順,0),FALSE)","v":0},{"$f":"VLOOKUP(学籍の記録!$P$8,一年単位数,MATCH(D53,科目順,0),FALSE)","v":""},{"$f":"VLOOKUP(学籍の記録!$P$8,二年評定,MATCH(D53,科目順,0),FALSE)","v":0},{"$f":"VLOOKUP(学籍の記録!$P$8,二年単位数,MATCH(D53,科目順,0),FALSE)","v":""},{"$f":"VLOOKUP(学籍の記録!$P$8,三年評定,MATCH(D53,科目順,0),FALSE)","v":0},{"$f":"VLOOKUP(学籍の記録!$P$8,三年単位数,MATCH(D53,科目順,0),FALSE)","v":""},{"$f":"VLOOKUP(学籍の記録!$P$8,四年評定,MATCH(D53,科目順,0),FALSE)","v":0},{"$f":"VLOOKUP(学籍の記録!$P$8,四年単位数,MATCH(D53,科目順,0),FALSE)","v":""},"",{"$f":"VLOOKUP(学籍の記録!$P$8,学習の記録備考,MATCH(D53,科目順,0),FALSE)","v":""}]
[null,null,"体育","スポーツⅡ",null,null,{"$f":"VLOOKUP(学籍の記録!$P$8,一年評定,MATCH(D54,科目順,0),FALSE)","v":0},{"$f":"VLOOKUP(学籍の記録!$P$8,一年単位数,MATCH(D54,科目順,0),FALSE)","v":""},{"$f":"VLOOKUP(学籍の記録!$P$8,二年評定,MATCH(D54,科目順,0),FALSE)","v":0},{"$f":"VLOOKUP(学籍の記録!$P$8,二年単位数,MATCH(D54,科目順,0),FALSE)","v":""},{"$f":"VLOOKUP(学籍の記録!$P$8,三年評定,MATCH(D54,科目順,0),FALSE)","v":0},{"$f":"VLOOKUP(学籍の記録!$P$8,三年単位数,MATCH(D54,科目順,0),FALSE)","v":""},{"$f":"VLOOKUP(学籍の記録!$P$8,四年評定,MATCH(D54,科目順,0),FALSE)","v":0},{"$f":"VLOOKUP(学籍の記録!$P$8,四年単位数,MATCH(D54,科目順,0),FALSE)","v":""},"",{"$f":"VLOOKUP(学籍の記録!$P$8,学習の記録備考,MATCH(D54,科目順,0),FALSE)","v":""}]
[null,null,"音楽","器楽",null,null,{"$f":"VLOOKUP(学籍の記録!$P$8,一年評定,MATCH(D55,科目順,0),FALSE)","v":0},{"$f":"VLOOKUP(学籍の記録!$P$8,一年単位数,MATCH(D55,科目順,0),FALSE)","v":""},{"$f":"VLOOKUP(学籍の記録!$P$8,二年評定,MATCH(D55,科目順,0),FALSE)","v":0},{"$f":"VLOOKUP(学籍の記録!$P$8,二年単位数,MATCH(D55,科目順,0),FALSE)","v":""},{"$f":"VLOOKUP(学籍の記録!$P$8,三年評定,MATCH(D55,科目順,0),FALSE)","v":0},{"$f":"VLOOKUP(学籍の記録!$P$8,三年単位数,MATCH(D55,科目順,0),FALSE)","v":""},{"$f":"VLOOKUP(学籍の記録!$P$8,四年評定,MATCH(D55,科目順,0),FALSE)","v":0},{"$f":"VLOOKUP(学籍の記録!$P$8,四年単位数,MATCH(D55,科目順,0),FALSE)","v":""},"",{"$f":"VLOOKUP(学籍の記録!$P$8,学習の記録備考,MATCH(D55,科目順,0),FALSE)","v":""}]
[null,null,"美術","絵画",null,null,{"$f":"VLOOKUP(学籍の記録!$P$8,一年評定,MATCH(D56,科目順,0),FALSE)","v":0},{"$f":"VLOOKUP(学籍の記録!$P$8,一年単位数,MATCH(D56,科目順,0),FALSE)","v":""},{"$f":"VLOOKUP(学籍の記録!$P$8,二年評定,MATCH(D56,科目順,0),FALSE)","v":0},{"$f":"VLOOKUP(学籍の記録!$P$8,二年単位数,MATCH(D56,科目順,0),FALSE)","v":""},{"$f":"VLOOKUP(学籍の記録!$P$8,三年評定,MATCH(D56,科目順,0),FALSE)","v":0},{"$f":"VLOOKUP(学籍の記録!$P$8,三年単位数,MATCH(D56,科目順,0),FALSE)","v":""},{"$f":"VLOOKUP(学籍の記録!$P$8,四年評定,MATCH(D56,科目順,0),FALSE)","v":0},{"$f":"VLOOKUP(学籍の記録!$P$8,四年単位数,MATCH(D56,科目順,0),FALSE)","v":""},"",{"$f":"VLOOKUP(学籍の記録!$P$8,学習の記録備考,MATCH(D56,科目順,0),FALSE)","v":""}]
[null,null,"書道","実用の書",null,null,{"$f":"VLOOKUP(学籍の記録!$P$8,一年評定,MATCH(D57,科目順,0),FALSE)","v":0},{"$f":"VLOOKUP(学籍の記録!$P$8,一年単位数,MATCH(D57,科目順,0),FALSE)","v":""},{"$f":"VLOOKUP(学籍の記録!$P$8,二年評定,MATCH(D57,科目順,0),FALSE)","v":0},{"$f":"VLOOKUP(学籍の記録!$P$8,二年単位数,MATCH(D57,科目順,0),FALSE)","v":""},{"$f":"VLOOKUP(学籍の記録!$P$8,三年評定,MATCH(D57,科目順,0),FALSE)","v":0},{"$f":"VLOOKUP(学籍の記録!$P$8,三年単位数,MATCH(D57,科目順,0),FALSE)","v":""},{"$f":"VLOOKUP(学籍の記録!$P$8,四年評定,MATCH(D57,科目順,0),FALSE)","v":0},{"$f":"VLOOKUP(学籍の記録!$P$8,四年単位数,MATCH(D57,科目順,0),FALSE)","v":""},"",{"$f":"VLOOKUP(学籍の記録!$P$8,学習の記録備考,MATCH(D57,科目順,0),FALSE)","v":""}]
[null,null,"家庭","発達と保育",null,null,{"$f":"VLOOKUP(学籍の記録!$P$8,一年評定,MATCH(D58,科目順,0),FALSE)","v":0},{"$f":"VLOOKUP(学籍の記録!$P$8,一年単位数,MATCH(D58,科目順,0),FALSE)","v":""},{"$f":"VLOOKUP(学籍の記録!$P$8,二年評定,MATCH(D58,科目順,0),FALSE)","v":0},{"$f":"VLOOKUP(学籍の記録!$P$8,二年単位数,MATCH(D58,科目順,0),FALSE)","v":""},{"$f":"VLOOKUP(学籍の記録!$P$8,三年評定,MATCH(D58,科目順,0),FALSE)","v":0},{"$f":"VLOOKUP(学籍の記録!$P$8,三年単位数,MATCH(D58,科目順,0),FALSE)","v":""},{"$f":"VLOOKUP(学籍の記録!$P$8,四年評定,MATCH(D58,科目順,0),FALSE)","v":0},{"$f":"VLOOKUP(学籍の記録!$P$8,四年単位数,MATCH(D58,科目順,0),FALSE)","v":""},"",{"$f":"VLOOKUP(学籍の記録!$P$8,学習の記録備考,MATCH(D58,科目順,0),FALSE)","v":""}]
[null,null,null,"リビングデザイン",null,null,{"$f":"VLOOKUP(学籍の記録!$P$8,一年評定,MATCH(D59,科目順,0),FALSE)","v":0},{"$f":"VLOOKUP(学籍の記録!$P$8,一年単位数,MATCH(D59,科目順,0),FALSE)","v":""},{"$f":"VLOOKUP(学籍の記録!$P$8,二年評定,MATCH(D59,科目順,0),FALSE)","v":0},{"$f":"VLOOKUP(学籍の記録!$P$8,二年単位数,MATCH(D59,科目順,0),FALSE)","v":""},{"$f":"VLOOKUP(学籍の記録!$P$8,三年評定,MATCH(D59,科目順,0),FALSE)","v":0},{"$f":"VLOOKUP(学籍の記録!$P$8,三年単位数,MATCH(D59,科目順,0),FALSE)","v":""},{"$f":"VLOOKUP(学籍の記録!$P$8,四年評定,MATCH(D59,科目順,0),FALSE)","v":0},{"$f":"VLOOKUP(学籍の記録!$P$8,四年単位数,MATCH(D59,科目順,0),FALSE)","v":""},"",{"$f":"VLOOKUP(学籍の記録!$P$8,学習の記録備考,MATCH(D59,科目順,0),FALSE)","v":""}]
[null,null,null,"被服製作",null,null,{"$f":"VLOOKUP(学籍の記録!$P$8,一年評定,MATCH(D60,科目順,0),FALSE)","v":0},{"$f":"VLOOKUP(学籍の記録!$P$8,一年単位数,MATCH(D60,科目順,0),FALSE)","v":""},{"$f":"VLOOKUP(学籍の記録!$P$8,二年評定,MATCH(D60,科目順,0),FALSE)","v":0},{"$f":"VLOOKUP(学籍の記録!$P$8,二年単位数,MATCH(D60,科目順,0),FALSE)","v":""},{"$f":"VLOOKUP(学籍の記録!$P$8,三年評定,MATCH(D60,科目順,0),FALSE)","v":0},{"$f":"VLOOKUP(学籍の記録!$P$8,三年単位数,MATCH(D60,科目順,0),FALSE)","v":""},{"$f":"VLOOKUP(学籍の記録!$P$8,四年評定,MATCH(D60,科目順,0),FALSE)","v":0},{"$f":"VLOOKUP(学籍の記録!$P$8,四年単位数,MATCH(D60,科目順,0),FALSE)","v":""},"",{"$f":"VLOOKUP(学籍の記録!$P$8,学習の記録備考,MATCH(D60,科目順,0),FALSE)","v":""}]
[null,null,null,"服飾手芸",null,null,{"$f":"VLOOKUP(学籍の記録!$P$8,一年評定,MATCH(D61,科目順,0),FALSE)","v":0},{"$f":"VLOOKUP(学籍の記録!$P$8,一年単位数,MATCH(D61,科目順,0),FALSE)","v":""},{"$f":"VLOOKUP(学籍の記録!$P$8,二年評定,MATCH(D61,科目順,0),FALSE)","v":0},{"$f":"VLOOKUP(学籍の記録!$P$8,二年単位数,MATCH(D61,科目順,0),FALSE)","v":""},{"$f":"VLOOKUP(学籍の記録!$P$8,三年評定,MATCH(D61,科目順,0),FALSE)","v":0},{"$f":"VLOOKUP(学籍の記録!$P$8,三年単位数,MATCH(D61,科目順,0),FALSE)","v":""},{"$f":"VLOOKUP(学籍の記録!$P$8,四年評定,MATCH(D61,科目順,0),FALSE)","v":0},{"$f":"VLOOKUP(学籍の記録!$P$8,四年単位数,MATCH(D61,科目順,0),FALSE)","v":""},"",{"$f":"VLOOKUP(学籍の記録!$P$8,学習の記録備考,MATCH(D61,科目順,0),FALSE)","v":""}]
[null,null,null,"フードデザイン",null,null,{"$f":"VLOOKUP(学籍の記録!$P$8,一年評定,MATCH(D62,科目順,0),FALSE)","v":0},{"$f":"VLOOKUP(学籍の記録!$P$8,一年単位数,MATCH(D62,科目順,0),FALSE)","v":""},{"$f":"VLOOKUP(学籍の記録!$P$8,二年評定,MATCH(D62,科目順,0),FALSE)","v":0},{"$f":"VLOOKUP(学籍の記録!$P$8,二年単位数,MATCH(D62,科目順,0),FALSE)","v":""},{"$f":"VLOOKUP(学籍の記録!$P$8,三年評定,MATCH(D62,科目順,0),FALSE)","v":0},{"$f":"VLOOKUP(学籍の記録!$P$8,三年単位数,MATCH(D62,科目順,0),FALSE)","v":""},{"$f":"VLOOKUP(学籍の記録!$P$8,四年評定,MATCH(D62,科目順,0),FALSE)","v":0},{"$f":"VLOOKUP(学籍の記録!$P$8,四年単位数,MATCH(D62,科目順,0),FALSE)","v":""},"",{"$f":"VLOOKUP(学籍の記録!$P$8,学習の記録備考,MATCH(D62,科目順,0),FALSE)","v":""}]
[null,null,"英語","異文化理解",null,null,{"$f":"VLOOKUP(学籍の記録!$P$8,一年評定,MATCH(D63,科目順,0),FALSE)","v":0},{"$f":"VLOOKUP(学籍の記録!$P$8,一年単位数,MATCH(D63,科目順,0),FALSE)","v":""},{"$f":"VLOOKUP(学籍の記録!$P$8,二年評定,MATCH(D63,科目順,0),FALSE)","v":0},{"$f":"VLOOKUP(学籍の記録!$P$8,二年単位数,MATCH(D63,科目順,0),FALSE)","v":""},{"$f":"VLOOKUP(学籍の記録!$P$8,三年評定,MATCH(D63,科目順,0),FALSE)","v":0},{"$f":"VLOOKUP(学籍の記録!$P$8,三年単位数,MATCH(D63,科目順,0),FALSE)","v":""},{"$f":"VLOOKUP(学籍の記録!$P$8,四年評定,MATCH(D63,科目順,0),FALSE)","v":0},{"$f":"VLOOKUP(学籍の記録!$P$8,四年単位数,MATCH(D63,科目順,0),FALSE)","v":""},"",{"$f":"VLOOKUP(学籍の記録!$P$8,学習の記録備考,MATCH(D63,科目順,0),FALSE)","v":""}]
[null,null,null,"生活英語",null,null,{"$f":"VLOOKUP(学籍の記録!$P$8,一年評定,MATCH(D64,科目順,0),FALSE)","v":0},{"$f":"VLOOKUP(学籍の記録!$P$8,一年単位数,MATCH(D64,科目順,0),FALSE)","v":""},{"$f":"VLOOKUP(学籍の記録!$P$8,二年評定,MATCH(D64,科目順,0),FALSE)","v":0},{"$f":"VLOOKUP(学籍の記録!$P$8,二年単位数,MATCH(D64,科目順,0),FALSE)","v":""},{"$f":"VLOOKUP(学籍の記録!$P$8,三年評定,MATCH(D64,科目順,0),FALSE)","v":0},{"$f":"VLOOKUP(学籍の記録!$P$8,三年単位数,MATCH(D64,科目順,0),FALSE)","v":""},{"$f":"VLOOKUP(学籍の記録!$P$8,四年評定,MATCH(D64,科目順,0),FALSE)","v":0},{"$f":"VLOOKUP(学籍の記録!$P$8,四年単位数,MATCH(D64,科目順,0),FALSE)","v":""},"",{"$f":"VLOOKUP(学籍の記録!$P$8,学習の記録備考,MATCH(D64,科目順,0),FALSE)","v":""}]
[null,null,null,"時事英語",null,null,{"$f":"VLOOKUP(学籍の記録!$P$8,一年評定,MATCH(D65,科目順,0),FALSE)","v":0},{"$f":"VLOOKUP(学籍の記録!$P$8,一年単位数,MATCH(D65,科目順,0),FALSE)","v":""},{"$f":"VLOOKUP(学籍の記録!$P$8,二年評定,MATCH(D65,科目順,0),FALSE)","v":0},{"$f":"VLOOKUP(学籍の記録!$P$8,二年単位数,MATCH(D65,科目順,0),FALSE)","v":""},{"$f":"VLOOKUP(学籍の記録!$P$8,三年評定,MATCH(D65,科目順,0),FALSE)","v":0},{"$f":"VLOOKUP(学籍の記録!$P$8,三年単位数,MATCH(D65,科目順,0),FALSE)","v":""},{"$f":"VLOOKUP(学籍の記録!$P$8,四年評定,MATCH(D65,科目順,0),FALSE)","v":0},{"$f":"VLOOKUP(学籍の記録!$P$8,四年単位数,MATCH(D65,科目順,0),FALSE)","v":""},"",{"$f":"VLOOKUP(学籍の記録!$P$8,学習の記録備考,MATCH(D65,科目順,0),FALSE)","v":""}]
[null,null,null,null,null,null,null,null,null,null,null,null,null,null,""]
[null,"総合的な学習の時間",null,null,null,null,null,{"$f":"VLOOKUP(学籍の記録!$P$8,一年単位数,MATCH(\"総学\",科目順,0),FALSE)","v":1},null,{"$f":"VLOOKUP(学籍の記録!$P$8,二年単位数,MATCH(\"総学\",科目順,0),FALSE)","v":0},null,{"$f":"VLOOKUP(学籍の記録!$P$8,三年単位数,MATCH(\"総学\",科目順,0),FALSE)","v":0},null,{"$f":"VLOOKUP(学籍の記録!$P$8,四年単位数,MATCH(\"総学\",科目順,0),FALSE)","v":0},1]
[null,"小計",null,null,null,null,null,{"$f":"IF(SUM(H10:H67)<>0,SUM(H10:H67),\"\")","v":24},null,{"$f":"IF(SUM(J10:J67)<>0,SUM(J10:J67),\"\")","v":""},null,{"$f":"IF(SUM(L10:L67)<>0,SUM(L10:L67),\"\")","v":""},null,{"$f":"IF(SUM(N10:N67)<>0,SUM(N10:N67),\"\")","v":""},24]
[null,"留学",null,null,null,null,null,{"$f":"VLOOKUP(学籍の記録!$P$8,一年単位数,MATCH(\"留学\",科目順,0),FALSE)","v":0},null,{"$f":"VLOOKUP(学籍の記録!$P$8,二年単位数,MATCH(\"留学\",科目順,0),FALSE)","v":0},null,{"$f":"VLOOKUP(学籍の記録!$P$8,三年単位数,MATCH(\"留学\",科目順,0),FALSE)","v":0},null,{"$f":"VLOOKUP(学籍の記録!$P$8,四年単位数,MATCH(\"留学\",科目順,0),FALSE)","v":0},0]
[null,"合計",null,null,null,null,null,{"$f":"SUM(H68:H69)","v":24},null,{"$f":"IF(SUM(J68:J69)<>0,SUM(J68:J69),\"\")","v":""},null,{"$f":"IF(SUM(L68:L69)<>0,SUM(L68:L69),\"\")","v":""},null,{"$f":"IF(SUM(N68:N69)<>0,SUM(N68:N69),\"\")","v":""},24]

{"sheet":"修得単位数の記録（卒業、転学時）","index":5,"n_rows":27,"n_cols":18,"rows_kept":27,"cut":false,"hidden":false,"merged":[[9,15,13,15],[4,14,20,14],[10,9,10,11],[5,9,5,11],[6,9,6,11],[22,14,22,16],[24,14,24,16],[26,9,26,11],[22,9,22,11],[14,15,16,15],[17,15,19,15],[14,9,14,11],[21,14,21,17],[1,1,1,17],[2,1,2,3],[5,3,5,4],[6,3,6,4],[4,3,4,4],[2,4,2,8],[4,1,26,1],[24,9,24,11],[25,9,25,11],[18,9,18,11],[19,9,19,11],[20,9,20,11],[4,9,4,11],[8,9,8,11],[9,9,9,11],[26,14,26,16],[24,3,24,4],[25,3,25,4],[7,9,7,11],[21,9,21,11],[12,9,12,11],[13,9,13,11],[5,8,7,8],[17,8,25,8],[8,8,10,8],[11,8,12,8],[13,8,14,8],[17,3,17,4],[18,3,18,4],[19,3,19,4],[22,3,22,4],[23,3,23,4],[5,2,8,2],[9,2,12,2],[13,2,14,2],[15,2,19,2],[20,2,24,2],[7,3,7,4],[10,3,10,4],[8,3,8,4],[9,3,9,4],[11,3,11,4],[20,3,20,4],[25,2,26,2],[15,9,15,11],[16,9,16,11],[17,9,17,11],[26,3,26,4],[21,3,21,4],[17,7,26,7],[4,7,16,7],[23,9,23,11],[11,9,11,11],[12,3,12,4],[13,3,13,4],[14,3,14,4],[15,3,15,4],[16,3,16,4]]}
[]
[null,"各教科・科目等の修得単位数の記録"]
[null,"生徒氏名",null,null,{"$f":"VLOOKUP(学籍の記録!P8,生徒データリスト,MATCH(\"生徒氏名\",生徒データ!7:7,0),FALSE)","v":"生徒氏名"}]
[]
[null,"普通教育に関する各教科・科目","教科","科目",null,"修得単位\n数の計",null,"普通教育に関する各教科・科目","教科","科目",null,null,"修得単位\n数の計",null,"専門教育に関する各教科・科目","教科","科目","修得単位\n数の計"]
[null,null,"国語","国語表現Ⅰ",null,{"$f":"VLOOKUP(学籍の記録!$P$8,修得単位数データ,MATCH(D6,生徒データ!$V$7:$CG$7,0),FALSE)","v":""},null,null,"芸術",{"$f":"VLOOKUP(学籍の記録!$P$8,修得単位数データ,2,FALSE)&\"Ⅰ\"","v":"音楽Ⅰ"},null,null,{"$f":"VLOOKUP(学籍の記録!$P$8,修得単位数データ,MATCH(\"芸術Ⅰ\",生徒データ!$V$7:$CG$7,0),FALSE)","v":2},null,null,"体育","スポーツⅡ",{"$f":"VLOOKUP(学籍の記録!$P$8,修得単位数データ,MATCH(Q6,生徒データ!$V$7:$CG$7,0),FALSE)","v":""}]
[null,null,null,"国語総合",null,{"$f":"VLOOKUP(学籍の記録!$P$8,修得単位数データ,MATCH(D7,生徒データ!$V$7:$CG$7,0),FALSE)","v":3},null,null,null,{"$f":"VLOOKUP(学籍の記録!$P$8,修得単位数データ,2,FALSE)&\"Ⅱ\"","v":"音楽Ⅱ"},null,null,{"$f":"VLOOKUP(学籍の記録!$P$8,修得単位数データ,MATCH(\"芸術Ⅱ\",生徒データ!$V$7:$CG$7,0),FALSE)","v":""},null,null,"音楽","器楽",{"$f":"VLOOKUP(学籍の記録!$P$8,修得単位数データ,MATCH(Q7,生徒データ!$V$7:$CG$7,0),FALSE)","v":""}]
[null,null,null,"現代文",null,{"$f":"VLOOKUP(学籍の記録!$P$8,修得単位数データ,MATCH(D8,生徒データ!$V$7:$CG$7,0),FALSE)","v":""},null,null,null,{"$f":"VLOOKUP(学籍の記録!$P$8,修得単位数データ,2,FALSE)&\"Ⅲ\"","v":"音楽Ⅲ"},null,null,{"$f":"VLOOKUP(学籍の記録!$P$8,修得単位数データ,MATCH(\"芸術Ⅲ\",生徒データ!$V$7:$CG$7,0),FALSE)","v":""},null,null,"美術","絵画",{"$f":"VLOOKUP(学籍の記録!$P$8,修得単位数データ,MATCH(Q8,生徒データ!$V$7:$CG$7,0),FALSE)","v":""}]
[null,null,null,"古典",null,{"$f":"VLOOKUP(学籍の記録!$P$8,修得単位数データ,MATCH(D9,生徒データ!$V$7:$CG$7,0),FALSE)","v":""},null,null,"外国語","オーラル・コミュニケーションⅠ",null,null,{"$f":"VLOOKUP(学籍の記録!$P$8,修得単位数データ,MATCH(J9,生徒データ!$V$7:$CG$7,0),FALSE)","v":""},null,null,"書道","実用の書",{"$f":"VLOOKUP(学籍の記録!$P$8,修得単位数データ,MATCH(Q9,生徒データ!$V$7:$CG$7,0),FALSE)","v":""}]
[null,null,"地理歴史","地理Ａ",null,{"$f":"VLOOKUP(学籍の記録!$P$8,修得単位数データ,MATCH(D10,生徒データ!$V$7:$CG$7,0),FALSE)","v":""},null,null,null,"英語Ⅰ",null,null,{"$f":"VLOOKUP(学籍の記録!$P$8,修得単位数データ,MATCH(J10,生徒データ!$V$7:$CG$7,0),FALSE)","v":"(3)"},null,null,"家庭","発達と保育",{"$f":"VLOOKUP(学籍の記録!$P$8,修得単位数データ,MATCH(Q10,生徒データ!$V$7:$CG$7,0),FALSE)","v":""}]
[null,null,null,"世界史Ｂ",null,{"$f":"VLOOKUP(学籍の記録!$P$8,修得単位数データ,MATCH(D11,生徒データ!$V$7:$CG$7,0),FALSE)","v":""},null,null,null,"英語Ⅱ",null,null,{"$f":"VLOOKUP(学籍の記録!$P$8,修得単位数データ,MATCH(J11,生徒データ!$V$7:$CG$7,0),FALSE)","v":""},null,null,null,"リビングデザイン",{"$f":"VLOOKUP(学籍の記録!$P$8,修得単位数データ,MATCH(Q11,生徒データ!$V$7:$CG$7,0),FALSE)","v":""}]
[null,null,null,"日本史Ａ",null,{"$f":"VLOOKUP(学籍の記録!$P$8,修得単位数データ,MATCH(D12,生徒データ!$V$7:$CG$7,0),FALSE)","v":""},null,null,"家庭","家庭基礎",null,null,{"$f":"VLOOKUP(学籍の記録!$P$8,修得単位数データ,MATCH(J12,生徒データ!$V$7:$CG$7,0),FALSE)","v":""},null,null,null,"被服製作",{"$f":"VLOOKUP(学籍の記録!$P$8,修得単位数データ,MATCH(Q12,生徒データ!$V$7:$CG$7,0),FALSE)","v":""}]
[null,null,null,"日本史Ｂ",null,{"$f":"VLOOKUP(学籍の記録!$P$8,修得単位数データ,MATCH(D13,生徒データ!$V$7:$CG$7,0),FALSE)","v":""},null,null,null,"家庭総合",null,null,{"$f":"VLOOKUP(学籍の記録!$P$8,修得単位数データ,MATCH(J13,生徒データ!$V$7:$CG$7,0),FALSE)","v":"(2)"},null,null,null,"服飾手芸",{"$f":"VLOOKUP(学籍の記録!$P$8,修得単位数データ,MATCH(Q13,生徒データ!$V$7:$CG$7,0),FALSE)","v":""}]
[null,null,"公民","現代社会",null,{"$f":"VLOOKUP(学籍の記録!$P$8,修得単位数データ,MATCH(D14,生徒データ!$V$7:$CG$7,0),FALSE)","v":3},null,null,"情報","情報Ａ",null,null,{"$f":"VLOOKUP(学籍の記録!$P$8,修得単位数データ,MATCH(J14,生徒データ!$V$7:$CG$7,0),FALSE)","v":""},null,null,null,"フードデザイン",{"$f":"VLOOKUP(学籍の記録!$P$8,修得単位数データ,MATCH(Q14,生徒データ!$V$7:$CG$7,0),FALSE)","v":""}]
[null,null,null,"政治・経済",null,{"$f":"VLOOKUP(学籍の記録!$P$8,修得単位数データ,MATCH(D15,生徒データ!$V$7:$CG$7,0),FALSE)","v":""},null,null,null,"情報Ｃ",null,null,{"$f":"VLOOKUP(学籍の記録!$P$8,修得単位数データ,MATCH(J15,生徒データ!$V$7:$CG$7,0),FALSE)","v":""},null,null,"英語","異文化理解",{"$f":"VLOOKUP(学籍の記録!$P$8,修得単位数データ,MATCH(Q15,生徒データ!$V$7:$CG$7,0),FALSE)","v":""}]
[null,null,"数学","数学Ⅰ",null,{"$f":"VLOOKUP(学籍の記録!$P$8,修得単位数データ,MATCH(D16,生徒データ!$V$7:$CG$7,0),FALSE)","v":3},null,null,"学校設\n定教科",null,null,null,null,null,null,null,"生活英語",{"$f":"VLOOKUP(学籍の記録!$P$8,修得単位数データ,MATCH(Q16,生徒データ!$V$7:$CG$7,0),FALSE)","v":""}]
[null,null,null,"数学Ⅱ",null,{"$f":"VLOOKUP(学籍の記録!$P$8,修得単位数データ,MATCH(D17,生徒データ!$V$7:$CG$7,0),FALSE)","v":""},null,null,null,null,null,null,null,null,null,null,"時事英語",{"$f":"VLOOKUP(学籍の記録!$P$8,修得単位数データ,MATCH(Q17,生徒データ!$V$7:$CG$7,0),FALSE)","v":""}]
[null,null,null,"数学Ⅲ",null,{"$f":"VLOOKUP(学籍の記録!$P$8,修得単位数データ,MATCH(D18,生徒データ!$V$7:$CG$7,0),FALSE)","v":""},null,"専門教育に関する各教科・科目","商業","ビジネス基礎",null,null,{"$f":"VLOOKUP(学籍の記録!$P$8,修得単位数データ,MATCH(J18,生徒データ!$V$7:$CG$7,0),FALSE)","v":""}]
[null,null,null,"数学Ａ",null,{"$f":"VLOOKUP(学籍の記録!$P$8,修得単位数データ,MATCH(D19,生徒データ!$V$7:$CG$7,0),FALSE)","v":""},null,null,null,"課題研究",null,null,{"$f":"VLOOKUP(学籍の記録!$P$8,修得単位数データ,MATCH(J19,生徒データ!$V$7:$CG$7,0),FALSE)","v":""}]
[null,null,null,"数学Ｂ",null,{"$f":"VLOOKUP(学籍の記録!$P$8,修得単位数データ,MATCH(D20,生徒データ!$V$7:$CG$7,0),FALSE)","v":""},null,null,null,"商業技術",null,null,{"$f":"VLOOKUP(学籍の記録!$P$8,修得単位数データ,MATCH(J20,生徒データ!$V$7:$CG$7,0),FALSE)","v":""}]
[null,null,"理科","科学と人間生活",null,{"$f":"VLOOKUP(学籍の記録!$P$8,修得単位数データ,MATCH(D21,生徒データ!$V$7:$CG$7,0),FALSE)","v":""},null,null,null,"簿記",null,null,{"$f":"VLOOKUP(学籍の記録!$P$8,修得単位数データ,MATCH(J21,生徒データ!$V$7:$CG$7,0),FALSE)","v":4},null,null,"学校設\n定教科"]
[null,null,null,"化学基礎",null,{"$f":"VLOOKUP(学籍の記録!$P$8,修得単位数データ,MATCH(D22,生徒データ!$V$7:$CG$7,0),FALSE)","v":""},null,null,null,"会計",null,null,{"$f":"VLOOKUP(学籍の記録!$P$8,修得単位数データ,MATCH(J22,生徒データ!$V$7:$CG$7,0),FALSE)","v":""},null,"(  )内の数字は履修した単位数である"]
[null,null,null,"化学",null,{"$f":"VLOOKUP(学籍の記録!$P$8,修得単位数データ,MATCH(D23,生徒データ!$V$7:$CG$7,0),FALSE)","v":""},null,null,null,"原価計算",null,null,{"$f":"VLOOKUP(学籍の記録!$P$8,修得単位数データ,MATCH(J23,生徒データ!$V$7:$CG$7,0),FALSE)","v":""},null,"総合的な学習の時間\nの修得単位数",null,null,{"$f":"VLOOKUP(学籍の記録!$P$8,修得単位数データ,MATCH(\"総学\",生徒データ!$V$7:$CG$7,0),FALSE)","v":1}]
[null,null,null,"生物基礎",null,{"$f":"VLOOKUP(学籍の記録!$P$8,修得単位数データ,MATCH(D24,生徒データ!$V$7:$CG$7,0),FALSE)","v":""},null,null,null,"情報処理",null,null,{"$f":"VLOOKUP(学籍の記録!$P$8,修得単位数データ,MATCH(J24,生徒データ!$V$7:$CG$7,0),FALSE)","v":4}]
[null,null,null,"生物",null,{"$f":"VLOOKUP(学籍の記録!$P$8,修得単位数データ,MATCH(D25,生徒データ!$V$7:$CG$7,0),FALSE)","v":""},null,null,null,"ビジネス情報",null,null,{"$f":"VLOOKUP(学籍の記録!$P$8,修得単位数データ,MATCH(J25,生徒データ!$V$7:$CG$7,0),FALSE)","v":""},null,"留学による修得単位数",null,null,{"$f":"VLOOKUP(学籍の記録!$P$8,修得単位数データ,MATCH(\"留学\",生徒データ!$V$7:$CG$7,0),FALSE)","v":0}]
[null,null,"保健体育","体育",null,{"$f":"VLOOKUP(学籍の記録!$P$8,修得単位数データ,MATCH(D26,生徒データ!$V$7:$CG$7,0),FALSE)","v":3},null,null,null,"文書デザイン",null,null,{"$f":"VLOOKUP(学籍の記録!$P$8,修得単位数データ,MATCH(J26,生徒データ!$V$7:$CG$7,0),FALSE)","v":""}]
[null,null,null,"保健",null,{"$f":"VLOOKUP(学籍の記録!$P$8,修得単位数データ,MATCH(D27,生徒データ!$V$7:$CG$7,0),FALSE)","v":1},null,null,"公民","国際関係",null,null,{"$f":"VLOOKUP(学籍の記録!$P$8,修得単位数データ,MATCH(J27,生徒データ!$V$7:$CG$7,0),FALSE)","v":""},null,"合計",null,null,{"$f":"SUM(F6:F27,M6:M27,R6:R25)","v":24}]

{"sheet":"所見データ","index":6,"n_rows":161,"n_cols":7,"rows_kept":161,"cut":false,"hidden":false,"merged":[]}
[null,"番号","内容"]
[null,1,"基本的な生活習慣が身についている生徒で、自分なりの考えをしっかり持っている。責任感も強く、物事に対して前向きに取り組んでいる生徒である。"]
[null,2,"明朗、快活なスポーツマンで、協調性もある。また、友人からの信頼も厚い。自己の目標に向かって地道な努力をすることのできる生徒である。"]
[null,3,"３年間皆勤が示すように、生活習慣の確立された真面目な人物である。人柄も優しく穏やかでおっとりした中に、しんの強さを持っている。"]
[null,4,"あまり目立たないが、穏やかでおおらかな人柄である。負けず嫌いであるとともに粘り強い性格である。向上の意欲が高く、目的意識をはっきりと持って努力を継続する勤勉な生徒である。"]
[null,5,"あらゆる面でしっかり行動できる生徒である。周りからの信望も厚い。おだやかな性格で、身だしなみもいつも情潔な印象を受ける。自分のやるべきことをしっかりわきまえ、確実に果たすことができる。"]
[null,6,"いつも笑顔をたやさない穏やかな人柄で、芯が非常にしっかりしており、明確な目的意識と豊富な読書量からなる鋭い問題意識を持った、可能性あふれる人物である。"]
[null,7,"おっとりして、素直である。温厚でクラスの友人関係もよい。目標に向かって最後までこつこつと努力することができる。地道な努力家である。"]
[null,8,"おとなしいが、内面はしっかりしており、冷静に行動できる。長い入院生活だったが、完治して元気に登校して勉強の遅れを取り戻しつつある。"]
[null,9,"おとなしいが、真面目で凡帳面な性格である。内面は強く、誠実に人に接する。責任感の強い、信頼のおける人物である。クラスの諸活動にも協力的に参加した。"]
[null,10,"おとなしいが、芯はしっかりしており、まじめである。何事に対しても前向きに取り組み、最後までやりとおすことのできる努力家である。責任感がある。"]
[null,11,"おとなしいが優しく思いやりのある人柄で、芯のしっかりした信頼できる生徒である。任された仕事には誠実に取り組み応えようとする。自己の目標に向けて努力を怠らない人物である。"]
[null,12,"おとなしく、あまり目立たないが、芯はしっかりしている。向上心が旺盛で学習に対しても前向きに取り組んでいる。地道な努力家である。責任感がある。"]
[null,13,"おとなしく、まじめである。地道な努力家であり、やりはじめたことは最後までやりぬくことができる。他人に対する思いやりがあり、クラスでも好かれている。"]
[null,14,"おとなしく、まじめな性格でクラスでも好かれている。地道な努力家であり、目標に向かって最後までこつこつと努力することができる。責任感が強く行動も安定している。"]
[null,15,"温厚な性格の持ち主で、クラスでも好かれている。他人に対する思いやりがある。責任感があり、与えられた仕事は最後までやりぬくことができる。"]
[null,16,"おとなしく、口数は少ないが素直で気持ちの優しい生徒である。自分の興味のあるものには熱中して打ち込むことができる。また、係括動等の仕事もきちんと果たした。"]
[null,17,"おとなしく、素直で、ひたむきな努力家である。集団における自己の役割をよく理解し、責任を果たすことができる。人に対する思いやりもあり、どんな人にも優しく接することができる。"]
[null,18,"おとなしく、素直で、周囲の人の意見にきちんと耳をかたむけることができる生徒である。協調性もあり、クラスでの友人も多い。自分の目標に向かって努力を重ねている。"]
[null,19,"おとなしく物静かであるが、真面目で責任感の強い生徒である。自分の役割をしっかりと自覚して実行する人物で安心して物事を任せることができる。"]
[null,20,"スポーツの得意な、明るく活動的な生徒である。友人も多く、好かれている。物事に前向きな気持ちで臨み、目的意識をもって一生慰命に頑張る人物である。"]
[null,21,"ひょうきんで、明るく、クラスでも人気がある。協調性があり、周囲の人の意見を尊重しながら行動することができる。地道な努力家である。"]
[null,22,"まじめで、おとなしく、あまり目立たないが芯はしっかりしており、自分の行動に責任を持っている。温厚な性格でクラスでも好かれている。地道な努力家である。"]
[null,23,"まめじで、素直な性格で、協調性がありクラスでも人望が厚い。地道な努力家であり、やりはめじたことは最後までやりぬくことができる。責任感が強く安定感がある。"]
[null,24,"まじめであり、何事に対しても前向きに取り組むことができる。責任感があり、与えられた仕事は最後までやりぬくことができる。地道な努力家である。"]
[null,25,"まじめであり、何事も真剣に考え、堅実に行動する。芯が強く、向上心が旺盛で何事にも諦めずにコツコツと取り組み、学習に対しても前向きに取り組んでいる。"]
[null,26,"まじめであり、何事も真剣に考え、堅実に行動する。芯が強く、向上心が旺盛で学習に対しても前向きに取り組んでいる。地道な努力家である。責任感がある。"]
[null,27,"まじめであり、何事も真剣に考え、冷静に行動する。性格は温厚で人当たりがよい。地道な努力家であり、目標を持ち、はっきりと学習に対してもひたむきに努力している。"]
[null,28,"まじめでおとなしいが、周りに流されることなく、自分を見据えて行動できる。地道に努力するタイプである。一度遅刻したため、惜しくも皆勤を逃したが、生活面もしっかりしている。"]
[null,29,"まじめで人当たりがよく、素直な性格である。自分の決めた目標に向かって地道に努力し、粘り強く取り組む。協調性があり、クラスの友人関係も良好である。"]
[null,30,"まじめで人当たりがよく、明朗活発で誰とでも親しくでき、クラスでも友人が多い。地道な努力家であり、いったんはじめたことは最後までやりぬくことができる。"]
[null,31,"やさしく、他人を思いやる心を持つ生徒である。まじめであり、クラスでも人望が厚い。地道な努力家で、物事に根気強く取り組むことができる。"]
[null,32,"やさしく、他人を思いやる心を持つ生徒である。基本的生活習慣がしっかりと身に付き、まじめであり、クラスでも人望が厚い。地道な努力家で、物事に根気強く取り組むことができる。"]
[null,33,"一見、穏やかでおっとりした印象を受けるが、芯はしっかりしており、自分の意志が確固としている。また、興味の対象が多方面にわたり、自己の可能性を広げようとする向上心にあふれている。"]
[null,34,"穏やかでマイペースの生徒である。口数が少なく目立たないが、自立心は強く自分の考えを持って行動する。与えられた仕事はしっかりと果たす人物である。"]
[null,35,"穏やかで明るい性格である。真面目で責任感も強い。任された役割に一生懸命に取り組み努力する生徒で、物事を安心して任せることができる。各種行事にも積極的に参加し協力した。"]
[null,36,"穏やかで優しくおっとりした人柄であるが、成すべきことは着実にこなす努力家である。また、創造性にあふれ、文化祭のポスター・立て看板のデザインを一手に引き受け、すばらしい活躍をした。"]
[null,37,"穏やかで落ち着きがある。芯の強さをもっており、目標に向かって努力を惜しまない。人に対する思いやりもあり、どんな人にも優しく接することができる。"]
[null,38,"穏やかな人柄の真面目な生徒である。自分の興味のあることには熱意をもって取り組み集中力を発揮する。向上の意欲が高く自己の目的に向けての努力を怠らない。"]
[null,39,"穏やかな性格で、冷静に物事に対処することができる。責任感も強く、行事等にも協力的で、誠意を持って人に接することができる好感の持てる生徒である。自分の目標に向けて着実に努力している。"]
[null,40,"温厚で、集団の中ではあまり目立たないが、芯はしっかりしている。向上心が旺盛で学習に対しても前向きに取り組み、地道な努力家ある。責任感が強く安定感ある。"]
[null,41,"温厚で実直な人柄で、責任感も強い。クラスの係等においても自分の役割をしっかりと果たし、全体のまとまりにもよく協力した。自身の目標lご向けて前向きに取り組み努力する。"]
[null,42,"温厚で物静かな生徒で常に冷静沈着である。真面目で旺盛な探求心の持ち主で色々なことに興味を抱くとともに、熱意を持って取り組む。学習意欲も高い。"]
[null,43,"温厚で明るい生徒である。おとなしい性格であるが周囲に流されることなく自分のペースをしっかりと保って行動する。物事を冷静な視点で見つめ判断できる人物である。"]
[null,44,"温厚で落ちついた雰囲気の生徒である. 少々のことではへこたれない強い精神力を持っている。責任感があり、与えられた仕事は最後までやりぬくことができる。"]
[null,45,"温厚で落ち着いた人柄であり、何事も冷静に判断し行動することができる。芯は強く、自分の目的に向かって誠実かつ粘り強く努力できる。"]
[null,46,"温厚な性格で、行事等にも積極的に参加し、高校生活をより良いものにしようと努力している生徒である。自分なりの考えを持っており、目標に向けて意欲的に学習に取り組んでいる。"]
[null,47,"温厚な性格の持ち主で、常に周りに気を配り他人に対して優しく接することができる。責任感があり、与えられた仕事は最後までやりぬくことができる。地道な努力家である。"]
[null,48,"穏和で、素直である。人に対する思いやりがあり、どんな人にも優しく接するととができる。地道な努力家であり、目標に向かって努力を続けることができる。"]
[null,49,"温和で実直な人柄である。自分の意見を持って主体的に行動できる。何事にも積極的に取り組とむともに、粘り強く努力する生徒である。クラスの諸行事にも意欲的に参加した。"]
[null,50,"温和で真面目な性格である。責任感が強く、物事には常に一生懸命に取り組む生徒で周囲からも信頼を得ている。諸行事、クラスの活動等にもよく協力した。"]
[null,51,"温和で優しい生徒である。責任感が強く、誠意をもって人に接する人物である。向学心が強く、常に前向きな姿勢で自己の目標に向けて努力を重ねている。"]
[null,52,"穏和な性格で、他人に対する思いやりのある生徒である。芯はしっかりしており、向上心が旺盛で学習、部活動に対しても前向きに取り組んでいる。"]
[null,53,"学習・部活動・学校行事すべてにわたり、全力を尽くし優れた成果を残した模範的生徒である。人間的にも明るく伸び伸びとした中に、確固たる意志と意欲を有しており、好感の持てる人物である。"]
[null,54,"活動的で明朗な性格で、友人にも恵まれている。物事に熱意を持って取り組み、努力する生徒である。任された役割をよく自覚して頑張る人物である。"]
[null,55,"基本的な生活習慣が身についており、節度ある行動をとることができる。謙虚な気持ちを持って、何事にも前向きに取り組んでいる生徒なので、級友からの信頼も厚い。"]
[null,56,"好奇心旺盛で色々なことに興味を持ち、明朗活発でクラスでも友人が多い。地道な努力家であり、集団の中でリーダーシップをとり、やりはじめたことは積極的に最後までやりぬくことができる。"]
[null,57,"思いやりのある優しい人柄で、他人に細かに気遣いをする生徒である。責任感が強く、自分の任された事には誠実に取り組み実行する。明確な目的意識を持って学業に取り組んでいる。"]
[null,58,"自分の考え方・価値観をしっかりと持っており、興味を持ったことに対してはとことんやり抜くことができる。また、人柄も温厚で社会性があり友人も多い。"]
[null,59,"自分の行動に責任をもち、けじめのある生徒である。また、協調性もあり、友人からの信頼も厚い。向上心も旺盛で学習にも意欲的に取り組んでいる。"]
[null,60,"自分の目標に向かって地道によく努力する。自己をわきまえ、しっかり行動できる。集団では目立たないが、裏方に徹することができるタイプである。"]
[null,61,"周囲と強調しながらも、マイペースを失わず、何事も自分で考え冷静に行動できる人物である。興味・関心の幅も広く、可能性にあふれでいる。"]
[null,62,"常に冷静で物静かな生徒である。真面目な性格で、自己の意見を持ち、はっきりと主張できる. 確かな目的意識を持って学業に取り組み、地道な努力を継続している。"]
[null,63,"心優しく穏やかで、ひょうひょうとした独特な味わいを持つ人物で、多くの友人関係を築いた。また、芯は強く、こつこつと着実な努力もできる。"]
[null,64,"真面目で、責任感の強い頑張り屋である。基本的な生活習慣もしっかりしており、自分のなすべきことを誠意を持って果たすことができるので、級友からの信頼も厚い生徒である。"]
[null,65,"真面目で責任感の強い生徒で、任された役割はしっかりとやり遂げる。3年聞を通して図書委員を務めているが、その勤勉に仕事に取り組む姿勢には教職員の信頼も高い。"]
[null,66,"真面目な性格で、何事にも真剣な態度で臨み努力する頑張り屋である。責任感が強く、任された役割には誠意を持って取り組む。朗らかで優しい人柄は級友からも信頼されている。"]
[null,67,"世間一般の常識・ルールをわきまえた上で、自分なりの考え方・価値観を持っており、バランスのとれた中に光る個性を有した人物である。また、目的に向かって誠実に努力する頑張り屋でもある。"]
[null,68,"性格は温厚で，気持ちが優しく、人当たりがよい。協調性があり、クラスの仕事も友人とよく協力して行なった。向上心が旺盛で何事にも前向きに取り組んでいる生徒である。"]
[null,69,"誠実で、穏やかな性格で、思いやりがあり、クラスでも好かれている。責任感があり、与えられた仕事は最後までやりぬくことができる。芯が強く、向上心が旺盛で学習に対しても前向きに取り組んでいる。"]
[null,70,"素直で温厚な性格である。何事にも自分のペースを乱すことなく堅実に対処する。自分の興味のあることに対して一生騒命に取り組み頑張る生徒である。"]
[null,71,"素直で思いやりがあり、気持ちが優レい。芯はしっかりしており、しっかりとした自分を持っている。責任感があり、与えられた仕事は最後までやりぬくことができる。"]
[null,72,"素直で真面目な生徒である。堅実な性格で、自己の目標に向かい地道に努力を継続することのできる人物である。自分のペースを守りつつ周囲とも協調して行動できる。"]
[null,73,"素直で芯のしっかりした真面目な生徒である。おとなしく目立たない人物であるが、常に前向きな気持ちを持ち、粘り強く、着実に努力を重ねる勤勉な努力家である。"]
[null,74,"素直で明るい生徒である。真面目な性格で、自分の役割に対して責任を持って努力する。係等の仕事もきちんと果たした。学習においても前向きな気持ちで取り組んでいる。"]
[null,75,"素直で優しい人柄である。物事に対して前向きな気持ちを持って取り組む生徒である。真面目で勉学意欲も高く、地道に努力を重ねる。"]
[null,76,"素直で朗らかな性格である。責任感があり、係活動等の仕事をしっかりと果たした。また、行事等にもよく協力した。学習面でも前向きに努力を続けている。"]
[null,77,"素朴で、まじめな生徒で、好感がもてる。地道な努力家で、目的に向かって努力を惜しむことはない。責任感があり、与えられた仕事は最後までやりぬくことができる。"]
[null,78,"誰とでも明るく接することができ、クラスでも人気がある。粘り強い性格でいったんやりはじめたことは困難であっても最後までやりぬこうと努力することができる。責任感もあり、人望も厚い。"]
[null,79,"地道な努力家であり、やりはじめたことは困難があっても最後までやりぬこうと努力することができる。物を大切にするなど情緒面で安定しており、人当たりがよく責任感も強い。"]
[null,80,"長期的展望を持って自己の目標に向け地道に努力している生徒である。温厚な性格で、真面目である。物静かではあるが芯はしっかりしている。"]
[null,81,"努力家で向学心が強い。自分のベースを守り、流されることはない。あらゆる面で能力の高い生徒である。またしっかりとした常識人でもある。"]
[null,82,"物静かであまり目立たないが、芯はしっかりしている。地道な努力家であり、やりはじめたことは最後までやりぬくことができる。責任感がある。"]
[null,83,"物静かで温厚な生徒である。地道な努力家で、自分の決めた目標に向かって努力し続けることができる。自分の考えをしっかりと持っており、適切な判断ができる。"]
[null,84,"物静かな生徒ではあるが、物事を責任を持ってきちんとこなすことのできる生徒である。前向きに学習、部活動に取り組合み、協調性もあるので友人からの信頼も厚く好感の持てる生徒である。"]
[null,85,"豊かな感受性の持ち主で、考え方にも柔軟性があり、自分の目標に向けて着実に努力している。自分を律するのは他人ではなく、自分自身であることを自覚して行動できる生徒である。"]
[null,86,"明るく、クラスでも友人から好かれている。性格は温厚で人当たりがよい。協調性があり、クラスの仕事も友人とよく協力して行なった。まじめである。"]
[null,87,"明るく、まじめで、クラスでも信望が厚い。性格は温厚で人当たりがよい。責任感があり、与えられた仕事は最後までやりぬくことができる。地道な努力家である。"]
[null,88,"明るく、まじめで、基本的生活態度もしっかりしており、模範的な生徒である。何事も真剣に考え、堅実な行動する。芯が強く向上心が旺盛で学習に対しても前向きに取り組んでいる。"]
[null,89,"明るく、まじめで、人当たりがよく、好感の持てる生徒である。地道な努力家であり、やりはじめたことは最後まできちんとやりぬくことができる。"]
[null,90,"明るく、温厚で誰からも好かれる生徒である。真面目で堅実な性格であり、自分の目標を持って一つの事に専念し、地道に努力を続ける人物である。"]
[null,91,"明るく、活動的な生徒である。誠実な人柄で、人の嫌がることでも快く引き受け、責任を持って役割を果たす。クラスの活動や諸行事にも積極的に参加し、協力した。"]
[null,92,"明るく活発で、クラスでも友人が多い。まじめで素直な性格で責任感もある。地道な努力家でやりはじめたことは最後までやりぬくことができる。"]
[null,93,"明るく活発で、クラスでも友人が多い。地道な努力家であり、集団の中でリーダーシップをとり、やりはじめたことは積極的に最後までやりぬくことができる。責任感がある。"]
[null,94,"明るく、活発なスポーツマンであり、思いやりもあり、クラスでも好かれている。何事に対しでも冷静に対応することができる。地道な努力家であり、やりはじめたことは最後までやりぬくことができる。"]
[null,95,"明るく、人当たりがよく、クラスでも好かれている。責任感があり、芯はしっかりしている。地道な努力家であり、やりはじめたことは最後までやりぬくことができる。"]
[null,96,"明るく、素直で、活動的な生徒であり、好感が持てる。協調性もあり、クラスでの友人も多い。自分の目標に向かって努力を重ねている。"]
[null,97,"明るく、素直で、活動的な生徒である。リーダーシップをとることができ、友人の人望もある。適切な判断力をもち、行動できる。自分の目標に向かって努力を重ねている。"]
[null,98,"明るく、素直であり、好感の持てる生徒である。自分で決めたことに対して努力を惜しむことはなく、最後まで地道に取り組み、やり遂げることができる。責任感が強く安定感がある。"]
[null,99,"明るく、素直であり、誰とでも打ち解けられる。責任感があり、友人からの信望も厚い。周囲の人の意見にきちんと耳を傾けることができる。協調性もあり、自分の目標に向かって努力を重ねている。"]
[null,100,"明るく、素直な性格である。ものおじせず新しいことに取り組む進取の気性に富む。集団のリーダーになることができる。自分の役割をきちんとこなせる。"]
[null,101,"明るく、素直な性格である。社会的な関心も強く、手話等ポランアイア活動にも熱意を持って参加している。人に対する思いやりがあり、どんな人にも優しく接することができる。"]
[null,102,"明るくおおらかな性格で、何事にもプフス志向で考え、行動する生徒である。自分のベースを保ちながらも、周囲ともよく協調している。各種の行事等でも意欲的に参加する。"]
[null,103,"明るくはきはきとしており、何事にも前向きかつ積極的に取り組み、責任を持ってやり遂げることができる。対人関係も良好で強調性・社会性に富んでいる。"]
[null,104,"明るくまじめであり、何事も真剣に考え、堅実に行動する。自分の目標に向かつて努力し続けることができる。責任感もあり、クラスの友人も多い。"]
[null,105,"明るくまじめであり、何事も真剣に考え、堅実に行動する。芯が強く、向上心が旺盛で学習に対しても前向きに取り組んでいる。地道な努力家である。責任感がある。"]
[null,106,"明るく穏和な生徒である。物事に積極的に取り組み、また最後までやり通す粘り強さがある。クラスの係活動や委員等の自分の役割はしっかりと果たす。文化祭等の行事でもよく協力した。"]
[null,107,"明るく活動的な生徒である。委員等の仕事を責任を持って努めるとともに、クラスに協力的で諸活動に積極的に参加した。物事に対して前向きな気持ちで取り組む人物である。"]
[null,108,"明るく活発で、クラスでも友人が多い。リーダーシップをとることができ、物事を中心となって進めることができる。責任感があり、まじめである。"]
[null,109,"明るく活発な性格である。芯の強いしっかりした性格で何事にも積極的である。勉学意欲も高く、平素から努力を惜しまない勤勉な生徒である。薬学系進学の志望は強く、目的意識も明確である。"]
[null,110,"明るく活発な生徒である。自分の考えを持ち、主体的に行動する。何事にも一生懸命に取り組む人物で、自分の目標に向けて地道な努力を続けている。"]
[null,111,"明るく感受性豊かな中に冷静で落ち着いた判断力を持っており、友人関係も良好であった。また、将来への目的意識も明確であり、コツコツと努力する頑張り屋である"]
[null,112,"明るく実直な生徒である。ややおとなしい面があるが真面白な性格で、物事には常に前向きな態度で臨み、努力する。任された事に対じても誠実に取り組む人物である。"]
[null,113,"明るく素直で優しい性格と、親しみのある人柄から級友からも好かれている。ユーモアがあり周囲を和ませてくれる人物である。行事等の活動にも意欲的に参加した。"]
[null,114,"明るく素直な人柄である。活動意欲は旺盛で、生徒会長として活躍し、生徒会活動を始めとして諸行事に積極的に取り組んだ。学習意欲は高く、勤勉な努力家である。"]
[null,115,"明るく素直な人柄で屈託のない友人関係を築いた。反面、自分のベースと考え方をきちんと持っており、目的に向かつてコツコツと努力する頑張り屋である。"]
[null,116,"明るく優しい生徒である。責任感の強い真面白な人物で任された役割をきちんと果たす。一度取り組んだ事ならば最後までやり通す粘り強さを持っている。"]
[null,117,"明朗快活なスポーツマンで、協調性もあるので友人からの信頼も厚い。他人の気持ちや立場を理解し、行動できる社会性も持っている。また、自分の目標に向かって地道な努力をする生徒である。"]
[null,118,"明朗で、周囲の雰囲気に左右されず、自分のペースで行動することができる生徒である。社会の一員としての自覚があり、自分のなすベきことを責任を持って果たすことができる。"]
[null,119,"明朗で、物事を最後までやり通す、芯のしっかりした生徒である。文化祭等の行事においても、クラスの中心となり積極的に参加した。"]
[null,120,"明朗快活な生徒であり、学習、部活動共に意欲的に取り組んでいる。また、協調性もあり、文化祭等の行事にもクラスの中心となり活躍した。"]
[null,121,"明朗活発であり、クラスでも人気がある。協調性があり、周囲の人の意見を尊重しながら行動することができる。地道な努力家で、何事にも根気強く取り組む。"]
[null,122,"明朗活発である。クラスのまとめ役としてよく仕事を果たした。サッカ一部のマネジャーを3年間やっていたので、何事も能率よくてきぱきこなす。"]
[null,123,"明朗活発でリーダーシップのとれる生徒である。周りへの気遣いもよくできる。しっかりした自分を持っており、安心して見ていられる生徒である。"]
[null,124,"優しく、温和な性格である。真面目で、何事も真剣に考え、行動する。目的意識をはっきりと持ち普段からの努力を惜しまない。向上の意欲を持って頑張る人物である。"]
[null,125,"優しく、温和な性格の生徒である。活動的でクラスや学校行事等にも熱意を見せ、よく協力した。生徒会活動に意欲的に取り組み、各種の行事において中心的な役割を担った一人である。"]
[null,126,"優しく思いやりのある生徒で、友人にも恵まれている。常に前向きの姿勢で物事に取り組み、粘り強く努力する真面目な人物である。向学心が高く、意欲的に勉学に取り組んでいる。"]
[null,127,"落ち着きのある温厚な人柄である。何事に対しても最後までしっかりやり通す根気強さがある。真面目な生徒で、係の仕事もきちんと果たした。学習にも意欲的に取り組んでいる。"]
[null,128,"落ち着きのある物静かな生徒で、朗らかで人に優しく接する。何事においても最後までやり抜く持続力がある。向学心が旺盛で、確かな目的を持って学業に取り組み、努力を続けてきた人物である。"]
[null,129,"落ち着きがあり、素直な性格で、クラスでも好かれている。人に対する思いやりがあり、どんな人にも優しく接することができる。地道な努力家である。"]
[null,130,"冷静で落ち着いた判断力を持っており、いつも周囲に気を配って行動できる。また、目的意識が明確で、それに向けて着実に努力する頑張り屋である。"]
[null,131,"朗らかで、活発な性格である。責任感が強く、安心して物事を任せることができる。また、生徒間の信頼も得ており、友人にも恵まれている。クラスの諸活動、行事にも意欲的に参加した。"]
[null,132,"朗らかで穏やかな性格の生徒である。向上心があり、物事に対して前向きに取り組む。自分のペースを保ちながら自己の目標に向けて努力を続ける人物である。"]
[null,133,"朗らかで温厚な人柄のため友人にも恵まれている。真面目な性格で、常に物事に真剣に取り組む。係等の役割もしっかりと自覚し責任を果たす。学習面でもよく努力している。"]
[null,134,"朗らかで温和な人のよい人物で、誰からも親しまれている。実直な人柄でもあり、自分の役割を自覚し、しっかりと果たす。クラスの活動にもよく協力した。"]
[null,135,"朗らかで積極的な性格である。物事を冷静に考え、実行することができる。学習意欲は旺盛で、平素からの努力を怠らず、常に優秀な成績を修めている。クラスにもよく協力した。"]
[]
[]
[]
[null,null,null,null,"広報",null,"広報委員として、生徒会誌の発行に係わった。"]
[null,null,null,null,"生活",null,"生活委員として、正門での挨拶運動に積極的に取り組んだ。"]
[null,null,null,null,"選挙管理",null,"生徒会選挙の際、投票や集計業務に携わった。"]
[null,null,null,null,"体育行事実行",null,"体育祭や体育の授業でクラスをまとめ、中心となって活躍した。"]
[null,null,null,null,"中央",null,"中央委員として、生徒総会の準備や運営に係わった。"]
[null,null,null,null,"図書",null,"図書委員として、図書便りの発行に携わった。"]
[null,null,null,null,"美化",null,"美化委員として、校内や教室内の美化に力を入れた。"]
[null,null,null,null,"文化行事実行",null,"文化祭で、学校の中心となって企画や運営に取り組んだ。"]
[null,null,null,null,"保健",null,"保健委員として、健康診断の記録を行った。"]
[null,null,null,null,null,"HR","クラスのまとめ役として活動した。"]
[null,null,null,null,null,"学習","学習係として定期考査の日程や考査範囲をまとめた。"]
[null,null,null,null,null,"号令","毎時間の号令を担当した。"]
[null,null,null,null,null,"庶務","担任のサポートをした。"]
[null,null,null,null,null,"進路","進路行事のときに活躍した。"]
[null,null,null,null,null,"ストーブ","ストーブの消灯や灯油を運んだ。"]
[null,null,null,null,null,"電気","移動教室の時に、電気の消灯を担当した。"]
[null,null,null,null,null,"電気・ストーブ"]
[null,null,null,null,null,"秘書","担任のサポートをした。"]
[null,null,null,null,null,"文化祭クラス企画","文化祭で、クラス企画の準備や運営に中心となって取り組んだ。"]
[null,null,null,null,null,"旅行","遠足の準備に積極的に取り組んだ。"]
[]
[null,null,null,null,null,null,"日々の練習に積極的に参加し、技術の向上に努めた。"]

{"sheet":"教員データ","index":7,"n_rows":9,"n_cols":7,"rows_kept":9,"cut":false,"hidden":false,"merged":[[0,0,1,0],[0,1,0,2],[0,3,0,4],[0,5,0,6]]}
["担任一覧","20年度",null,"21年度",null,"22年度"]
[null,"担任","副担任","担任","副担任","担任","副担任"]
[1,"担任名１"]
[2,"担任名２"]
[3,"担任名３"]
[4,"担任名４"]
[5,"担任名５"]
[6,"担任名６"]
[7,"担任名７"]